{"text_format":"1","workbook":"xlsx","n_sheets":34,"sheets":["4月合計"," 3- 26"," 3- 27"," 3- 28"," 3- 29"," 3- 30"," 3- 31"," 4- 1"," 4- 2"," 4- 3"," 4- 4"," 4- 5"," 4- 6"," 4- 7"," 4- 8"," 4- 9"," 4- 10"," 4- 11"," 4- 12"," 4- 13"," 4- 14"," 4- 15"," 4- 16"," 4- 17"," 4- 18"," 4- 19"," 4- 20"," 4- 21"," 4- 22"," 4- 23"," 4- 24"," 4- 25","原本","データシート"],"not_rendered":{"charts":0,"images":0,"macros":1,"external_links":0,"defined_names":0,"comments":0,"pivot_tables":0},"unopened":[],"bounds":{"document_bytes":16777216,"sheet_cells":100000,"rows_first":2000,"rows_last":500,"rows_between":2000,"halvings":0,"cell_chars":16384,"cell_head_chars":4096},"cells_cut":0,"cells_raw":0,"read":"whole","date_system":"1900"}

{"sheet":"4月合計","index":0,"n_rows":36,"n_cols":4,"rows_kept":36,"cut":false,"hidden":false,"merged":[]}
[null,"4月の集計"]
[]
[null,null,"出勤数","賃金"]
[1,{"$f":"IF(原本!B4=\"\",\"\",原本!B4)","v":"あきら"}]
[2,{"$f":"IF(原本!B5=\"\",\"\",原本!B5)","v":"こうじ"}]
[3,{"$f":"IF(原本!B6=\"\",\"\",原本!B6)","v":"ひろかず"}]
[4,{"$f":"IF(原本!B7=\"\",\"\",原本!B7)","v":"さやか"}]
[5,{"$f":"IF(原本!B8=\"\",\"\",原本!B8)","v":"れんたろう"}]
[6,{"$f":"IF(原本!B9=\"\",\"\",原本!B9)","v":"ごろう"}]
[7,{"$f":"IF(原本!B10=\"\",\"\",原本!B10)","v":"さぶろう"}]
[8,{"$f":"IF(原本!B11=\"\",\"\",原本!B11)","v":"きみとし"}]
[9,{"$f":"IF(原本!B12=\"\",\"\",原本!B12)","v":"ぶんた"}]
[10,{"$f":"IF(原本!B13=\"\",\"\",原本!B13)","v":"あきよし"}]
[11,{"$f":"IF(原本!B14=\"\",\"\",原本!B14)","v":"つむぐ"}]
[12,{"$f":"IF(原本!B15=\"\",\"\",原本!B15)","v":"れお"}]
[13,{"$f":"IF(原本!B16=\"\",\"\",原本!B16)","v":"ひびき"}]
[14,{"$f":"IF(原本!B17=\"\",\"\",原本!B17)","v":"ゆうま"}]
[15,{"$f":"IF(原本!B18=\"\",\"\",原本!B18)","v":"こうき"}]
[16,{"$f":"IF(原本!B19=\"\",\"\",原本!B19)","v":"ゆめ"}]
[17,{"$f":"IF(原本!B20=\"\",\"\",原本!B20)","v":"こたろう"}]
[18,{"$f":"IF(原本!B21=\"\",\"\",原本!B21)","v":"ゆうしょう"}]
[19,{"$f":"IF(原本!B22=\"\",\"\",原本!B22)","v":"けんと"}]
[20,{"$f":"IF(原本!B23=\"\",\"\",原本!B23)","v":"あやか"}]
[21,{"$f":"IF(原本!B24=\"\",\"\",原本!B24)","v":"さんし"}]
[22,{"$f":"IF(原本!B25=\"\",\"\",原本!B25)","v":""}]
[23,{"$f":"IF(原本!B26=\"\",\"\",原本!B26)","v":""}]
[24,{"$f":"IF(原本!B27=\"\",\"\",原本!B27)","v":""}]
[25,{"$f":"IF(原本!B28=\"\",\"\",原本!B28)","v":""}]
[26,{"$f":"IF(原本!B29=\"\",\"\",原本!B29)","v":""}]
[27,{"$f":"IF(原本!B30=\"\",\"\",原本!B30)","v":""}]
[28,{"$f":"IF(原本!B31=\"\",\"\",原本!B31)","v":""}]
[29,{"$f":"IF(原本!B32=\"\",\"\",原本!B32)","v":""}]
[30,{"$f":"IF(原本!B33=\"\",\"\",原本!B33)","v":""}]
[]
[null,"総賃金額"]
[null,{"$f":"SUM(D4:D33)","v":0}]

{"sheet":" 3- 26","index":1,"n_rows":36,"n_cols":19,"rows_kept":36,"cut":false,"hidden":false,"merged":[[1,9,2,9],[1,0,2,0],[1,1,2,1],[1,2,1,3],[1,4,1,5],[1,7,2,7],[1,8,2,8]]}
[null,"2021-03-26"]
["番号","氏名","勤務開始",null,"勤務終了",null,"休憩時間","時給区分","加算額","賃金"]
[null,null,"時","分","時","分","分間",null,null,null,"開始時刻","終了時刻","休憩時間","労働時間","時給","労働賃金","加算額","賃金計","出勤"]
[1,"あきら",null,null,null,null,null,null,null,{"$f":"R4","v":""},{"$f":"IF(C4=\"\",\"\",C4&\":\"&D4)","v":""},{"$f":"IF(C4=\"\",\"\",E4&\":\"&F4)","v":""},{"$f":"IF(G4=\"\",\"00:00\",\"00:\"&G4)","v":"00:00"},{"$f":"IF(K4=\"\",\"\",L4-K4-M4)","v":""},{"$f":"IF(H4=\"\",\"\",VLOOKUP(H4,データシート!$D$2:$E$5,2))","v":""},{"$f":"IF(K4=\"\",\"\",N4*24*O4)","v":""},{"$f":"IF(I4=\"\",0,I4)","v":0},{"$f":"IF(K4=\"\",\"\",ROUNDUP(P4+Q4,0))","v":""},{"$f":"IF(C4=\"\",0,1)","v":0}]
[2,"こうじ",null,null,null,null,null,null,null,"",{"$f":"IF(C5=\"\",\"\",C5&\":\"&D5)","v":""},{"$f":"IF(C5=\"\",\"\",E5&\":\"&F5)","v":""},{"$f":"IF(G5=\"\",\"00:00\",\"00:\"&G5)","v":"00:00"},{"$f":"IF(K5=\"\",\"\",L5-K5-M5)","v":""},{"$f":"IF(H5=\"\",\"\",VLOOKUP(H5,データシート!$D$2:$E$5,2))","v":""},{"$f":"IF(K5=\"\",\"\",N5*24*O5)","v":""},{"$f":"IF(I5=\"\",0,I5)","v":0},{"$f":"IF(K5=\"\",\"\",ROUNDUP(P5+Q5,0))","v":""},{"$f":"IF(C5=\"\",0,1)","v":0}]
[3,"ひろかず",null,null,null,null,null,null,null,"","","","00:00","",{"$f":"IF(H6=\"\",\"\",VLOOKUP(H6,データシート!$D$2:$E$5,2))","v":""},"",0,"",0]
[4,"さやか",null,null,null,null,null,null,null,"","","","00:00","",{"$f":"IF(H7=\"\",\"\",VLOOKUP(H7,データシート!$D$2:$E$5,2))","v":""},"",0,"",0]
[5,"れんたろう",null,null,null,null,null,null,null,"","","","00:00","",{"$f":"IF(H8=\"\",\"\",VLOOKUP(H8,データシート!$D$2:$E$5,2))","v":""},"",0,"",0]
[6,"ごろう",null,null,null,null,null,null,null,"","","","00:00","",{"$f":"IF(H9=\"\",\"\",VLOOKUP(H9,データシート!$D$2:$E$5,2))","v":""},"",0,"",0]
[7,"さぶろう",null,null,null,null,null,null,null,"","","","00:00","",{"$f":"IF(H10=\"\",\"\",VLOOKUP(H10,データシート!$D$2:$E$5,2))","v":""},"",0,"",0]
[8,"きみとし",null,null,null,null,null,null,null,"","","","00:00","",{"$f":"IF(H11=\"\",\"\",VLOOKUP(H11,データシート!$D$2:$E$5,2))","v":""},"",0,"",0]
[9,"ぶんた",null,null,null,null,null,null,null,"","","","00:00","",{"$f":"IF(H12=\"\",\"\",VLOOKUP(H12,データシート!$D$2:$E$5,2))","v":""},"",0,"",0]
[10,"あきよし",null,null,null,null,null,null,null,"","","","00:00","",{"$f":"IF(H13=\"\",\"\",VLOOKUP(H13,データシート!$D$2:$E$5,2))","v":""},"",0,"",0]
[11,"つむぐ",null,null,null,null,null,null,null,"","","","00:00","",{"$f":"IF(H14=\"\",\"\",VLOOKUP(H14,データシート!$D$2:$E$5,2))","v":""},"",0,"",0]
[12,"れお",null,null,null,null,null,null,null,"","","","00:00","",{"$f":"IF(H15=\"\",\"\",VLOOKUP(H15,データシート!$D$2:$E$5,2))","v":""},"",0,"",0]
[13,"ひびき",null,null,null,null,null,null,null,"","","","00:00","",{"$f":"IF(H16=\"\",\"\",VLOOKUP(H16,データシート!$D$2:$E$5,2))","v":""},"",0,"",0]
[14,"ゆうま",null,null,null,null,null,null,null,"","","","00:00","",{"$f":"IF(H17=\"\",\"\",VLOOKUP(H17,データシート!$D$2:$E$5,2))","v":""},"",0,"",0]
[15,"こうき",null,null,null,null,null,null,null,"","","","00:00","",{"$f":"IF(H18=\"\",\"\",VLOOKUP(H18,データシート!$D$2:$E$5,2))","v":""},"",0,"",0]
[16,"ゆめ",null,null,null,null,null,null,null,"","","","00:00","",{"$f":"IF(H19=\"\",\"\",VLOOKUP(H19,データシート!$D$2:$E$5,2))","v":""},"",0,"",0]
[17,"こたろう",null,null,null,null,null,null,null,"","","","00:00","",{"$f":"IF(H20=\"\",\"\",VLOOKUP(H20,データシート!$D$2:$E$5,2))","v":""},"",0,"",0]
[18,"ゆうしょう",null,null,null,null,null,null,null,"","","","00:00","",{"$f":"IF(H21=\"\",\"\",VLOOKUP(H21,データシート!$D$2:$E$5,2))","v":""},"",0,"",0]
[19,"けんと",null,null,null,null,null,null,null,"","","","00:00","",{"$f":"IF(H22=\"\",\"\",VLOOKUP(H22,データシート!$D$2:$E$5,2))","v":""},"",0,"",0]
[20,"あやか",null,null,null,null,null,null,null,"","","","00:00","",{"$f":"IF(H23=\"\",\"\",VLOOKUP(H23,データシート!$D$2:$E$5,2))","v":""},"",0,"",0]
[21,"さんし",null,null,null,null,null,null,null,"","","","00:00","",{"$f":"IF(H24=\"\",\"\",VLOOKUP(H24,データシート!$D$2:$E$5,2))","v":""},"",0,"",0]
[22,null,null,null,null,null,null,null,null,"","","","00:00","",{"$f":"IF(H25=\"\",\"\",VLOOKUP(H25,データシート!$D$2:$E$5,2))","v":""},"",0,"",0]
[23,null,null,null,null,null,null,null,null,"","","","00:00","",{"$f":"IF(H26=\"\",\"\",VLOOKUP(H26,データシート!$D$2:$E$5,2))","v":""},"",0,"",0]
[24,null,null,null,null,null,null,null,null,"","","","00:00","",{"$f":"IF(H27=\"\",\"\",VLOOKUP(H27,データシート!$D$2:$E$5,2))","v":""},"",0,"",0]
[25,null,null,null,null,null,null,null,null,"","","","00:00","",{"$f":"IF(H28=\"\",\"\",VLOOKUP(H28,データシート!$D$2:$E$5,2))","v":""},"",0,"",0]
[26,null,null,null,null,null,null,null,null,"","","","00:00","",{"$f":"IF(H29=\"\",\"\",VLOOKUP(H29,データシート!$D$2:$E$5,2))","v":""},"",0,"",0]
[27,null,null,null,null,null,null,null,null,"","","","00:00","",{"$f":"IF(H30=\"\",\"\",VLOOKUP(H30,データシート!$D$2:$E$5,2))","v":""},"",0,"",0]
[28,null,null,null,null,null,null,null,null,"","","","00:00","",{"$f":"IF(H31=\"\",\"\",VLOOKUP(H31,データシート!$D$2:$E$5,2))","v":""},"",0,"",0]
[29,null,null,null,null,null,null,null,null,"","","","00:00","",{"$f":"IF(H32=\"\",\"\",VLOOKUP(H32,データシート!$D$2:$E$5,2))","v":""},"",0,"",0]
[30,null,null,null,null,null,null,null,null,"","","","00:00","",{"$f":"IF(H33=\"\",\"\",VLOOKUP(H33,データシート!$D$2:$E$5,2))","v":""},"",0,"",0]
[]
[null,"勤務者数","総労働時間","総賃金"]
[null,{"$f":"COUNTA(C4:C33)","v":0},{"$f":"SUM(N4:N33)","v":"00:00:00"},{"$f":"SUM(R4:R33)","v":0}]

{"sheet":" 3- 27","index":2,"n_rows":36,"n_cols":19,"rows_kept":36,"cut":false,"hidden":false,"merged":[[1,9,2,9],[1,0,2,0],[1,1,2,1],[1,2,1,3],[1,4,1,5],[1,7,2,7],[1,8,2,8]]}
[null,"2021-03-27"]
["番号","氏名","勤務開始",null,"勤務終了",null,"休憩時間","時給区分","加算額","賃金"]
[null,null,"時","分","時","分","分間",null,null,null,"開始時刻","終了時刻","休憩時間","労働時間","時給","労働賃金","加算額","賃金計","出勤"]
[1,"あきら",null,null,null,null,null,null,null,{"$f":"R4","v":""},{"$f":"IF(C4=\"\",\"\",C4&\":\"&D4)","v":""},{"$f":"IF(C4=\"\",\"\",E4&\":\"&F4)","v":""},{"$f":"IF(G4=\"\",\"00:00\",\"00:\"&G4)","v":"00:00"},{"$f":"IF(K4=\"\",\"\",L4-K4-M4)","v":""},{"$f":"IF(H4=\"\",\"\",VLOOKUP(H4,データシート!$D$2:$E$5,2))","v":""},{"$f":"IF(K4=\"\",\"\",N4*24*O4)","v":""},{"$f":"IF(I4=\"\",0,I4)","v":0},{"$f":"IF(K4=\"\",\"\",ROUNDUP(P4+Q4,0))","v":""},{"$f":"IF(C4=\"\",0,1)","v":0}]
[2,"こうじ",null,null,null,null,null,null,null,"",{"$f":"IF(C5=\"\",\"\",C5&\":\"&D5)","v":""},{"$f":"IF(C5=\"\",\"\",E5&\":\"&F5)","v":""},{"$f":"IF(G5=\"\",\"00:00\",\"00:\"&G5)","v":"00:00"},{"$f":"IF(K5=\"\",\"\",L5-K5-M5)","v":""},{"$f":"IF(H5=\"\",\"\",VLOOKUP(H5,データシート!$D$2:$E$5,2))","v":""},{"$f":"IF(K5=\"\",\"\",N5*24*O5)","v":""},{"$f":"IF(I5=\"\",0,I5)","v":0},{"$f":"IF(K5=\"\",\"\",ROUNDUP(P5+Q5,0))","v":""},{"$f":"IF(C5=\"\",0,1)","v":0}]
[3,"ひろかず",null,null,null,null,null,null,null,"","","","00:00","",{"$f":"IF(H6=\"\",\"\",VLOOKUP(H6,データシート!$D$2:$E$5,2))","v":""},"",0,"",0]
[4,"さやか",null,null,null,null,null,null,null,"","","","00:00","",{"$f":"IF(H7=\"\",\"\",VLOOKUP(H7,データシート!$D$2:$E$5,2))","v":""},"",0,"",0]
[5,"れんたろう",null,null,null,null,null,null,null,"","","","00:00","",{"$f":"IF(H8=\"\",\"\",VLOOKUP(H8,データシート!$D$2:$E$5,2))","v":""},"",0,"",0]
[6,"ごろう",null,null,null,null,null,null,null,"","","","00:00","",{"$f":"IF(H9=\"\",\"\",VLOOKUP(H9,データシート!$D$2:$E$5,2))","v":""},"",0,"",0]
[7,"さぶろう",null,null,null,null,null,null,null,"","","","00:00","",{"$f":"IF(H10=\"\",\"\",VLOOKUP(H10,データシート!$D$2:$E$5,2))","v":""},"",0,"",0]
[8,"きみとし",null,null,null,null,null,null,null,"","","","00:00","",{"$f":"IF(H11=\"\",\"\",VLOOKUP(H11,データシート!$D$2:$E$5,2))","v":""},"",0,"",0]
[9,"ぶんた",null,null,null,null,null,null,null,"","","","00:00","",{"$f":"IF(H12=\"\",\"\",VLOOKUP(H12,データシート!$D$2:$E$5,2))","v":""},"",0,"",0]
[10,"あきよし",null,null,null,null,null,null,null,"","","","00:00","",{"$f":"IF(H13=\"\",\"\",VLOOKUP(H13,データシート!$D$2:$E$5,2))","v":""},"",0,"",0]
[11,"つむぐ",null,null,null,null,null,null,null,"","","","00:00","",{"$f":"IF(H14=\"\",\"\",VLOOKUP(H14,データシート!$D$2:$E$5,2))","v":""},"",0,"",0]
[12,"れお",null,null,null,null,null,null,null,"","","","00:00","",{"$f":"IF(H15=\"\",\"\",VLOOKUP(H15,データシート!$D$2:$E$5,2))","v":""},"",0,"",0]
[13,"ひびき",null,null,null,null,null,null,null,"","","","00:00","",{"$f":"IF(H16=\"\",\"\",VLOOKUP(H16,データシート!$D$2:$E$5,2))","v":""},"",0,"",0]
[14,"ゆうま",null,null,null,null,null,null,null,"","","","00:00","",{"$f":"IF(H17=\"\",\"\",VLOOKUP(H17,データシート!$D$2:$E$5,2))","v":""},"",0,"",0]
[15,"こうき",null,null,null,null,null,null,null,"","","","00:00","",{"$f":"IF(H18=\"\",\"\",VLOOKUP(H18,データシート!$D$2:$E$5,2))","v":""},"",0,"",0]
[16,"ゆめ",null,null,null,null,null,null,null,"","","","00:00","",{"$f":"IF(H19=\"\",\"\",VLOOKUP(H19,データシート!$D$2:$E$5,2))","v":""},"",0,"",0]
[17,"こたろう",null,null,null,null,null,null,null,"","","","00:00","",{"$f":"IF(H20=\"\",\"\",VLOOKUP(H20,データシート!$D$2:$E$5,2))","v":""},"",0,"",0]
[18,"ゆうしょう",null,null,null,null,null,null,null,"","","","00:00","",{"$f":"IF(H21=\"\",\"\",VLOOKUP(H21,データシート!$D$2:$E$5,2))","v":""},"",0,"",0]
[19,"けんと",null,null,null,null,null,null,null,"","","","00:00","",{"$f":"IF(H22=\"\",\"\",VLOOKUP(H22,データシート!$D$2:$E$5,2))","v":""},"",0,"",0]
[20,"あやか",null,null,null,null,null,null,null,"","","","00:00","",{"$f":"IF(H23=\"\",\"\",VLOOKUP(H23,データシート!$D$2:$E$5,2))","v":""},"",0,"",0]
[21,"さんし",null,null,null,null,null,null,null,"","","","00:00","",{"$f":"IF(H24=\"\",\"\",VLOOKUP(H24,データシート!$D$2:$E$5,2))","v":""},"",0,"",0]
[22,null,null,null,null,null,null,null,null,"","","","00:00","",{"$f":"IF(H25=\"\",\"\",VLOOKUP(H25,データシート!$D$2:$E$5,2))","v":""},"",0,"",0]
[23,null,null,null,null,null,null,null,null,"","","","00:00","",{"$f":"IF(H26=\"\",\"\",VLOOKUP(H26,データシート!$D$2:$E$5,2))","v":""},"",0,"",0]
[24,null,null,null,null,null,null,null,null,"","","","00:00","",{"$f":"IF(H27=\"\",\"\",VLOOKUP(H27,データシート!$D$2:$E$5,2))","v":""},"",0,"",0]
[25,null,null,null,null,null,null,null,null,"","","","00:00","",{"$f":"IF(H28=\"\",\"\",VLOOKUP(H28,データシート!$D$2:$E$5,2))","v":""},"",0,"",0]
[26,null,null,null,null,null,null,null,null,"","","","00:00","",{"$f":"IF(H29=\"\",\"\",VLOOKUP(H29,データシート!$D$2:$E$5,2))","v":""},"",0,"",0]
[27,null,null,null,null,null,null,null,null,"","","","00:00","",{"$f":"IF(H30=\"\",\"\",VLOOKUP(H30,データシート!$D$2:$E$5,2))","v":""},"",0,"",0]
[28,null,null,null,null,null,null,null,null,"","","","00:00","",{"$f":"IF(H31=\"\",\"\",VLOOKUP(H31,データシート!$D$2:$E$5,2))","v":""},"",0,"",0]
[29,null,null,null,null,null,null,null,null,"","","","00:00","",{"$f":"IF(H32=\"\",\"\",VLOOKUP(H32,データシート!$D$2:$E$5,2))","v":""},"",0,"",0]
[30,null,null,null,null,null,null,null,null,"","","","00:00","",{"$f":"IF(H33=\"\",\"\",VLOOKUP(H33,データシート!$D$2:$E$5,2))","v":""},"",0,"",0]
[]
[null,"勤務者数","総労働時間","総賃金"]
[null,{"$f":"COUNTA(C4:C33)","v":0},{"$f":"SUM(N4:N33)","v":"00:00:00"},{"$f":"SUM(R4:R33)","v":0}]

{"sheet":" 3- 28","index":3,"n_rows":36,"n_cols":19,"rows_kept":36,"cut":false,"hidden":false,"merged":[[1,9,2,9],[1,0,2,0],[1,1,2,1],[1,2,1,3],[1,4,1,5],[1,7,2,7],[1,8,2,8]]}
[null,"2021-03-28"]
["番号","氏名","勤務開始",null,"勤務終了",null,"休憩時間","時給区分","加算額","賃金"]
[null,null,"時","分","時","分","分間",null,null,null,"開始時刻","終了時刻","休憩時間","労働時間","時給","労働賃金","加算額","賃金計","出勤"]
[1,"あきら",null,null,null,null,null,null,null,{"$f":"R4","v":""},{"$f":"IF(C4=\"\",\"\",C4&\":\"&D4)","v":""},{"$f":"IF(C4=\"\",\"\",E4&\":\"&F4)","v":""},{"$f":"IF(G4=\"\",\"00:00\",\"00:\"&G4)","v":"00:00"},{"$f":"IF(K4=\"\",\"\",L4-K4-M4)","v":""},{"$f":"IF(H4=\"\",\"\",VLOOKUP(H4,データシート!$D$2:$E$5,2))","v":""},{"$f":"IF(K4=\"\",\"\",N4*24*O4)","v":""},{"$f":"IF(I4=\"\",0,I4)","v":0},{"$f":"IF(K4=\"\",\"\",ROUNDUP(P4+Q4,0))","v":""},{"$f":"IF(C4=\"\",0,1)","v":0}]
[2,"こうじ",null,null,null,null,null,null,null,"",{"$f":"IF(C5=\"\",\"\",C5&\":\"&D5)","v":""},{"$f":"IF(C5=\"\",\"\",E5&\":\"&F5)","v":""},{"$f":"IF(G5=\"\",\"00:00\",\"00:\"&G5)","v":"00:00"},{"$f":"IF(K5=\"\",\"\",L5-K5-M5)","v":""},{"$f":"IF(H5=\"\",\"\",VLOOKUP(H5,データシート!$D$2:$E$5,2))","v":""},{"$f":"IF(K5=\"\",\"\",N5*24*O5)","v":""},{"$f":"IF(I5=\"\",0,I5)","v":0},{"$f":"IF(K5=\"\",\"\",ROUNDUP(P5+Q5,0))","v":""},{"$f":"IF(C5=\"\",0,1)","v":0}]
[3,"ひろかず",null,null,null,null,null,null,null,"","","","00:00","",{"$f":"IF(H6=\"\",\"\",VLOOKUP(H6,データシート!$D$2:$E$5,2))","v":""},"",0,"",0]
[4,"さやか",null,null,null,null,null,null,null,"","","","00:00","",{"$f":"IF(H7=\"\",\"\",VLOOKUP(H7,データシート!$D$2:$E$5,2))","v":""},"",0,"",0]
[5,"れんたろう",null,null,null,null,null,null,null,"","","","00:00","",{"$f":"IF(H8=\"\",\"\",VLOOKUP(H8,データシート!$D$2:$E$5,2))","v":""},"",0,"",0]
[6,"ごろう",null,null,null,null,null,null,null,"","","","00:00","",{"$f":"IF(H9=\"\",\"\",VLOOKUP(H9,データシート!$D$2:$E$5,2))","v":""},"",0,"",0]
[7,"さぶろう",null,null,null,null,null,null,null,"","","","00:00","",{"$f":"IF(H10=\"\",\"\",VLOOKUP(H10,データシート!$D$2:$E$5,2))","v":""},"",0,"",0]
[8,"きみとし",null,null,null,null,null,null,null,"","","","00:00","",{"$f":"IF(H11=\"\",\"\",VLOOKUP(H11,データシート!$D$2:$E$5,2))","v":""},"",0,"",0]
[9,"ぶんた",null,null,null,null,null,null,null,"","","","00:00","",{"$f":"IF(H12=\"\",\"\",VLOOKUP(H12,データシート!$D$2:$E$5,2))","v":""},"",0,"",0]
[10,"あきよし",null,null,null,null,null,null,null,"","","","00:00","",{"$f":"IF(H13=\"\",\"\",VLOOKUP(H13,データシート!$D$2:$E$5,2))","v":""},"",0,"",0]
[11,"つむぐ",null,null,null,null,null,null,null,"","","","00:00","",{"$f":"IF(H14=\"\",\"\",VLOOKUP(H14,データシート!$D$2:$E$5,2))","v":""},"",0,"",0]
[12,"れお",null,null,null,null,null,null,null,"","","","00:00","",{"$f":"IF(H15=\"\",\"\",VLOOKUP(H15,データシート!$D$2:$E$5,2))","v":""},"",0,"",0]
[13,"ひびき",null,null,null,null,null,null,null,"","","","00:00","",{"$f":"IF(H16=\"\",\"\",VLOOKUP(H16,データシート!$D$2:$E$5,2))","v":""},"",0,"",0]
[14,"ゆうま",null,null,null,null,null,null,null,"","","","00:00","",{"$f":"IF(H17=\"\",\"\",VLOOKUP(H17,データシート!$D$2:$E$5,2))","v":""},"",0,"",0]
[15,"こうき",null,null,null,null,null,null,null,"","","","00:00","",{"$f":"IF(H18=\"\",\"\",VLOOKUP(H18,データシート!$D$2:$E$5,2))","v":""},"",0,"",0]
[16,"ゆめ",null,null,null,null,null,null,null,"","","","00:00","",{"$f":"IF(H19=\"\",\"\",VLOOKUP(H19,データシート!$D$2:$E$5,2))","v":""},"",0,"",0]
[17,"こたろう",null,null,null,null,null,null,null,"","","","00:00","",{"$f":"IF(H20=\"\",\"\",VLOOKUP(H20,データシート!$D$2:$E$5,2))","v":""},"",0,"",0]
[18,"ゆうしょう",null,null,null,null,null,null,null,"","","","00:00","",{"$f":"IF(H21=\"\",\"\",VLOOKUP(H21,データシート!$D$2:$E$5,2))","v":""},"",0,"",0]
[19,"けんと",null,null,null,null,null,null,null,"","","","00:00","",{"$f":"IF(H22=\"\",\"\",VLOOKUP(H22,データシート!$D$2:$E$5,2))","v":""},"",0,"",0]
[20,"あやか",null,null,null,null,null,null,null,"","","","00:00","",{"$f":"IF(H23=\"\",\"\",VLOOKUP(H23,データシート!$D$2:$E$5,2))","v":""},"",0,"",0]
[21,"さんし",null,null,null,null,null,null,null,"","","","00:00","",{"$f":"IF(H24=\"\",\"\",VLOOKUP(H24,データシート!$D$2:$E$5,2))","v":""},"",0,"",0]
[22,null,null,null,null,null,null,null,null,"","","","00:00","",{"$f":"IF(H25=\"\",\"\",VLOOKUP(H25,データシート!$D$2:$E$5,2))","v":""},"",0,"",0]
[23,null,null,null,null,null,null,null,null,"","","","00:00","",{"$f":"IF(H26=\"\",\"\",VLOOKUP(H26,データシート!$D$2:$E$5,2))","v":""},"",0,"",0]
[24,null,null,null,null,null,null,null,null,"","","","00:00","",{"$f":"IF(H27=\"\",\"\",VLOOKUP(H27,データシート!$D$2:$E$5,2))","v":""},"",0,"",0]
[25,null,null,null,null,null,null,null,null,"","","","00:00","",{"$f":"IF(H28=\"\",\"\",VLOOKUP(H28,データシート!$D$2:$E$5,2))","v":""},"",0,"",0]
[26,null,null,null,null,null,null,null,null,"","","","00:00","",{"$f":"IF(H29=\"\",\"\",VLOOKUP(H29,データシート!$D$2:$E$5,2))","v":""},"",0,"",0]
[27,null,null,null,null,null,null,null,null,"","","","00:00","",{"$f":"IF(H30=\"\",\"\",VLOOKUP(H30,データシート!$D$2:$E$5,2))","v":""},"",0,"",0]
[28,null,null,null,null,null,null,null,null,"","","","00:00","",{"$f":"IF(H31=\"\",\"\",VLOOKUP(H31,データシート!$D$2:$E$5,2))","v":""},"",0,"",0]
[29,null,null,null,null,null,null,null,null,"","","","00:00","",{"$f":"IF(H32=\"\",\"\",VLOOKUP(H32,データシート!$D$2:$E$5,2))","v":""},"",0,"",0]
[30,null,null,null,null,null,null,null,null,"","","","00:00","",{"$f":"IF(H33=\"\",\"\",VLOOKUP(H33,データシート!$D$2:$E$5,2))","v":""},"",0,"",0]
[]
[null,"勤務者数","総労働時間","総賃金"]
[null,{"$f":"COUNTA(C4:C33)","v":0},{"$f":"SUM(N4:N33)","v":"00:00:00"},{"$f":"SUM(R4:R33)","v":0}]

{"sheet":" 3- 29","index":4,"n_rows":36,"n_cols":19,"rows_kept":36,"cut":false,"hidden":false,"merged":[[1,9,2,9],[1,0,2,0],[1,1,2,1],[1,2,1,3],[1,4,1,5],[1,7,2,7],[1,8,2,8]]}
[null,"2021-03-29"]
["番号","氏名","勤務開始",null,"勤務終了",null,"休憩時間","時給区分","加算額","賃金"]
[null,null,"時","分","時","分","分間",null,null,null,"開始時刻","終了時刻","休憩時間","労働時間","時給","労働賃金","加算額","賃金計","出勤"]
[1,"あきら","07","00","13","45",null,"A",null,{"$f":"R4","v":6075},{"$f":"IF(C4=\"\",\"\",C4&\":\"&D4)","v":"07:00"},{"$f":"IF(C4=\"\",\"\",E4&\":\"&F4)","v":"13:45"},{"$f":"IF(G4=\"\",\"00:00\",\"00:\"&G4)","v":"00:00"},{"$f":"IF(K4=\"\",\"\",L4-K4-M4)","v":"06:45:00"},{"$f":"IF(H4=\"\",\"\",VLOOKUP(H4,データシート!$D$2:$E$5,2))","v":900},{"$f":"IF(K4=\"\",\"\",N4*24*O4)","v":6074.9999999999982},{"$f":"IF(I4=\"\",0,I4)","v":0},{"$f":"IF(K4=\"\",\"\",ROUNDUP(P4+Q4,0))","v":6075},{"$f":"IF(C4=\"\",0,1)","v":1}]
[2,"こうじ",null,null,null,null,null,null,null,"",{"$f":"IF(C5=\"\",\"\",C5&\":\"&D5)","v":""},{"$f":"IF(C5=\"\",\"\",E5&\":\"&F5)","v":""},{"$f":"IF(G5=\"\",\"00:00\",\"00:\"&G5)","v":"00:00"},{"$f":"IF(K5=\"\",\"\",L5-K5-M5)","v":""},{"$f":"IF(H5=\"\",\"\",VLOOKUP(H5,データシート!$D$2:$E$5,2))","v":""},{"$f":"IF(K5=\"\",\"\",N5*24*O5)","v":""},{"$f":"IF(I5=\"\",0,I5)","v":0},{"$f":"IF(K5=\"\",\"\",ROUNDUP(P5+Q5,0))","v":""},{"$f":"IF(C5=\"\",0,1)","v":0}]
[3,"ひろかず",null,null,null,null,null,null,null,"","","","00:00","",{"$f":"IF(H6=\"\",\"\",VLOOKUP(H6,データシート!$D$2:$E$5,2))","v":""},"",0,"",0]
[4,"さやか",null,null,null,null,null,null,null,"","","","00:00","",{"$f":"IF(H7=\"\",\"\",VLOOKUP(H7,データシート!$D$2:$E$5,2))","v":""},"",0,"",0]
[5,"れんたろう",null,null,null,null,null,null,null,"","","","00:00","",{"$f":"IF(H8=\"\",\"\",VLOOKUP(H8,データシート!$D$2:$E$5,2))","v":""},"",0,"",0]
[6,"ごろう",null,null,null,null,null,null,null,"","","","00:00","",{"$f":"IF(H9=\"\",\"\",VLOOKUP(H9,データシート!$D$2:$E$5,2))","v":""},"",0,"",0]
[7,"さぶろう",null,null,null,null,null,null,null,"","","","00:00","",{"$f":"IF(H10=\"\",\"\",VLOOKUP(H10,データシート!$D$2:$E$5,2))","v":""},"",0,"",0]
[8,"きみとし",null,null,null,null,null,null,null,"","","","00:00","",{"$f":"IF(H11=\"\",\"\",VLOOKUP(H11,データシート!$D$2:$E$5,2))","v":""},"",0,"",0]
[9,"ぶんた",null,null,null,null,null,null,null,"","","","00:00","",{"$f":"IF(H12=\"\",\"\",VLOOKUP(H12,データシート!$D$2:$E$5,2))","v":""},"",0,"",0]
[10,"あきよし",null,null,null,null,null,null,null,"","","","00:00","",{"$f":"IF(H13=\"\",\"\",VLOOKUP(H13,データシート!$D$2:$E$5,2))","v":""},"",0,"",0]
[11,"つむぐ",null,null,null,null,null,null,null,"","","","00:00","",{"$f":"IF(H14=\"\",\"\",VLOOKUP(H14,データシート!$D$2:$E$5,2))","v":""},"",0,"",0]
[12,"れお",null,null,null,null,null,null,null,"","","","00:00","",{"$f":"IF(H15=\"\",\"\",VLOOKUP(H15,データシート!$D$2:$E$5,2))","v":""},"",0,"",0]
[13,"ひびき",null,null,null,null,null,null,null,"","","","00:00","",{"$f":"IF(H16=\"\",\"\",VLOOKUP(H16,データシート!$D$2:$E$5,2))","v":""},"",0,"",0]
[14,"ゆうま",null,null,null,null,null,null,null,"","","","00:00","",{"$f":"IF(H17=\"\",\"\",VLOOKUP(H17,データシート!$D$2:$E$5,2))","v":""},"",0,"",0]
[15,"こうき",null,null,null,null,null,null,null,"","","","00:00","",{"$f":"IF(H18=\"\",\"\",VLOOKUP(H18,データシート!$D$2:$E$5,2))","v":""},"",0,"",0]
[16,"ゆめ",null,null,null,null,null,null,null,"","","","00:00","",{"$f":"IF(H19=\"\",\"\",VLOOKUP(H19,データシート!$D$2:$E$5,2))","v":""},"",0,"",0]
[17,"こたろう",null,null,null,null,null,null,null,"","","","00:00","",{"$f":"IF(H20=\"\",\"\",VLOOKUP(H20,データシート!$D$2:$E$5,2))","v":""},"",0,"",0]
[18,"ゆうしょう",null,null,null,null,null,null,null,"","","","00:00","",{"$f":"IF(H21=\"\",\"\",VLOOKUP(H21,データシート!$D$2:$E$5,2))","v":""},"",0,"",0]
[19,"けんと",null,null,null,null,null,null,null,"","","","00:00","",{"$f":"IF(H22=\"\",\"\",VLOOKUP(H22,データシート!$D$2:$E$5,2))","v":""},"",0,"",0]
[20,"あやか",null,null,null,null,null,null,null,"","","","00:00","",{"$f":"IF(H23=\"\",\"\",VLOOKUP(H23,データシート!$D$2:$E$5,2))","v":""},"",0,"",0]
[21,"さんし",null,null,null,null,null,null,null,"","","","00:00","",{"$f":"IF(H24=\"\",\"\",VLOOKUP(H24,データシート!$D$2:$E$5,2))","v":""},"",0,"",0]
[22,null,null,null,null,null,null,null,null,"","","","00:00","",{"$f":"IF(H25=\"\",\"\",VLOOKUP(H25,データシート!$D$2:$E$5,2))","v":""},"",0,"",0]
[23,null,null,null,null,null,null,null,null,"","","","00:00","",{"$f":"IF(H26=\"\",\"\",VLOOKUP(H26,データシート!$D$2:$E$5,2))","v":""},"",0,"",0]
[24,null,null,null,null,null,null,null,null,"","","","00:00","",{"$f":"IF(H27=\"\",\"\",VLOOKUP(H27,データシート!$D$2:$E$5,2))","v":""},"",0,"",0]
[25,null,null,null,null,null,null,null,null,"","","","00:00","",{"$f":"IF(H28=\"\",\"\",VLOOKUP(H28,データシート!$D$2:$E$5,2))","v":""},"",0,"",0]
[26,null,null,null,null,null,null,null,null,"","","","00:00","",{"$f":"IF(H29=\"\",\"\",VLOOKUP(H29,データシート!$D$2:$E$5,2))","v":""},"",0,"",0]
[27,null,null,null,null,null,null,null,null,"","","","00:00","",{"$f":"IF(H30=\"\",\"\",VLOOKUP(H30,データシート!$D$2:$E$5,2))","v":""},"",0,"",0]
[28,null,null,null,null,null,null,null,null,"","","","00:00","",{"$f":"IF(H31=\"\",\"\",VLOOKUP(H31,データシート!$D$2:$E$5,2))","v":""},"",0,"",0]
[29,null,null,null,null,null,null,null,null,"","","","00:00","",{"$f":"IF(H32=\"\",\"\",VLOOKUP(H32,データシート!$D$2:$E$5,2))","v":""},"",0,"",0]
[30,null,null,null,null,null,null,null,null,"","","","00:00","",{"$f":"IF(H33=\"\",\"\",VLOOKUP(H33,データシート!$D$2:$E$5,2))","v":""},"",0,"",0]
[]
[null,"勤務者数","総労働時間","総賃金"]
[null,{"$f":"COUNTA(C4:C33)","v":1},{"$f":"SUM(N4:N33)","v":"06:45:00"},{"$f":"SUM(R4:R33)","v":6075}]

{"sheet":" 3- 30","index":5,"n_rows":36,"n_cols":19,"rows_kept":36,"cut":false,"hidden":false,"merged":[[1,9,2,9],[1,0,2,0],[1,1,2,1],[1,2,1,3],[1,4,1,5],[1,7,2,7],[1,8,2,8]]}
[null,"2021-03-30"]
["番号","氏名","勤務開始",null,"勤務終了",null,"休憩時間","時給区分","加算額","賃金"]
[null,null,"時","分","時","分","分間",null,null,null,"開始時刻","終了時刻","休憩時間","労働時間","時給","労働賃金","加算額","賃金計","出勤"]
[1,"あきら",null,null,null,null,null,null,null,{"$f":"R4","v":""},{"$f":"IF(C4=\"\",\"\",C4&\":\"&D4)","v":""},{"$f":"IF(C4=\"\",\"\",E4&\":\"&F4)","v":""},{"$f":"IF(G4=\"\",\"00:00\",\"00:\"&G4)","v":"00:00"},{"$f":"IF(K4=\"\",\"\",L4-K4-M4)","v":""},{"$f":"IF(H4=\"\",\"\",VLOOKUP(H4,データシート!$D$2:$E$5,2))","v":""},{"$f":"IF(K4=\"\",\"\",N4*24*O4)","v":""},{"$f":"IF(I4=\"\",0,I4)","v":0},{"$f":"IF(K4=\"\",\"\",ROUNDUP(P4+Q4,0))","v":""},{"$f":"IF(C4=\"\",0,1)","v":0}]
[2,"こうじ",null,null,null,null,null,null,null,"",{"$f":"IF(C5=\"\",\"\",C5&\":\"&D5)","v":""},{"$f":"IF(C5=\"\",\"\",E5&\":\"&F5)","v":""},{"$f":"IF(G5=\"\",\"00:00\",\"00:\"&G5)","v":"00:00"},{"$f":"IF(K5=\"\",\"\",L5-K5-M5)","v":""},{"$f":"IF(H5=\"\",\"\",VLOOKUP(H5,データシート!$D$2:$E$5,2))","v":""},{"$f":"IF(K5=\"\",\"\",N5*24*O5)","v":""},{"$f":"IF(I5=\"\",0,I5)","v":0},{"$f":"IF(K5=\"\",\"\",ROUNDUP(P5+Q5,0))","v":""},{"$f":"IF(C5=\"\",0,1)","v":0}]
[3,"ひろかず",null,null,null,null,null,null,null,"","","","00:00","",{"$f":"IF(H6=\"\",\"\",VLOOKUP(H6,データシート!$D$2:$E$5,2))","v":""},"",0,"",0]
[4,"さやか",null,null,null,null,null,null,null,"","","","00:00","",{"$f":"IF(H7=\"\",\"\",VLOOKUP(H7,データシート!$D$2:$E$5,2))","v":""},"",0,"",0]
[5,"れんたろう",null,null,null,null,null,null,null,"","","","00:00","",{"$f":"IF(H8=\"\",\"\",VLOOKUP(H8,データシート!$D$2:$E$5,2))","v":""},"",0,"",0]
[6,"ごろう",null,null,null,null,null,null,null,"","","","00:00","",{"$f":"IF(H9=\"\",\"\",VLOOKUP(H9,データシート!$D$2:$E$5,2))","v":""},"",0,"",0]
[7,"さぶろう",null,null,null,null,null,null,null,"","","","00:00","",{"$f":"IF(H10=\"\",\"\",VLOOKUP(H10,データシート!$D$2:$E$5,2))","v":""},"",0,"",0]
[8,"きみとし",null,null,null,null,null,null,null,"","","","00:00","",{"$f":"IF(H11=\"\",\"\",VLOOKUP(H11,データシート!$D$2:$E$5,2))","v":""},"",0,"",0]
[9,"ぶんた",null,null,null,null,null,null,null,"","","","00:00","",{"$f":"IF(H12=\"\",\"\",VLOOKUP(H12,データシート!$D$2:$E$5,2))","v":""},"",0,"",0]
[10,"あきよし",null,null,null,null,null,null,null,"","","","00:00","",{"$f":"IF(H13=\"\",\"\",VLOOKUP(H13,データシート!$D$2:$E$5,2))","v":""},"",0,"",0]
[11,"つむぐ",null,null,null,null,null,null,null,"","","","00:00","",{"$f":"IF(H14=\"\",\"\",VLOOKUP(H14,データシート!$D$2:$E$5,2))","v":""},"",0,"",0]
[12,"れお",null,null,null,null,null,null,null,"","","","00:00","",{"$f":"IF(H15=\"\",\"\",VLOOKUP(H15,データシート!$D$2:$E$5,2))","v":""},"",0,"",0]
[13,"ひびき",null,null,null,null,null,null,null,"","","","00:00","",{"$f":"IF(H16=\"\",\"\",VLOOKUP(H16,データシート!$D$2:$E$5,2))","v":""},"",0,"",0]
[14,"ゆうま",null,null,null,null,null,null,null,"","","","00:00","",{"$f":"IF(H17=\"\",\"\",VLOOKUP(H17,データシート!$D$2:$E$5,2))","v":""},"",0,"",0]
[15,"こうき",null,null,null,null,null,null,null,"","","","00:00","",{"$f":"IF(H18=\"\",\"\",VLOOKUP(H18,データシート!$D$2:$E$5,2))","v":""},"",0,"",0]
[16,"ゆめ",null,null,null,null,null,null,null,"","","","00:00","",{"$f":"IF(H19=\"\",\"\",VLOOKUP(H19,データシート!$D$2:$E$5,2))","v":""},"",0,"",0]
[17,"こたろう",null,null,null,null,null,null,null,"","","","00:00","",{"$f":"IF(H20=\"\",\"\",VLOOKUP(H20,データシート!$D$2:$E$5,2))","v":""},"",0,"",0]
[18,"ゆうしょう",null,null,null,null,null,null,null,"","","","00:00","",{"$f":"IF(H21=\"\",\"\",VLOOKUP(H21,データシート!$D$2:$E$5,2))","v":""},"",0,"",0]
[19,"けんと",null,null,null,null,null,null,null,"","","","00:00","",{"$f":"IF(H22=\"\",\"\",VLOOKUP(H22,データシート!$D$2:$E$5,2))","v":""},"",0,"",0]
[20,"あやか",null,null,null,null,null,null,null,"","","","00:00","",{"$f":"IF(H23=\"\",\"\",VLOOKUP(H23,データシート!$D$2:$E$5,2))","v":""},"",0,"",0]
[21,"さんし",null,null,null,null,null,null,null,"","","","00:00","",{"$f":"IF(H24=\"\",\"\",VLOOKUP(H24,データシート!$D$2:$E$5,2))","v":""},"",0,"",0]
[22,null,null,null,null,null,null,null,null,"","","","00:00","",{"$f":"IF(H25=\"\",\"\",VLOOKUP(H25,データシート!$D$2:$E$5,2))","v":""},"",0,"",0]
[23,null,null,null,null,null,null,null,null,"","","","00:00","",{"$f":"IF(H26=\"\",\"\",VLOOKUP(H26,データシート!$D$2:$E$5,2))","v":""},"",0,"",0]
[24,null,null,null,null,null,null,null,null,"","","","00:00","",{"$f":"IF(H27=\"\",\"\",VLOOKUP(H27,データシート!$D$2:$E$5,2))","v":""},"",0,"",0]
[25,null,null,null,null,null,null,null,null,"","","","00:00","",{"$f":"IF(H28=\"\",\"\",VLOOKUP(H28,データシート!$D$2:$E$5,2))","v":""},"",0,"",0]
[26,null,null,null,null,null,null,null,null,"","","","00:00","",{"$f":"IF(H29=\"\",\"\",VLOOKUP(H29,データシート!$D$2:$E$5,2))","v":""},"",0,"",0]
[27,null,null,null,null,null,null,null,null,"","","","00:00","",{"$f":"IF(H30=\"\",\"\",VLOOKUP(H30,データシート!$D$2:$E$5,2))","v":""},"",0,"",0]
[28,null,null,null,null,null,null,null,null,"","","","00:00","",{"$f":"IF(H31=\"\",\"\",VLOOKUP(H31,データシート!$D$2:$E$5,2))","v":""},"",0,"",0]
[29,null,null,null,null,null,null,null,null,"","","","00:00","",{"$f":"IF(H32=\"\",\"\",VLOOKUP(H32,データシート!$D$2:$E$5,2))","v":""},"",0,"",0]
[30,null,null,null,null,null,null,null,null,"","","","00:00","",{"$f":"IF(H33=\"\",\"\",VLOOKUP(H33,データシート!$D$2:$E$5,2))","v":""},"",0,"",0]
[]
[null,"勤務者数","総労働時間","総賃金"]
[null,{"$f":"COUNTA(C4:C33)","v":0},{"$f":"SUM(N4:N33)","v":"00:00:00"},{"$f":"SUM(R4:R33)","v":0}]

{"sheet":" 3- 31","index":6,"n_rows":36,"n_cols":19,"rows_kept":36,"cut":false,"hidden":false,"merged":[[1,9,2,9],[1,0,2,0],[1,1,2,1],[1,2,1,3],[1,4,1,5],[1,7,2,7],[1,8,2,8]]}
[null,"2021-03-31"]
["番号","氏名","勤務開始",null,"勤務終了",null,"休憩時間","時給区分","加算額","賃金"]
[null,null,"時","分","時","分","分間",null,null,null,"開始時刻","終了時刻","休憩時間","労働時間","時給","労働賃金","加算額","賃金計","出勤"]
[1,"あきら",null,null,null,null,null,null,null,{"$f":"R4","v":""},{"$f":"IF(C4=\"\",\"\",C4&\":\"&D4)","v":""},{"$f":"IF(C4=\"\",\"\",E4&\":\"&F4)","v":""},{"$f":"IF(G4=\"\",\"00:00\",\"00:\"&G4)","v":"00:00"},{"$f":"IF(K4=\"\",\"\",L4-K4-M4)","v":""},{"$f":"IF(H4=\"\",\"\",VLOOKUP(H4,データシート!$D$2:$E$5,2))","v":""},{"$f":"IF(K4=\"\",\"\",N4*24*O4)","v":""},{"$f":"IF(I4=\"\",0,I4)","v":0},{"$f":"IF(K4=\"\",\"\",ROUNDUP(P4+Q4,0))","v":""},{"$f":"IF(C4=\"\",0,1)","v":0}]
[2,"こうじ",null,null,null,null,null,null,null,"",{"$f":"IF(C5=\"\",\"\",C5&\":\"&D5)","v":""},{"$f":"IF(C5=\"\",\"\",E5&\":\"&F5)","v":""},{"$f":"IF(G5=\"\",\"00:00\",\"00:\"&G5)","v":"00:00"},{"$f":"IF(K5=\"\",\"\",L5-K5-M5)","v":""},{"$f":"IF(H5=\"\",\"\",VLOOKUP(H5,データシート!$D$2:$E$5,2))","v":""},{"$f":"IF(K5=\"\",\"\",N5*24*O5)","v":""},{"$f":"IF(I5=\"\",0,I5)","v":0},{"$f":"IF(K5=\"\",\"\",ROUNDUP(P5+Q5,0))","v":""},{"$f":"IF(C5=\"\",0,1)","v":0}]
[3,"ひろかず",null,null,null,null,null,null,null,"","","","00:00","",{"$f":"IF(H6=\"\",\"\",VLOOKUP(H6,データシート!$D$2:$E$5,2))","v":""},"",0,"",0]
[4,"さやか",null,null,null,null,null,null,null,"","","","00:00","",{"$f":"IF(H7=\"\",\"\",VLOOKUP(H7,データシート!$D$2:$E$5,2))","v":""},"",0,"",0]
[5,"れんたろう",null,null,null,null,null,null,null,"","","","00:00","",{"$f":"IF(H8=\"\",\"\",VLOOKUP(H8,データシート!$D$2:$E$5,2))","v":""},"",0,"",0]
[6,"ごろう",null,null,null,null,null,null,null,"","","","00:00","",{"$f":"IF(H9=\"\",\"\",VLOOKUP(H9,データシート!$D$2:$E$5,2))","v":""},"",0,"",0]
[7,"さぶろう",null,null,null,null,null,null,null,"","","","00:00","",{"$f":"IF(H10=\"\",\"\",VLOOKUP(H10,データシート!$D$2:$E$5,2))","v":""},"",0,"",0]
[8,"きみとし",null,null,null,null,null,null,null,"","","","00:00","",{"$f":"IF(H11=\"\",\"\",VLOOKUP(H11,データシート!$D$2:$E$5,2))","v":""},"",0,"",0]
[9,"ぶんた",null,null,null,null,null,null,null,"","","","00:00","",{"$f":"IF(H12=\"\",\"\",VLOOKUP(H12,データシート!$D$2:$E$5,2))","v":""},"",0,"",0]
[10,"あきよし",null,null,null,null,null,null,null,"","","","00:00","",{"$f":"IF(H13=\"\",\"\",VLOOKUP(H13,データシート!$D$2:$E$5,2))","v":""},"",0,"",0]
[11,"つむぐ",null,null,null,null,null,null,null,"","","","00:00","",{"$f":"IF(H14=\"\",\"\",VLOOKUP(H14,データシート!$D$2:$E$5,2))","v":""},"",0,"",0]
[12,"れお",null,null,null,null,null,null,null,"","","","00:00","",{"$f":"IF(H15=\"\",\"\",VLOOKUP(H15,データシート!$D$2:$E$5,2))","v":""},"",0,"",0]
[13,"ひびき",null,null,null,null,null,null,null,"","","","00:00","",{"$f":"IF(H16=\"\",\"\",VLOOKUP(H16,データシート!$D$2:$E$5,2))","v":""},"",0,"",0]
[14,"ゆうま",null,null,null,null,null,null,null,"","","","00:00","",{"$f":"IF(H17=\"\",\"\",VLOOKUP(H17,データシート!$D$2:$E$5,2))","v":""},"",0,"",0]
[15,"こうき",null,null,null,null,null,null,null,"","","","00:00","",{"$f":"IF(H18=\"\",\"\",VLOOKUP(H18,データシート!$D$2:$E$5,2))","v":""},"",0,"",0]
[16,"ゆめ",null,null,null,null,null,null,null,"","","","00:00","",{"$f":"IF(H19=\"\",\"\",VLOOKUP(H19,データシート!$D$2:$E$5,2))","v":""},"",0,"",0]
[17,"こたろう",null,null,null,null,null,null,null,"","","","00:00","",{"$f":"IF(H20=\"\",\"\",VLOOKUP(H20,データシート!$D$2:$E$5,2))","v":""},"",0,"",0]
[18,"ゆうしょう",null,null,null,null,null,null,null,"","","","00:00","",{"$f":"IF(H21=\"\",\"\",VLOOKUP(H21,データシート!$D$2:$E$5,2))","v":""},"",0,"",0]
[19,"けんと",null,null,null,null,null,null,null,"","","","00:00","",{"$f":"IF(H22=\"\",\"\",VLOOKUP(H22,データシート!$D$2:$E$5,2))","v":""},"",0,"",0]
[20,"あやか",null,null,null,null,null,null,null,"","","","00:00","",{"$f":"IF(H23=\"\",\"\",VLOOKUP(H23,データシート!$D$2:$E$5,2))","v":""},"",0,"",0]
[21,"さんし",null,null,null,null,null,null,null,"","","","00:00","",{"$f":"IF(H24=\"\",\"\",VLOOKUP(H24,データシート!$D$2:$E$5,2))","v":""},"",0,"",0]
[22,null,null,null,null,null,null,null,null,"","","","00:00","",{"$f":"IF(H25=\"\",\"\",VLOOKUP(H25,データシート!$D$2:$E$5,2))","v":""},"",0,"",0]
[23,null,null,null,null,null,null,null,null,"","","","00:00","",{"$f":"IF(H26=\"\",\"\",VLOOKUP(H26,データシート!$D$2:$E$5,2))","v":""},"",0,"",0]
[24,null,null,null,null,null,null,null,null,"","","","00:00","",{"$f":"IF(H27=\"\",\"\",VLOOKUP(H27,データシート!$D$2:$E$5,2))","v":""},"",0,"",0]
[25,null,null,null,null,null,null,null,null,"","","","00:00","",{"$f":"IF(H28=\"\",\"\",VLOOKUP(H28,データシート!$D$2:$E$5,2))","v":""},"",0,"",0]
[26,null,null,null,null,null,null,null,null,"","","","00:00","",{"$f":"IF(H29=\"\",\"\",VLOOKUP(H29,データシート!$D$2:$E$5,2))","v":""},"",0,"",0]
[27,null,null,null,null,null,null,null,null,"","","","00:00","",{"$f":"IF(H30=\"\",\"\",VLOOKUP(H30,データシート!$D$2:$E$5,2))","v":""},"",0,"",0]
[28,null,null,null,null,null,null,null,null,"","","","00:00","",{"$f":"IF(H31=\"\",\"\",VLOOKUP(H31,データシート!$D$2:$E$5,2))","v":""},"",0,"",0]
[29,null,null,null,null,null,null,null,null,"","","","00:00","",{"$f":"IF(H32=\"\",\"\",VLOOKUP(H32,データシート!$D$2:$E$5,2))","v":""},"",0,"",0]
[30,null,null,null,null,null,null,null,null,"","","","00:00","",{"$f":"IF(H33=\"\",\"\",VLOOKUP(H33,データシート!$D$2:$E$5,2))","v":""},"",0,"",0]
[]
[null,"勤務者数","総労働時間","総賃金"]
[null,{"$f":"COUNTA(C4:C33)","v":0},{"$f":"SUM(N4:N33)","v":"00:00:00"},{"$f":"SUM(R4:R33)","v":0}]

{"sheet":" 4- 1","index":7,"n_rows":36,"n_cols":19,"rows_kept":36,"cut":false,"hidden":false,"merged":[[1,9,2,9],[1,0,2,0],[1,1,2,1],[1,2,1,3],[1,4,1,5],[1,7,2,7],[1,8,2,8]]}
[null,"2021-04-01"]
["番号","氏名","勤務開始",null,"勤務終了",null,"休憩時間","時給区分","加算額","賃金"]
[null,null,"時","分","時","分","分間",null,null,null,"開始時刻","終了時刻","休憩時間","労働時間","時給","労働賃金","加算額","賃金計","出勤"]
[1,"あきら",null,null,null,null,null,null,null,{"$f":"R4","v":""},{"$f":"IF(C4=\"\",\"\",C4&\":\"&D4)","v":""},{"$f":"IF(C4=\"\",\"\",E4&\":\"&F4)","v":""},{"$f":"IF(G4=\"\",\"00:00\",\"00:\"&G4)","v":"00:00"},{"$f":"IF(K4=\"\",\"\",L4-K4-M4)","v":""},{"$f":"IF(H4=\"\",\"\",VLOOKUP(H4,データシート!$D$2:$E$5,2))","v":""},{"$f":"IF(K4=\"\",\"\",N4*24*O4)","v":""},{"$f":"IF(I4=\"\",0,I4)","v":0},{"$f":"IF(K4=\"\",\"\",ROUNDUP(P4+Q4,0))","v":""},{"$f":"IF(C4=\"\",0,1)","v":0}]
[2,"こうじ",null,null,null,null,null,null,null,"",{"$f":"IF(C5=\"\",\"\",C5&\":\"&D5)","v":""},{"$f":"IF(C5=\"\",\"\",E5&\":\"&F5)","v":""},{"$f":"IF(G5=\"\",\"00:00\",\"00:\"&G5)","v":"00:00"},{"$f":"IF(K5=\"\",\"\",L5-K5-M5)","v":""},{"$f":"IF(H5=\"\",\"\",VLOOKUP(H5,データシート!$D$2:$E$5,2))","v":""},{"$f":"IF(K5=\"\",\"\",N5*24*O5)","v":""},{"$f":"IF(I5=\"\",0,I5)","v":0},{"$f":"IF(K5=\"\",\"\",ROUNDUP(P5+Q5,0))","v":""},{"$f":"IF(C5=\"\",0,1)","v":0}]
[3,"ひろかず",null,null,null,null,null,null,null,"","","","00:00","",{"$f":"IF(H6=\"\",\"\",VLOOKUP(H6,データシート!$D$2:$E$5,2))","v":""},"",0,"",0]
[4,"さやか",null,null,null,null,null,null,null,"","","","00:00","",{"$f":"IF(H7=\"\",\"\",VLOOKUP(H7,データシート!$D$2:$E$5,2))","v":""},"",0,"",0]
[5,"れんたろう",null,null,null,null,null,null,null,"","","","00:00","",{"$f":"IF(H8=\"\",\"\",VLOOKUP(H8,データシート!$D$2:$E$5,2))","v":""},"",0,"",0]
[6,"ごろう",null,null,null,null,null,null,null,"","","","00:00","",{"$f":"IF(H9=\"\",\"\",VLOOKUP(H9,データシート!$D$2:$E$5,2))","v":""},"",0,"",0]
[7,"さぶろう",null,null,null,null,null,null,null,"","","","00:00","",{"$f":"IF(H10=\"\",\"\",VLOOKUP(H10,データシート!$D$2:$E$5,2))","v":""},"",0,"",0]
[8,"きみとし",null,null,null,null,null,null,null,"","","","00:00","",{"$f":"IF(H11=\"\",\"\",VLOOKUP(H11,データシート!$D$2:$E$5,2))","v":""},"",0,"",0]
[9,"ぶんた",null,null,null,null,null,null,null,"","","","00:00","",{"$f":"IF(H12=\"\",\"\",VLOOKUP(H12,データシート!$D$2:$E$5,2))","v":""},"",0,"",0]
[10,"あきよし",null,null,null,null,null,null,null,"","","","00:00","",{"$f":"IF(H13=\"\",\"\",VLOOKUP(H13,データシート!$D$2:$E$5,2))","v":""},"",0,"",0]
[11,"つむぐ",null,null,null,null,null,null,null,"","","","00:00","",{"$f":"IF(H14=\"\",\"\",VLOOKUP(H14,データシート!$D$2:$E$5,2))","v":""},"",0,"",0]
[12,"れお",null,null,null,null,null,null,null,"","","","00:00","",{"$f":"IF(H15=\"\",\"\",VLOOKUP(H15,データシート!$D$2:$E$5,2))","v":""},"",0,"",0]
[13,"ひびき",null,null,null,null,null,null,null,"","","","00:00","",{"$f":"IF(H16=\"\",\"\",VLOOKUP(H16,データシート!$D$2:$E$5,2))","v":""},"",0,"",0]
[14,"ゆうま",null,null,null,null,null,null,null,"","","","00:00","",{"$f":"IF(H17=\"\",\"\",VLOOKUP(H17,データシート!$D$2:$E$5,2))","v":""},"",0,"",0]
[15,"こうき",null,null,null,null,null,null,null,"","","","00:00","",{"$f":"IF(H18=\"\",\"\",VLOOKUP(H18,データシート!$D$2:$E$5,2))","v":""},"",0,"",0]
[16,"ゆめ",null,null,null,null,null,null,null,"","","","00:00","",{"$f":"IF(H19=\"\",\"\",VLOOKUP(H19,データシート!$D$2:$E$5,2))","v":""},"",0,"",0]
[17,"こたろう",null,null,null,null,null,null,null,"","","","00:00","",{"$f":"IF(H20=\"\",\"\",VLOOKUP(H20,データシート!$D$2:$E$5,2))","v":""},"",0,"",0]
[18,"ゆうしょう",null,null,null,null,null,null,null,"","","","00:00","",{"$f":"IF(H21=\"\",\"\",VLOOKUP(H21,データシート!$D$2:$E$5,2))","v":""},"",0,"",0]
[19,"けんと",null,null,null,null,null,null,null,"","","","00:00","",{"$f":"IF(H22=\"\",\"\",VLOOKUP(H22,データシート!$D$2:$E$5,2))","v":""},"",0,"",0]
[20,"あやか",null,null,null,null,null,null,null,"","","","00:00","",{"$f":"IF(H23=\"\",\"\",VLOOKUP(H23,データシート!$D$2:$E$5,2))","v":""},"",0,"",0]
[21,"さんし",null,null,null,null,null,null,null,"","","","00:00","",{"$f":"IF(H24=\"\",\"\",VLOOKUP(H24,データシート!$D$2:$E$5,2))","v":""},"",0,"",0]
[22,null,null,null,null,null,null,null,null,"","","","00:00","",{"$f":"IF(H25=\"\",\"\",VLOOKUP(H25,データシート!$D$2:$E$5,2))","v":""},"",0,"",0]
[23,null,null,null,null,null,null,null,null,"","","","00:00","",{"$f":"IF(H26=\"\",\"\",VLOOKUP(H26,データシート!$D$2:$E$5,2))","v":""},"",0,"",0]
[24,null,null,null,null,null,null,null,null,"","","","00:00","",{"$f":"IF(H27=\"\",\"\",VLOOKUP(H27,データシート!$D$2:$E$5,2))","v":""},"",0,"",0]
[25,null,null,null,null,null,null,null,null,"","","","00:00","",{"$f":"IF(H28=\"\",\"\",VLOOKUP(H28,データシート!$D$2:$E$5,2))","v":""},"",0,"",0]
[26,null,null,null,null,null,null,null,null,"","","","00:00","",{"$f":"IF(H29=\"\",\"\",VLOOKUP(H29,データシート!$D$2:$E$5,2))","v":""},"",0,"",0]
[27,null,null,null,null,null,null,null,null,"","","","00:00","",{"$f":"IF(H30=\"\",\"\",VLOOKUP(H30,データシート!$D$2:$E$5,2))","v":""},"",0,"",0]
[28,null,null,null,null,null,null,null,null,"","","","00:00","",{"$f":"IF(H31=\"\",\"\",VLOOKUP(H31,データシート!$D$2:$E$5,2))","v":""},"",0,"",0]
[29,null,null,null,null,null,null,null,null,"","","","00:00","",{"$f":"IF(H32=\"\",\"\",VLOOKUP(H32,データシート!$D$2:$E$5,2))","v":""},"",0,"",0]
[30,null,null,null,null,null,null,null,null,"","","","00:00","",{"$f":"IF(H33=\"\",\"\",VLOOKUP(H33,データシート!$D$2:$E$5,2))","v":""},"",0,"",0]
[]
[null,"勤務者数","総労働時間","総賃金"]
[null,{"$f":"COUNTA(C4:C33)","v":0},{"$f":"SUM(N4:N33)","v":"00:00:00"},{"$f":"SUM(R4:R33)","v":0}]

{"sheet":" 4- 2","index":8,"n_rows":36,"n_cols":19,"rows_kept":36,"cut":false,"hidden":false,"merged":[[1,9,2,9],[1,0,2,0],[1,1,2,1],[1,2,1,3],[1,4,1,5],[1,7,2,7],[1,8,2,8]]}
[null,"2021-04-02"]
["番号","氏名","勤務開始",null,"勤務終了",null,"休憩時間","時給区分","加算額","賃金"]
[null,null,"時","分","時","分","分間",null,null,null,"開始時刻","終了時刻","休憩時間","労働時間","時給","労働賃金","加算額","賃金計","出勤"]
[1,"あきら",null,null,null,null,null,null,null,{"$f":"R4","v":""},{"$f":"IF(C4=\"\",\"\",C4&\":\"&D4)","v":""},{"$f":"IF(C4=\"\",\"\",E4&\":\"&F4)","v":""},{"$f":"IF(G4=\"\",\"00:00\",\"00:\"&G4)","v":"00:00"},{"$f":"IF(K4=\"\",\"\",L4-K4-M4)","v":""},{"$f":"IF(H4=\"\",\"\",VLOOKUP(H4,データシート!$D$2:$E$5,2))","v":""},{"$f":"IF(K4=\"\",\"\",N4*24*O4)","v":""},{"$f":"IF(I4=\"\",0,I4)","v":0},{"$f":"IF(K4=\"\",\"\",ROUNDUP(P4+Q4,0))","v":""},{"$f":"IF(C4=\"\",0,1)","v":0}]
[2,"こうじ",null,null,null,null,null,null,null,"",{"$f":"IF(C5=\"\",\"\",C5&\":\"&D5)","v":""},{"$f":"IF(C5=\"\",\"\",E5&\":\"&F5)","v":""},{"$f":"IF(G5=\"\",\"00:00\",\"00:\"&G5)","v":"00:00"},{"$f":"IF(K5=\"\",\"\",L5-K5-M5)","v":""},{"$f":"IF(H5=\"\",\"\",VLOOKUP(H5,データシート!$D$2:$E$5,2))","v":""},{"$f":"IF(K5=\"\",\"\",N5*24*O5)","v":""},{"$f":"IF(I5=\"\",0,I5)","v":0},{"$f":"IF(K5=\"\",\"\",ROUNDUP(P5+Q5,0))","v":""},{"$f":"IF(C5=\"\",0,1)","v":0}]
[3,"ひろかず",null,null,null,null,null,null,null,"","","","00:00","",{"$f":"IF(H6=\"\",\"\",VLOOKUP(H6,データシート!$D$2:$E$5,2))","v":""},"",0,"",0]
[4,"さやか",null,null,null,null,null,null,null,"","","","00:00","",{"$f":"IF(H7=\"\",\"\",VLOOKUP(H7,データシート!$D$2:$E$5,2))","v":""},"",0,"",0]
[5,"れんたろう",null,null,null,null,null,null,null,"","","","00:00","",{"$f":"IF(H8=\"\",\"\",VLOOKUP(H8,データシート!$D$2:$E$5,2))","v":""},"",0,"",0]
[6,"ごろう",null,null,null,null,null,null,null,"","","","00:00","",{"$f":"IF(H9=\"\",\"\",VLOOKUP(H9,データシート!$D$2:$E$5,2))","v":""},"",0,"",0]
[7,"さぶろう",null,null,null,null,null,null,null,"","","","00:00","",{"$f":"IF(H10=\"\",\"\",VLOOKUP(H10,データシート!$D$2:$E$5,2))","v":""},"",0,"",0]
[8,"きみとし",null,null,null,null,null,null,null,"","","","00:00","",{"$f":"IF(H11=\"\",\"\",VLOOKUP(H11,データシート!$D$2:$E$5,2))","v":""},"",0,"",0]
[9,"ぶんた",null,null,null,null,null,null,null,"","","","00:00","",{"$f":"IF(H12=\"\",\"\",VLOOKUP(H12,データシート!$D$2:$E$5,2))","v":""},"",0,"",0]
[10,"あきよし",null,null,null,null,null,null,null,"","","","00:00","",{"$f":"IF(H13=\"\",\"\",VLOOKUP(H13,データシート!$D$2:$E$5,2))","v":""},"",0,"",0]
[11,"つむぐ",null,null,null,null,null,null,null,"","","","00:00","",{"$f":"IF(H14=\"\",\"\",VLOOKUP(H14,データシート!$D$2:$E$5,2))","v":""},"",0,"",0]
[12,"れお",null,null,null,null,null,null,null,"","","","00:00","",{"$f":"IF(H15=\"\",\"\",VLOOKUP(H15,データシート!$D$2:$E$5,2))","v":""},"",0,"",0]
[13,"ひびき",null,null,null,null,null,null,null,"","","","00:00","",{"$f":"IF(H16=\"\",\"\",VLOOKUP(H16,データシート!$D$2:$E$5,2))","v":""},"",0,"",0]
[14,"ゆうま",null,null,null,null,null,null,null,"","","","00:00","",{"$f":"IF(H17=\"\",\"\",VLOOKUP(H17,データシート!$D$2:$E$5,2))","v":""},"",0,"",0]
[15,"こうき",null,null,null,null,null,null,null,"","","","00:00","",{"$f":"IF(H18=\"\",\"\",VLOOKUP(H18,データシート!$D$2:$E$5,2))","v":""},"",0,"",0]
[16,"ゆめ",null,null,null,null,null,null,null,"","","","00:00","",{"$f":"IF(H19=\"\",\"\",VLOOKUP(H19,データシート!$D$2:$E$5,2))","v":""},"",0,"",0]
[17,"こたろう",null,null,null,null,null,null,null,"","","","00:00","",{"$f":"IF(H20=\"\",\"\",VLOOKUP(H20,データシート!$D$2:$E$5,2))","v":""},"",0,"",0]
[18,"ゆうしょう",null,null,null,null,null,null,null,"","","","00:00","",{"$f":"IF(H21=\"\",\"\",VLOOKUP(H21,データシート!$D$2:$E$5,2))","v":""},"",0,"",0]
[19,"けんと",null,null,null,null,null,null,null,"","","","00:00","",{"$f":"IF(H22=\"\",\"\",VLOOKUP(H22,データシート!$D$2:$E$5,2))","v":""},"",0,"",0]
[20,"あやか",null,null,null,null,null,null,null,"","","","00:00","",{"$f":"IF(H23=\"\",\"\",VLOOKUP(H23,データシート!$D$2:$E$5,2))","v":""},"",0,"",0]
[21,"さんし",null,null,null,null,null,null,null,"","","","00:00","",{"$f":"IF(H24=\"\",\"\",VLOOKUP(H24,データシート!$D$2:$E$5,2))","v":""},"",0,"",0]
[22,null,null,null,null,null,null,null,null,"","","","00:00","",{"$f":"IF(H25=\"\",\"\",VLOOKUP(H25,データシート!$D$2:$E$5,2))","v":""},"",0,"",0]
[23,null,null,null,null,null,null,null,null,"","","","00:00","",{"$f":"IF(H26=\"\",\"\",VLOOKUP(H26,データシート!$D$2:$E$5,2))","v":""},"",0,"",0]
[24,null,null,null,null,null,null,null,null,"","","","00:00","",{"$f":"IF(H27=\"\",\"\",VLOOKUP(H27,データシート!$D$2:$E$5,2))","v":""},"",0,"",0]
[25,null,null,null,null,null,null,null,null,"","","","00:00","",{"$f":"IF(H28=\"\",\"\",VLOOKUP(H28,データシート!$D$2:$E$5,2))","v":""},"",0,"",0]
[26,null,null,null,null,null,null,null,null,"","","","00:00","",{"$f":"IF(H29=\"\",\"\",VLOOKUP(H29,データシート!$D$2:$E$5,2))","v":""},"",0,"",0]
[27,null,null,null,null,null,null,null,null,"","","","00:00","",{"$f":"IF(H30=\"\",\"\",VLOOKUP(H30,データシート!$D$2:$E$5,2))","v":""},"",0,"",0]
[28,null,null,null,null,null,null,null,null,"","","","00:00","",{"$f":"IF(H31=\"\",\"\",VLOOKUP(H31,データシート!$D$2:$E$5,2))","v":""},"",0,"",0]
[29,null,null,null,null,null,null,null,null,"","","","00:00","",{"$f":"IF(H32=\"\",\"\",VLOOKUP(H32,データシート!$D$2:$E$5,2))","v":""},"",0,"",0]
[30,null,null,null,null,null,null,null,null,"","","","00:00","",{"$f":"IF(H33=\"\",\"\",VLOOKUP(H33,データシート!$D$2:$E$5,2))","v":""},"",0,"",0]
[]
[null,"勤務者数","総労働時間","総賃金"]
[null,{"$f":"COUNTA(C4:C33)","v":0},{"$f":"SUM(N4:N33)","v":"00:00:00"},{"$f":"SUM(R4:R33)","v":0}]

{"sheet":" 4- 3","index":9,"n_rows":36,"n_cols":19,"rows_kept":36,"cut":false,"hidden":false,"merged":[[1,9,2,9],[1,0,2,0],[1,1,2,1],[1,2,1,3],[1,4,1,5],[1,7,2,7],[1,8,2,8]]}
[null,"2021-04-03"]
["番号","氏名","勤務開始",null,"勤務終了",null,"休憩時間","時給区分","加算額","賃金"]
[null,null,"時","分","時","分","分間",null,null,null,"開始時刻","終了時刻","休憩時間","労働時間","時給","労働賃金","加算額","賃金計","出勤"]
[1,"あきら",null,null,null,null,null,null,null,{"$f":"R4","v":""},{"$f":"IF(C4=\"\",\"\",C4&\":\"&D4)","v":""},{"$f":"IF(C4=\"\",\"\",E4&\":\"&F4)","v":""},{"$f":"IF(G4=\"\",\"00:00\",\"00:\"&G4)","v":"00:00"},{"$f":"IF(K4=\"\",\"\",L4-K4-M4)","v":""},{"$f":"IF(H4=\"\",\"\",VLOOKUP(H4,データシート!$D$2:$E$5,2))","v":""},{"$f":"IF(K4=\"\",\"\",N4*24*O4)","v":""},{"$f":"IF(I4=\"\",0,I4)","v":0},{"$f":"IF(K4=\"\",\"\",ROUNDUP(P4+Q4,0))","v":""},{"$f":"IF(C4=\"\",0,1)","v":0}]
[2,"こうじ",null,null,null,null,null,null,null,"",{"$f":"IF(C5=\"\",\"\",C5&\":\"&D5)","v":""},{"$f":"IF(C5=\"\",\"\",E5&\":\"&F5)","v":""},{"$f":"IF(G5=\"\",\"00:00\",\"00:\"&G5)","v":"00:00"},{"$f":"IF(K5=\"\",\"\",L5-K5-M5)","v":""},{"$f":"IF(H5=\"\",\"\",VLOOKUP(H5,データシート!$D$2:$E$5,2))","v":""},{"$f":"IF(K5=\"\",\"\",N5*24*O5)","v":""},{"$f":"IF(I5=\"\",0,I5)","v":0},{"$f":"IF(K5=\"\",\"\",ROUNDUP(P5+Q5,0))","v":""},{"$f":"IF(C5=\"\",0,1)","v":0}]
[3,"ひろかず",null,null,null,null,null,null,null,"","","","00:00","",{"$f":"IF(H6=\"\",\"\",VLOOKUP(H6,データシート!$D$2:$E$5,2))","v":""},"",0,"",0]
[4,"さやか",null,null,null,null,null,null,null,"","","","00:00","",{"$f":"IF(H7=\"\",\"\",VLOOKUP(H7,データシート!$D$2:$E$5,2))","v":""},"",0,"",0]
[5,"れんたろう",null,null,null,null,null,null,null,"","","","00:00","",{"$f":"IF(H8=\"\",\"\",VLOOKUP(H8,データシート!$D$2:$E$5,2))","v":""},"",0,"",0]
[6,"ごろう",null,null,null,null,null,null,null,"","","","00:00","",{"$f":"IF(H9=\"\",\"\",VLOOKUP(H9,データシート!$D$2:$E$5,2))","v":""},"",0,"",0]
[7,"さぶろう",null,null,null,null,null,null,null,"","","","00:00","",{"$f":"IF(H10=\"\",\"\",VLOOKUP(H10,データシート!$D$2:$E$5,2))","v":""},"",0,"",0]
[8,"きみとし",null,null,null,null,null,null,null,"","","","00:00","",{"$f":"IF(H11=\"\",\"\",VLOOKUP(H11,データシート!$D$2:$E$5,2))","v":""},"",0,"",0]
[9,"ぶんた",null,null,null,null,null,null,null,"","","","00:00","",{"$f":"IF(H12=\"\",\"\",VLOOKUP(H12,データシート!$D$2:$E$5,2))","v":""},"",0,"",0]
[10,"あきよし",null,null,null,null,null,null,null,"","","","00:00","",{"$f":"IF(H13=\"\",\"\",VLOOKUP(H13,データシート!$D$2:$E$5,2))","v":""},"",0,"",0]
[11,"つむぐ",null,null,null,null,null,null,null,"","","","00:00","",{"$f":"IF(H14=\"\",\"\",VLOOKUP(H14,データシート!$D$2:$E$5,2))","v":""},"",0,"",0]
[12,"れお",null,null,null,null,null,null,null,"","","","00:00","",{"$f":"IF(H15=\"\",\"\",VLOOKUP(H15,データシート!$D$2:$E$5,2))","v":""},"",0,"",0]
[13,"ひびき",null,null,null,null,null,null,null,"","","","00:00","",{"$f":"IF(H16=\"\",\"\",VLOOKUP(H16,データシート!$D$2:$E$5,2))","v":""},"",0,"",0]
[14,"ゆうま",null,null,null,null,null,null,null,"","","","00:00","",{"$f":"IF(H17=\"\",\"\",VLOOKUP(H17,データシート!$D$2:$E$5,2))","v":""},"",0,"",0]
[15,"こうき",null,null,null,null,null,null,null,"","","","00:00","",{"$f":"IF(H18=\"\",\"\",VLOOKUP(H18,データシート!$D$2:$E$5,2))","v":""},"",0,"",0]
[16,"ゆめ",null,null,null,null,null,null,null,"","","","00:00","",{"$f":"IF(H19=\"\",\"\",VLOOKUP(H19,データシート!$D$2:$E$5,2))","v":""},"",0,"",0]
[17,"こたろう",null,null,null,null,null,null,null,"","","","00:00","",{"$f":"IF(H20=\"\",\"\",VLOOKUP(H20,データシート!$D$2:$E$5,2))","v":""},"",0,"",0]
[18,"ゆうしょう",null,null,null,null,null,null,null,"","","","00:00","",{"$f":"IF(H21=\"\",\"\",VLOOKUP(H21,データシート!$D$2:$E$5,2))","v":""},"",0,"",0]
[19,"けんと",null,null,null,null,null,null,null,"","","","00:00","",{"$f":"IF(H22=\"\",\"\",VLOOKUP(H22,データシート!$D$2:$E$5,2))","v":""},"",0,"",0]
[20,"あやか",null,null,null,null,null,null,null,"","","","00:00","",{"$f":"IF(H23=\"\",\"\",VLOOKUP(H23,データシート!$D$2:$E$5,2))","v":""},"",0,"",0]
[21,"さんし",null,null,null,null,null,null,null,"","","","00:00","",{"$f":"IF(H24=\"\",\"\",VLOOKUP(H24,データシート!$D$2:$E$5,2))","v":""},"",0,"",0]
[22,null,null,null,null,null,null,null,null,"","","","00:00","",{"$f":"IF(H25=\"\",\"\",VLOOKUP(H25,データシート!$D$2:$E$5,2))","v":""},"",0,"",0]
[23,null,null,null,null,null,null,null,null,"","","","00:00","",{"$f":"IF(H26=\"\",\"\",VLOOKUP(H26,データシート!$D$2:$E$5,2))","v":""},"",0,"",0]
[24,null,null,null,null,null,null,null,null,"","","","00:00","",{"$f":"IF(H27=\"\",\"\",VLOOKUP(H27,データシート!$D$2:$E$5,2))","v":""},"",0,"",0]
[25,null,null,null,null,null,null,null,null,"","","","00:00","",{"$f":"IF(H28=\"\",\"\",VLOOKUP(H28,データシート!$D$2:$E$5,2))","v":""},"",0,"",0]
[26,null,null,null,null,null,null,null,null,"","","","00:00","",{"$f":"IF(H29=\"\",\"\",VLOOKUP(H29,データシート!$D$2:$E$5,2))","v":""},"",0,"",0]
[27,null,null,null,null,null,null,null,null,"","","","00:00","",{"$f":"IF(H30=\"\",\"\",VLOOKUP(H30,データシート!$D$2:$E$5,2))","v":""},"",0,"",0]
[28,null,null,null,null,null,null,null,null,"","","","00:00","",{"$f":"IF(H31=\"\",\"\",VLOOKUP(H31,データシート!$D$2:$E$5,2))","v":""},"",0,"",0]
[29,null,null,null,null,null,null,null,null,"","","","00:00","",{"$f":"IF(H32=\"\",\"\",VLOOKUP(H32,データシート!$D$2:$E$5,2))","v":""},"",0,"",0]
[30,null,null,null,null,null,null,null,null,"","","","00:00","",{"$f":"IF(H33=\"\",\"\",VLOOKUP(H33,データシート!$D$2:$E$5,2))","v":""},"",0,"",0]
[]
[null,"勤務者数","総労働時間","総賃金"]
[null,{"$f":"COUNTA(C4:C33)","v":0},{"$f":"SUM(N4:N33)","v":"00:00:00"},{"$f":"SUM(R4:R33)","v":0}]

{"sheet":" 4- 4","index":10,"n_rows":36,"n_cols":19,"rows_kept":36,"cut":false,"hidden":false,"merged":[[1,9,2,9],[1,0,2,0],[1,1,2,1],[1,2,1,3],[1,4,1,5],[1,7,2,7],[1,8,2,8]]}
[null,"2021-04-04"]
["番号","氏名","勤務開始",null,"勤務終了",null,"休憩時間","時給区分","加算額","賃金"]
[null,null,"時","分","時","分","分間",null,null,null,"開始時刻","終了時刻","休憩時間","労働時間","時給","労働賃金","加算額","賃金計","出勤"]
[1,"あきら",null,null,null,null,null,null,null,{"$f":"R4","v":""},{"$f":"IF(C4=\"\",\"\",C4&\":\"&D4)","v":""},{"$f":"IF(C4=\"\",\"\",E4&\":\"&F4)","v":""},{"$f":"IF(G4=\"\",\"00:00\",\"00:\"&G4)","v":"00:00"},{"$f":"IF(K4=\"\",\"\",L4-K4-M4)","v":""},{"$f":"IF(H4=\"\",\"\",VLOOKUP(H4,データシート!$D$2:$E$5,2))","v":""},{"$f":"IF(K4=\"\",\"\",N4*24*O4)","v":""},{"$f":"IF(I4=\"\",0,I4)","v":0},{"$f":"IF(K4=\"\",\"\",ROUNDUP(P4+Q4,0))","v":""},{"$f":"IF(C4=\"\",0,1)","v":0}]
[2,"こうじ",null,null,null,null,null,null,null,"",{"$f":"IF(C5=\"\",\"\",C5&\":\"&D5)","v":""},{"$f":"IF(C5=\"\",\"\",E5&\":\"&F5)","v":""},{"$f":"IF(G5=\"\",\"00:00\",\"00:\"&G5)","v":"00:00"},{"$f":"IF(K5=\"\",\"\",L5-K5-M5)","v":""},{"$f":"IF(H5=\"\",\"\",VLOOKUP(H5,データシート!$D$2:$E$5,2))","v":""},{"$f":"IF(K5=\"\",\"\",N5*24*O5)","v":""},{"$f":"IF(I5=\"\",0,I5)","v":0},{"$f":"IF(K5=\"\",\"\",ROUNDUP(P5+Q5,0))","v":""},{"$f":"IF(C5=\"\",0,1)","v":0}]
[3,"ひろかず",null,null,null,null,null,null,null,"","","","00:00","",{"$f":"IF(H6=\"\",\"\",VLOOKUP(H6,データシート!$D$2:$E$5,2))","v":""},"",0,"",0]
[4,"さやか",null,null,null,null,null,null,null,"","","","00:00","",{"$f":"IF(H7=\"\",\"\",VLOOKUP(H7,データシート!$D$2:$E$5,2))","v":""},"",0,"",0]
[5,"れんたろう",null,null,null,null,null,null,null,"","","","00:00","",{"$f":"IF(H8=\"\",\"\",VLOOKUP(H8,データシート!$D$2:$E$5,2))","v":""},"",0,"",0]
[6,"ごろう",null,null,null,null,null,null,null,"","","","00:00","",{"$f":"IF(H9=\"\",\"\",VLOOKUP(H9,データシート!$D$2:$E$5,2))","v":""},"",0,"",0]
[7,"さぶろう",null,null,null,null,null,null,null,"","","","00:00","",{"$f":"IF(H10=\"\",\"\",VLOOKUP(H10,データシート!$D$2:$E$5,2))","v":""},"",0,"",0]
[8,"きみとし",null,null,null,null,null,null,null,"","","","00:00","",{"$f":"IF(H11=\"\",\"\",VLOOKUP(H11,データシート!$D$2:$E$5,2))","v":""},"",0,"",0]
[9,"ぶんた",null,null,null,null,null,null,null,"","","","00:00","",{"$f":"IF(H12=\"\",\"\",VLOOKUP(H12,データシート!$D$2:$E$5,2))","v":""},"",0,"",0]
[10,"あきよし",null,null,null,null,null,null,null,"","","","00:00","",{"$f":"IF(H13=\"\",\"\",VLOOKUP(H13,データシート!$D$2:$E$5,2))","v":""},"",0,"",0]
[11,"つむぐ",null,null,null,null,null,null,null,"","","","00:00","",{"$f":"IF(H14=\"\",\"\",VLOOKUP(H14,データシート!$D$2:$E$5,2))","v":""},"",0,"",0]
[12,"れお",null,null,null,null,null,null,null,"","","","00:00","",{"$f":"IF(H15=\"\",\"\",VLOOKUP(H15,データシート!$D$2:$E$5,2))","v":""},"",0,"",0]
[13,"ひびき",null,null,null,null,null,null,null,"","","","00:00","",{"$f":"IF(H16=\"\",\"\",VLOOKUP(H16,データシート!$D$2:$E$5,2))","v":""},"",0,"",0]
[14,"ゆうま",null,null,null,null,null,null,null,"","","","00:00","",{"$f":"IF(H17=\"\",\"\",VLOOKUP(H17,データシート!$D$2:$E$5,2))","v":""},"",0,"",0]
[15,"こうき",null,null,null,null,null,null,null,"","","","00:00","",{"$f":"IF(H18=\"\",\"\",VLOOKUP(H18,データシート!$D$2:$E$5,2))","v":""},"",0,"",0]
[16,"ゆめ",null,null,null,null,null,null,null,"","","","00:00","",{"$f":"IF(H19=\"\",\"\",VLOOKUP(H19,データシート!$D$2:$E$5,2))","v":""},"",0,"",0]
[17,"こたろう",null,null,null,null,null,null,null,"","","","00:00","",{"$f":"IF(H20=\"\",\"\",VLOOKUP(H20,データシート!$D$2:$E$5,2))","v":""},"",0,"",0]
[18,"ゆうしょう",null,null,null,null,null,null,null,"","","","00:00","",{"$f":"IF(H21=\"\",\"\",VLOOKUP(H21,データシート!$D$2:$E$5,2))","v":""},"",0,"",0]
[19,"けんと",null,null,null,null,null,null,null,"","","","00:00","",{"$f":"IF(H22=\"\",\"\",VLOOKUP(H22,データシート!$D$2:$E$5,2))","v":""},"",0,"",0]
[20,"あやか",null,null,null,null,null,null,null,"","","","00:00","",{"$f":"IF(H23=\"\",\"\",VLOOKUP(H23,データシート!$D$2:$E$5,2))","v":""},"",0,"",0]
[21,"さんし",null,null,null,null,null,null,null,"","","","00:00","",{"$f":"IF(H24=\"\",\"\",VLOOKUP(H24,データシート!$D$2:$E$5,2))","v":""},"",0,"",0]
[22,null,null,null,null,null,null,null,null,"","","","00:00","",{"$f":"IF(H25=\"\",\"\",VLOOKUP(H25,データシート!$D$2:$E$5,2))","v":""},"",0,"",0]
[23,null,null,null,null,null,null,null,null,"","","","00:00","",{"$f":"IF(H26=\"\",\"\",VLOOKUP(H26,データシート!$D$2:$E$5,2))","v":""},"",0,"",0]
[24,null,null,null,null,null,null,null,null,"","","","00:00","",{"$f":"IF(H27=\"\",\"\",VLOOKUP(H27,データシート!$D$2:$E$5,2))","v":""},"",0,"",0]
[25,null,null,null,null,null,null,null,null,"","","","00:00","",{"$f":"IF(H28=\"\",\"\",VLOOKUP(H28,データシート!$D$2:$E$5,2))","v":""},"",0,"",0]
[26,null,null,null,null,null,null,null,null,"","","","00:00","",{"$f":"IF(H29=\"\",\"\",VLOOKUP(H29,データシート!$D$2:$E$5,2))","v":""},"",0,"",0]
[27,null,null,null,null,null,null,null,null,"","","","00:00","",{"$f":"IF(H30=\"\",\"\",VLOOKUP(H30,データシート!$D$2:$E$5,2))","v":""},"",0,"",0]
[28,null,null,null,null,null,null,null,null,"","","","00:00","",{"$f":"IF(H31=\"\",\"\",VLOOKUP(H31,データシート!$D$2:$E$5,2))","v":""},"",0,"",0]
[29,null,null,null,null,null,null,null,null,"","","","00:00","",{"$f":"IF(H32=\"\",\"\",VLOOKUP(H32,データシート!$D$2:$E$5,2))","v":""},"",0,"",0]
[30,null,null,null,null,null,null,null,null,"","","","00:00","",{"$f":"IF(H33=\"\",\"\",VLOOKUP(H33,データシート!$D$2:$E$5,2))","v":""},"",0,"",0]
[]
[null,"勤務者数","総労働時間","総賃金"]
[null,{"$f":"COUNTA(C4:C33)","v":0},{"$f":"SUM(N4:N33)","v":"00:00:00"},{"$f":"SUM(R4:R33)","v":0}]

{"sheet":" 4- 5","index":11,"n_rows":36,"n_cols":19,"rows_kept":36,"cut":false,"hidden":false,"merged":[[1,9,2,9],[1,0,2,0],[1,1,2,1],[1,2,1,3],[1,4,1,5],[1,7,2,7],[1,8,2,8]]}
[null,"2021-04-05"]
["番号","氏名","勤務開始",null,"勤務終了",null,"休憩時間","時給区分","加算額","賃金"]
[null,null,"時","分","時","分","分間",null,null,null,"開始時刻","終了時刻","休憩時間","労働時間","時給","労働賃金","加算額","賃金計","出勤"]
[1,"あきら",null,null,null,null,null,null,null,{"$f":"R4","v":""},{"$f":"IF(C4=\"\",\"\",C4&\":\"&D4)","v":""},{"$f":"IF(C4=\"\",\"\",E4&\":\"&F4)","v":""},{"$f":"IF(G4=\"\",\"00:00\",\"00:\"&G4)","v":"00:00"},{"$f":"IF(K4=\"\",\"\",L4-K4-M4)","v":""},{"$f":"IF(H4=\"\",\"\",VLOOKUP(H4,データシート!$D$2:$E$5,2))","v":""},{"$f":"IF(K4=\"\",\"\",N4*24*O4)","v":""},{"$f":"IF(I4=\"\",0,I4)","v":0},{"$f":"IF(K4=\"\",\"\",ROUNDUP(P4+Q4,0))","v":""},{"$f":"IF(C4=\"\",0,1)","v":0}]
[2,"こうじ",null,null,null,null,null,null,null,"",{"$f":"IF(C5=\"\",\"\",C5&\":\"&D5)","v":""},{"$f":"IF(C5=\"\",\"\",E5&\":\"&F5)","v":""},{"$f":"IF(G5=\"\",\"00:00\",\"00:\"&G5)","v":"00:00"},{"$f":"IF(K5=\"\",\"\",L5-K5-M5)","v":""},{"$f":"IF(H5=\"\",\"\",VLOOKUP(H5,データシート!$D$2:$E$5,2))","v":""},{"$f":"IF(K5=\"\",\"\",N5*24*O5)","v":""},{"$f":"IF(I5=\"\",0,I5)","v":0},{"$f":"IF(K5=\"\",\"\",ROUNDUP(P5+Q5,0))","v":""},{"$f":"IF(C5=\"\",0,1)","v":0}]
[3,"ひろかず",null,null,null,null,null,null,null,"","","","00:00","",{"$f":"IF(H6=\"\",\"\",VLOOKUP(H6,データシート!$D$2:$E$5,2))","v":""},"",0,"",0]
[4,"さやか",null,null,null,null,null,null,null,"","","","00:00","",{"$f":"IF(H7=\"\",\"\",VLOOKUP(H7,データシート!$D$2:$E$5,2))","v":""},"",0,"",0]
[5,"れんたろう",null,null,null,null,null,null,null,"","","","00:00","",{"$f":"IF(H8=\"\",\"\",VLOOKUP(H8,データシート!$D$2:$E$5,2))","v":""},"",0,"",0]
[6,"ごろう",null,null,null,null,null,null,null,"","","","00:00","",{"$f":"IF(H9=\"\",\"\",VLOOKUP(H9,データシート!$D$2:$E$5,2))","v":""},"",0,"",0]
[7,"さぶろう",null,null,null,null,null,null,null,"","","","00:00","",{"$f":"IF(H10=\"\",\"\",VLOOKUP(H10,データシート!$D$2:$E$5,2))","v":""},"",0,"",0]
[8,"きみとし",null,null,null,null,null,null,null,"","","","00:00","",{"$f":"IF(H11=\"\",\"\",VLOOKUP(H11,データシート!$D$2:$E$5,2))","v":""},"",0,"",0]
[9,"ぶんた",null,null,null,null,null,null,null,"","","","00:00","",{"$f":"IF(H12=\"\",\"\",VLOOKUP(H12,データシート!$D$2:$E$5,2))","v":""},"",0,"",0]
[10,"あきよし",null,null,null,null,null,null,null,"","","","00:00","",{"$f":"IF(H13=\"\",\"\",VLOOKUP(H13,データシート!$D$2:$E$5,2))","v":""},"",0,"",0]
[11,"つむぐ",null,null,null,null,null,null,null,"","","","00:00","",{"$f":"IF(H14=\"\",\"\",VLOOKUP(H14,データシート!$D$2:$E$5,2))","v":""},"",0,"",0]
[12,"れお",null,null,null,null,null,null,null,"","","","00:00","",{"$f":"IF(H15=\"\",\"\",VLOOKUP(H15,データシート!$D$2:$E$5,2))","v":""},"",0,"",0]
[13,"ひびき",null,null,null,null,null,null,null,"","","","00:00","",{"$f":"IF(H16=\"\",\"\",VLOOKUP(H16,データシート!$D$2:$E$5,2))","v":""},"",0,"",0]
[14,"ゆうま",null,null,null,null,null,null,null,"","","","00:00","",{"$f":"IF(H17=\"\",\"\",VLOOKUP(H17,データシート!$D$2:$E$5,2))","v":""},"",0,"",0]
[15,"こうき",null,null,null,null,null,null,null,"","","","00:00","",{"$f":"IF(H18=\"\",\"\",VLOOKUP(H18,データシート!$D$2:$E$5,2))","v":""},"",0,"",0]
[16,"ゆめ",null,null,null,null,null,null,null,"","","","00:00","",{"$f":"IF(H19=\"\",\"\",VLOOKUP(H19,データシート!$D$2:$E$5,2))","v":""},"",0,"",0]
[17,"こたろう",null,null,null,null,null,null,null,"","","","00:00","",{"$f":"IF(H20=\"\",\"\",VLOOKUP(H20,データシート!$D$2:$E$5,2))","v":""},"",0,"",0]
[18,"ゆうしょう",null,null,null,null,null,null,null,"","","","00:00","",{"$f":"IF(H21=\"\",\"\",VLOOKUP(H21,データシート!$D$2:$E$5,2))","v":""},"",0,"",0]
[19,"けんと",null,null,null,null,null,null,null,"","","","00:00","",{"$f":"IF(H22=\"\",\"\",VLOOKUP(H22,データシート!$D$2:$E$5,2))","v":""},"",0,"",0]
[20,"あやか",null,null,null,null,null,null,null,"","","","00:00","",{"$f":"IF(H23=\"\",\"\",VLOOKUP(H23,データシート!$D$2:$E$5,2))","v":""},"",0,"",0]
[21,"さんし",null,null,null,null,null,null,null,"","","","00:00","",{"$f":"IF(H24=\"\",\"\",VLOOKUP(H24,データシート!$D$2:$E$5,2))","v":""},"",0,"",0]
[22,null,null,null,null,null,null,null,null,"","","","00:00","",{"$f":"IF(H25=\"\",\"\",VLOOKUP(H25,データシート!$D$2:$E$5,2))","v":""},"",0,"",0]
[23,null,null,null,null,null,null,null,null,"","","","00:00","",{"$f":"IF(H26=\"\",\"\",VLOOKUP(H26,データシート!$D$2:$E$5,2))","v":""},"",0,"",0]
[24,null,null,null,null,null,null,null,null,"","","","00:00","",{"$f":"IF(H27=\"\",\"\",VLOOKUP(H27,データシート!$D$2:$E$5,2))","v":""},"",0,"",0]
[25,null,null,null,null,null,null,null,null,"","","","00:00","",{"$f":"IF(H28=\"\",\"\",VLOOKUP(H28,データシート!$D$2:$E$5,2))","v":""},"",0,"",0]
[26,null,null,null,null,null,null,null,null,"","","","00:00","",{"$f":"IF(H29=\"\",\"\",VLOOKUP(H29,データシート!$D$2:$E$5,2))","v":""},"",0,"",0]
[27,null,null,null,null,null,null,null,null,"","","","00:00","",{"$f":"IF(H30=\"\",\"\",VLOOKUP(H30,データシート!$D$2:$E$5,2))","v":""},"",0,"",0]
[28,null,null,null,null,null,null,null,null,"","","","00:00","",{"$f":"IF(H31=\"\",\"\",VLOOKUP(H31,データシート!$D$2:$E$5,2))","v":""},"",0,"",0]
[29,null,null,null,null,null,null,null,null,"","","","00:00","",{"$f":"IF(H32=\"\",\"\",VLOOKUP(H32,データシート!$D$2:$E$5,2))","v":""},"",0,"",0]
[30,null,null,null,null,null,null,null,null,"","","","00:00","",{"$f":"IF(H33=\"\",\"\",VLOOKUP(H33,データシート!$D$2:$E$5,2))","v":""},"",0,"",0]
[]
[null,"勤務者数","総労働時間","総賃金"]
[null,{"$f":"COUNTA(C4:C33)","v":0},{"$f":"SUM(N4:N33)","v":"00:00:00"},{"$f":"SUM(R4:R33)","v":0}]

{"sheet":" 4- 6","index":12,"n_rows":36,"n_cols":19,"rows_kept":36,"cut":false,"hidden":false,"merged":[[1,9,2,9],[1,0,2,0],[1,1,2,1],[1,2,1,3],[1,4,1,5],[1,7,2,7],[1,8,2,8]]}
[null,"2021-04-06"]
["番号","氏名","勤務開始",null,"勤務終了",null,"休憩時間","時給区分","加算額","賃金"]
[null,null,"時","分","時","分","分間",null,null,null,"開始時刻","終了時刻","休憩時間","労働時間","時給","労働賃金","加算額","賃金計","出勤"]
[1,"あきら",null,null,null,null,null,null,null,{"$f":"R4","v":""},{"$f":"IF(C4=\"\",\"\",C4&\":\"&D4)","v":""},{"$f":"IF(C4=\"\",\"\",E4&\":\"&F4)","v":""},{"$f":"IF(G4=\"\",\"00:00\",\"00:\"&G4)","v":"00:00"},{"$f":"IF(K4=\"\",\"\",L4-K4-M4)","v":""},{"$f":"IF(H4=\"\",\"\",VLOOKUP(H4,データシート!$D$2:$E$5,2))","v":""},{"$f":"IF(K4=\"\",\"\",N4*24*O4)","v":""},{"$f":"IF(I4=\"\",0,I4)","v":0},{"$f":"IF(K4=\"\",\"\",ROUNDUP(P4+Q4,0))","v":""},{"$f":"IF(C4=\"\",0,1)","v":0}]
[2,"こうじ",null,null,null,null,null,null,null,"",{"$f":"IF(C5=\"\",\"\",C5&\":\"&D5)","v":""},{"$f":"IF(C5=\"\",\"\",E5&\":\"&F5)","v":""},{"$f":"IF(G5=\"\",\"00:00\",\"00:\"&G5)","v":"00:00"},{"$f":"IF(K5=\"\",\"\",L5-K5-M5)","v":""},{"$f":"IF(H5=\"\",\"\",VLOOKUP(H5,データシート!$D$2:$E$5,2))","v":""},{"$f":"IF(K5=\"\",\"\",N5*24*O5)","v":""},{"$f":"IF(I5=\"\",0,I5)","v":0},{"$f":"IF(K5=\"\",\"\",ROUNDUP(P5+Q5,0))","v":""},{"$f":"IF(C5=\"\",0,1)","v":0}]
[3,"ひろかず",null,null,null,null,null,null,null,"","","","00:00","",{"$f":"IF(H6=\"\",\"\",VLOOKUP(H6,データシート!$D$2:$E$5,2))","v":""},"",0,"",0]
[4,"さやか",null,null,null,null,null,null,null,"","","","00:00","",{"$f":"IF(H7=\"\",\"\",VLOOKUP(H7,データシート!$D$2:$E$5,2))","v":""},"",0,"",0]
[5,"れんたろう",null,null,null,null,null,null,null,"","","","00:00","",{"$f":"IF(H8=\"\",\"\",VLOOKUP(H8,データシート!$D$2:$E$5,2))","v":""},"",0,"",0]
[6,"ごろう",null,null,null,null,null,null,null,"","","","00:00","",{"$f":"IF(H9=\"\",\"\",VLOOKUP(H9,データシート!$D$2:$E$5,2))","v":""},"",0,"",0]
[7,"さぶろう",null,null,null,null,null,null,null,"","","","00:00","",{"$f":"IF(H10=\"\",\"\",VLOOKUP(H10,データシート!$D$2:$E$5,2))","v":""},"",0,"",0]
[8,"きみとし",null,null,null,null,null,null,null,"","","","00:00","",{"$f":"IF(H11=\"\",\"\",VLOOKUP(H11,データシート!$D$2:$E$5,2))","v":""},"",0,"",0]
[9,"ぶんた",null,null,null,null,null,null,null,"","","","00:00","",{"$f":"IF(H12=\"\",\"\",VLOOKUP(H12,データシート!$D$2:$E$5,2))","v":""},"",0,"",0]
[10,"あきよし",null,null,null,null,null,null,null,"","","","00:00","",{"$f":"IF(H13=\"\",\"\",VLOOKUP(H13,データシート!$D$2:$E$5,2))","v":""},"",0,"",0]
[11,"つむぐ",null,null,null,null,null,null,null,"","","","00:00","",{"$f":"IF(H14=\"\",\"\",VLOOKUP(H14,データシート!$D$2:$E$5,2))","v":""},"",0,"",0]
[12,"れお",null,null,null,null,null,null,null,"","","","00:00","",{"$f":"IF(H15=\"\",\"\",VLOOKUP(H15,データシート!$D$2:$E$5,2))","v":""},"",0,"",0]
[13,"ひびき",null,null,null,null,null,null,null,"","","","00:00","",{"$f":"IF(H16=\"\",\"\",VLOOKUP(H16,データシート!$D$2:$E$5,2))","v":""},"",0,"",0]
[14,"ゆうま",null,null,null,null,null,null,null,"","","","00:00","",{"$f":"IF(H17=\"\",\"\",VLOOKUP(H17,データシート!$D$2:$E$5,2))","v":""},"",0,"",0]
[15,"こうき",null,null,null,null,null,null,null,"","","","00:00","",{"$f":"IF(H18=\"\",\"\",VLOOKUP(H18,データシート!$D$2:$E$5,2))","v":""},"",0,"",0]
[16,"ゆめ",null,null,null,null,null,null,null,"","","","00:00","",{"$f":"IF(H19=\"\",\"\",VLOOKUP(H19,データシート!$D$2:$E$5,2))","v":""},"",0,"",0]
[17,"こたろう",null,null,null,null,null,null,null,"","","","00:00","",{"$f":"IF(H20=\"\",\"\",VLOOKUP(H20,データシート!$D$2:$E$5,2))","v":""},"",0,"",0]
[18,"ゆうしょう",null,null,null,null,null,null,null,"","","","00:00","",{"$f":"IF(H21=\"\",\"\",VLOOKUP(H21,データシート!$D$2:$E$5,2))","v":""},"",0,"",0]
[19,"けんと",null,null,null,null,null,null,null,"","","","00:00","",{"$f":"IF(H22=\"\",\"\",VLOOKUP(H22,データシート!$D$2:$E$5,2))","v":""},"",0,"",0]
[20,"あやか",null,null,null,null,null,null,null,"","","","00:00","",{"$f":"IF(H23=\"\",\"\",VLOOKUP(H23,データシート!$D$2:$E$5,2))","v":""},"",0,"",0]
[21,"さんし",null,null,null,null,null,null,null,"","","","00:00","",{"$f":"IF(H24=\"\",\"\",VLOOKUP(H24,データシート!$D$2:$E$5,2))","v":""},"",0,"",0]
[22,null,null,null,null,null,null,null,null,"","","","00:00","",{"$f":"IF(H25=\"\",\"\",VLOOKUP(H25,データシート!$D$2:$E$5,2))","v":""},"",0,"",0]
[23,null,null,null,null,null,null,null,null,"","","","00:00","",{"$f":"IF(H26=\"\",\"\",VLOOKUP(H26,データシート!$D$2:$E$5,2))","v":""},"",0,"",0]
[24,null,null,null,null,null,null,null,null,"","","","00:00","",{"$f":"IF(H27=\"\",\"\",VLOOKUP(H27,データシート!$D$2:$E$5,2))","v":""},"",0,"",0]
[25,null,null,null,null,null,null,null,null,"","","","00:00","",{"$f":"IF(H28=\"\",\"\",VLOOKUP(H28,データシート!$D$2:$E$5,2))","v":""},"",0,"",0]
[26,null,null,null,null,null,null,null,null,"","","","00:00","",{"$f":"IF(H29=\"\",\"\",VLOOKUP(H29,データシート!$D$2:$E$5,2))","v":""},"",0,"",0]
[27,null,null,null,null,null,null,null,null,"","","","00:00","",{"$f":"IF(H30=\"\",\"\",VLOOKUP(H30,データシート!$D$2:$E$5,2))","v":""},"",0,"",0]
[28,null,null,null,null,null,null,null,null,"","","","00:00","",{"$f":"IF(H31=\"\",\"\",VLOOKUP(H31,データシート!$D$2:$E$5,2))","v":""},"",0,"",0]
[29,null,null,null,null,null,null,null,null,"","","","00:00","",{"$f":"IF(H32=\"\",\"\",VLOOKUP(H32,データシート!$D$2:$E$5,2))","v":""},"",0,"",0]
[30,null,null,null,null,null,null,null,null,"","","","00:00","",{"$f":"IF(H33=\"\",\"\",VLOOKUP(H33,データシート!$D$2:$E$5,2))","v":""},"",0,"",0]
[]
[null,"勤務者数","総労働時間","総賃金"]
[null,{"$f":"COUNTA(C4:C33)","v":0},{"$f":"SUM(N4:N33)","v":"00:00:00"},{"$f":"SUM(R4:R33)","v":0}]

{"sheet":" 4- 7","index":13,"n_rows":36,"n_cols":19,"rows_kept":36,"cut":false,"hidden":false,"merged":[[1,9,2,9],[1,0,2,0],[1,1,2,1],[1,2,1,3],[1,4,1,5],[1,7,2,7],[1,8,2,8]]}
[null,"2021-04-07"]
["番号","氏名","勤務開始",null,"勤務終了",null,"休憩時間","時給区分","加算額","賃金"]
[null,null,"時","分","時","分","分間",null,null,null,"開始時刻","終了時刻","休憩時間","労働時間","時給","労働賃金","加算額","賃金計","出勤"]
[1,"あきら",null,null,null,null,null,null,null,{"$f":"R4","v":""},{"$f":"IF(C4=\"\",\"\",C4&\":\"&D4)","v":""},{"$f":"IF(C4=\"\",\"\",E4&\":\"&F4)","v":""},{"$f":"IF(G4=\"\",\"00:00\",\"00:\"&G4)","v":"00:00"},{"$f":"IF(K4=\"\",\"\",L4-K4-M4)","v":""},{"$f":"IF(H4=\"\",\"\",VLOOKUP(H4,データシート!$D$2:$E$5,2))","v":""},{"$f":"IF(K4=\"\",\"\",N4*24*O4)","v":""},{"$f":"IF(I4=\"\",0,I4)","v":0},{"$f":"IF(K4=\"\",\"\",ROUNDUP(P4+Q4,0))","v":""},{"$f":"IF(C4=\"\",0,1)","v":0}]
[2,"こうじ",null,null,null,null,null,null,null,"",{"$f":"IF(C5=\"\",\"\",C5&\":\"&D5)","v":""},{"$f":"IF(C5=\"\",\"\",E5&\":\"&F5)","v":""},{"$f":"IF(G5=\"\",\"00:00\",\"00:\"&G5)","v":"00:00"},{"$f":"IF(K5=\"\",\"\",L5-K5-M5)","v":""},{"$f":"IF(H5=\"\",\"\",VLOOKUP(H5,データシート!$D$2:$E$5,2))","v":""},{"$f":"IF(K5=\"\",\"\",N5*24*O5)","v":""},{"$f":"IF(I5=\"\",0,I5)","v":0},{"$f":"IF(K5=\"\",\"\",ROUNDUP(P5+Q5,0))","v":""},{"$f":"IF(C5=\"\",0,1)","v":0}]
[3,"ひろかず",null,null,null,null,null,null,null,"","","","00:00","",{"$f":"IF(H6=\"\",\"\",VLOOKUP(H6,データシート!$D$2:$E$5,2))","v":""},"",0,"",0]
[4,"さやか",null,null,null,null,null,null,null,"","","","00:00","",{"$f":"IF(H7=\"\",\"\",VLOOKUP(H7,データシート!$D$2:$E$5,2))","v":""},"",0,"",0]
[5,"れんたろう",null,null,null,null,null,null,null,"","","","00:00","",{"$f":"IF(H8=\"\",\"\",VLOOKUP(H8,データシート!$D$2:$E$5,2))","v":""},"",0,"",0]
[6,"ごろう",null,null,null,null,null,null,null,"","","","00:00","",{"$f":"IF(H9=\"\",\"\",VLOOKUP(H9,データシート!$D$2:$E$5,2))","v":""},"",0,"",0]
[7,"さぶろう",null,null,null,null,null,null,null,"","","","00:00","",{"$f":"IF(H10=\"\",\"\",VLOOKUP(H10,データシート!$D$2:$E$5,2))","v":""},"",0,"",0]
[8,"きみとし",null,null,null,null,null,null,null,"","","","00:00","",{"$f":"IF(H11=\"\",\"\",VLOOKUP(H11,データシート!$D$2:$E$5,2))","v":""},"",0,"",0]
[9,"ぶんた",null,null,null,null,null,null,null,"","","","00:00","",{"$f":"IF(H12=\"\",\"\",VLOOKUP(H12,データシート!$D$2:$E$5,2))","v":""},"",0,"",0]
[10,"あきよし",null,null,null,null,null,null,null,"","","","00:00","",{"$f":"IF(H13=\"\",\"\",VLOOKUP(H13,データシート!$D$2:$E$5,2))","v":""},"",0,"",0]
[11,"つむぐ",null,null,null,null,null,null,null,"","","","00:00","",{"$f":"IF(H14=\"\",\"\",VLOOKUP(H14,データシート!$D$2:$E$5,2))","v":""},"",0,"",0]
[12,"れお",null,null,null,null,null,null,null,"","","","00:00","",{"$f":"IF(H15=\"\",\"\",VLOOKUP(H15,データシート!$D$2:$E$5,2))","v":""},"",0,"",0]
[13,"ひびき",null,null,null,null,null,null,null,"","","","00:00","",{"$f":"IF(H16=\"\",\"\",VLOOKUP(H16,データシート!$D$2:$E$5,2))","v":""},"",0,"",0]
[14,"ゆうま",null,null,null,null,null,null,null,"","","","00:00","",{"$f":"IF(H17=\"\",\"\",VLOOKUP(H17,データシート!$D$2:$E$5,2))","v":""},"",0,"",0]
[15,"こうき",null,null,null,null,null,null,null,"","","","00:00","",{"$f":"IF(H18=\"\",\"\",VLOOKUP(H18,データシート!$D$2:$E$5,2))","v":""},"",0,"",0]
[16,"ゆめ",null,null,null,null,null,null,null,"","","","00:00","",{"$f":"IF(H19=\"\",\"\",VLOOKUP(H19,データシート!$D$2:$E$5,2))","v":""},"",0,"",0]
[17,"こたろう",null,null,null,null,null,null,null,"","","","00:00","",{"$f":"IF(H20=\"\",\"\",VLOOKUP(H20,データシート!$D$2:$E$5,2))","v":""},"",0,"",0]
[18,"ゆうしょう",null,null,null,null,null,null,null,"","","","00:00","",{"$f":"IF(H21=\"\",\"\",VLOOKUP(H21,データシート!$D$2:$E$5,2))","v":""},"",0,"",0]
[19,"けんと",null,null,null,null,null,null,null,"","","","00:00","",{"$f":"IF(H22=\"\",\"\",VLOOKUP(H22,データシート!$D$2:$E$5,2))","v":""},"",0,"",0]
[20,"あやか",null,null,null,null,null,null,null,"","","","00:00","",{"$f":"IF(H23=\"\",\"\",VLOOKUP(H23,データシート!$D$2:$E$5,2))","v":""},"",0,"",0]
[21,"さんし",null,null,null,null,null,null,null,"","","","00:00","",{"$f":"IF(H24=\"\",\"\",VLOOKUP(H24,データシート!$D$2:$E$5,2))","v":""},"",0,"",0]
[22,null,null,null,null,null,null,null,null,"","","","00:00","",{"$f":"IF(H25=\"\",\"\",VLOOKUP(H25,データシート!$D$2:$E$5,2))","v":""},"",0,"",0]
[23,null,null,null,null,null,null,null,null,"","","","00:00","",{"$f":"IF(H26=\"\",\"\",VLOOKUP(H26,データシート!$D$2:$E$5,2))","v":""},"",0,"",0]
[24,null,null,null,null,null,null,null,null,"","","","00:00","",{"$f":"IF(H27=\"\",\"\",VLOOKUP(H27,データシート!$D$2:$E$5,2))","v":""},"",0,"",0]
[25,null,null,null,null,null,null,null,null,"","","","00:00","",{"$f":"IF(H28=\"\",\"\",VLOOKUP(H28,データシート!$D$2:$E$5,2))","v":""},"",0,"",0]
[26,null,null,null,null,null,null,null,null,"","","","00:00","",{"$f":"IF(H29=\"\",\"\",VLOOKUP(H29,データシート!$D$2:$E$5,2))","v":""},"",0,"",0]
[27,null,null,null,null,null,null,null,null,"","","","00:00","",{"$f":"IF(H30=\"\",\"\",VLOOKUP(H30,データシート!$D$2:$E$5,2))","v":""},"",0,"",0]
[28,null,null,null,null,null,null,null,null,"","","","00:00","",{"$f":"IF(H31=\"\",\"\",VLOOKUP(H31,データシート!$D$2:$E$5,2))","v":""},"",0,"",0]
[29,null,null,null,null,null,null,null,null,"","","","00:00","",{"$f":"IF(H32=\"\",\"\",VLOOKUP(H32,データシート!$D$2:$E$5,2))","v":""},"",0,"",0]
[30,null,null,null,null,null,null,null,null,"","","","00:00","",{"$f":"IF(H33=\"\",\"\",VLOOKUP(H33,データシート!$D$2:$E$5,2))","v":""},"",0,"",0]
[]
[null,"勤務者数","総労働時間","総賃金"]
[null,{"$f":"COUNTA(C4:C33)","v":0},{"$f":"SUM(N4:N33)","v":"00:00:00"},{"$f":"SUM(R4:R33)","v":0}]

{"sheet":" 4- 8","index":14,"n_rows":36,"n_cols":19,"rows_kept":36,"cut":false,"hidden":false,"merged":[[1,9,2,9],[1,0,2,0],[1,1,2,1],[1,2,1,3],[1,4,1,5],[1,7,2,7],[1,8,2,8]]}
[null,"2021-04-08"]
["番号","氏名","勤務開始",null,"勤務終了",null,"休憩時間","時給区分","加算額","賃金"]
[null,null,"時","分","時","分","分間",null,null,null,"開始時刻","終了時刻","休憩時間","労働時間","時給","労働賃金","加算額","賃金計","出勤"]
[1,"あきら",null,null,null,null,null,null,null,{"$f":"R4","v":""},{"$f":"IF(C4=\"\",\"\",C4&\":\"&D4)","v":""},{"$f":"IF(C4=\"\",\"\",E4&\":\"&F4)","v":""},{"$f":"IF(G4=\"\",\"00:00\",\"00:\"&G4)","v":"00:00"},{"$f":"IF(K4=\"\",\"\",L4-K4-M4)","v":""},{"$f":"IF(H4=\"\",\"\",VLOOKUP(H4,データシート!$D$2:$E$5,2))","v":""},{"$f":"IF(K4=\"\",\"\",N4*24*O4)","v":""},{"$f":"IF(I4=\"\",0,I4)","v":0},{"$f":"IF(K4=\"\",\"\",ROUNDUP(P4+Q4,0))","v":""},{"$f":"IF(C4=\"\",0,1)","v":0}]
[2,"こうじ","01","45","07","45",null,"B",null,5460,{"$f":"IF(C5=\"\",\"\",C5&\":\"&D5)","v":"01:45"},{"$f":"IF(C5=\"\",\"\",E5&\":\"&F5)","v":"07:45"},{"$f":"IF(G5=\"\",\"00:00\",\"00:\"&G5)","v":"00:00"},{"$f":"IF(K5=\"\",\"\",L5-K5-M5)","v":"06:00:00"},{"$f":"IF(H5=\"\",\"\",VLOOKUP(H5,データシート!$D$2:$E$5,2))","v":910},{"$f":"IF(K5=\"\",\"\",N5*24*O5)","v":5460},{"$f":"IF(I5=\"\",0,I5)","v":0},{"$f":"IF(K5=\"\",\"\",ROUNDUP(P5+Q5,0))","v":5460},{"$f":"IF(C5=\"\",0,1)","v":1}]
[3,"ひろかず",null,null,null,null,null,null,null,"","","","00:00","",{"$f":"IF(H6=\"\",\"\",VLOOKUP(H6,データシート!$D$2:$E$5,2))","v":""},"",0,"",0]
[4,"さやか",null,null,null,null,null,null,null,"","","","00:00","",{"$f":"IF(H7=\"\",\"\",VLOOKUP(H7,データシート!$D$2:$E$5,2))","v":""},"",0,"",0]
[5,"れんたろう",null,null,null,null,null,null,null,"","","","00:00","",{"$f":"IF(H8=\"\",\"\",VLOOKUP(H8,データシート!$D$2:$E$5,2))","v":""},"",0,"",0]
[6,"ごろう",null,null,null,null,null,null,null,"","","","00:00","",{"$f":"IF(H9=\"\",\"\",VLOOKUP(H9,データシート!$D$2:$E$5,2))","v":""},"",0,"",0]
[7,"さぶろう",null,null,null,null,null,null,null,"","","","00:00","",{"$f":"IF(H10=\"\",\"\",VLOOKUP(H10,データシート!$D$2:$E$5,2))","v":""},"",0,"",0]
[8,"きみとし",null,null,null,null,null,null,null,"","","","00:00","",{"$f":"IF(H11=\"\",\"\",VLOOKUP(H11,データシート!$D$2:$E$5,2))","v":""},"",0,"",0]
[9,"ぶんた",null,null,null,null,null,null,null,"","","","00:00","",{"$f":"IF(H12=\"\",\"\",VLOOKUP(H12,データシート!$D$2:$E$5,2))","v":""},"",0,"",0]
[10,"あきよし",null,null,null,null,null,null,null,"","","","00:00","",{"$f":"IF(H13=\"\",\"\",VLOOKUP(H13,データシート!$D$2:$E$5,2))","v":""},"",0,"",0]
[11,"つむぐ",null,null,null,null,null,null,null,"","","","00:00","",{"$f":"IF(H14=\"\",\"\",VLOOKUP(H14,データシート!$D$2:$E$5,2))","v":""},"",0,"",0]
[12,"れお",null,null,null,null,null,null,null,"","","","00:00","",{"$f":"IF(H15=\"\",\"\",VLOOKUP(H15,データシート!$D$2:$E$5,2))","v":""},"",0,"",0]
[13,"ひびき",null,null,null,null,null,null,null,"","","","00:00","",{"$f":"IF(H16=\"\",\"\",VLOOKUP(H16,データシート!$D$2:$E$5,2))","v":""},"",0,"",0]
[14,"ゆうま",null,null,null,null,null,null,null,"","","","00:00","",{"$f":"IF(H17=\"\",\"\",VLOOKUP(H17,データシート!$D$2:$E$5,2))","v":""},"",0,"",0]
[15,"こうき",null,null,null,null,null,null,null,"","","","00:00","",{"$f":"IF(H18=\"\",\"\",VLOOKUP(H18,データシート!$D$2:$E$5,2))","v":""},"",0,"",0]
[16,"ゆめ",null,null,null,null,null,null,null,"","","","00:00","",{"$f":"IF(H19=\"\",\"\",VLOOKUP(H19,データシート!$D$2:$E$5,2))","v":""},"",0,"",0]
[17,"こたろう","00","00","08","00",60,"A",null,6300,"00:00","08:00","00:60","07:00:00",{"$f":"IF(H20=\"\",\"\",VLOOKUP(H20,データシート!$D$2:$E$5,2))","v":900},6299.9999999999991,0,6300,1]
[18,"ゆうしょう",null,null,null,null,null,null,null,"","","","00:00","",{"$f":"IF(H21=\"\",\"\",VLOOKUP(H21,データシート!$D$2:$E$5,2))","v":""},"",0,"",0]
[19,"けんと",null,null,null,null,null,null,null,"","","","00:00","",{"$f":"IF(H22=\"\",\"\",VLOOKUP(H22,データシート!$D$2:$E$5,2))","v":""},"",0,"",0]
[20,"あやか",null,null,null,null,null,null,null,"","","","00:00","",{"$f":"IF(H23=\"\",\"\",VLOOKUP(H23,データシート!$D$2:$E$5,2))","v":""},"",0,"",0]
[21,"さんし",null,null,null,null,null,null,null,"","","","00:00","",{"$f":"IF(H24=\"\",\"\",VLOOKUP(H24,データシート!$D$2:$E$5,2))","v":""},"",0,"",0]
[22,null,null,null,null,null,null,null,null,"","","","00:00","",{"$f":"IF(H25=\"\",\"\",VLOOKUP(H25,データシート!$D$2:$E$5,2))","v":""},"",0,"",0]
[23,null,null,null,null,null,null,null,null,"","","","00:00","",{"$f":"IF(H26=\"\",\"\",VLOOKUP(H26,データシート!$D$2:$E$5,2))","v":""},"",0,"",0]
[24,null,null,null,null,null,null,null,null,"","","","00:00","",{"$f":"IF(H27=\"\",\"\",VLOOKUP(H27,データシート!$D$2:$E$5,2))","v":""},"",0,"",0]
[25,null,null,null,null,null,null,null,null,"","","","00:00","",{"$f":"IF(H28=\"\",\"\",VLOOKUP(H28,データシート!$D$2:$E$5,2))","v":""},"",0,"",0]
[26,null,null,null,null,null,null,null,null,"","","","00:00","",{"$f":"IF(H29=\"\",\"\",VLOOKUP(H29,データシート!$D$2:$E$5,2))","v":""},"",0,"",0]
[27,null,null,null,null,null,null,null,null,"","","","00:00","",{"$f":"IF(H30=\"\",\"\",VLOOKUP(H30,データシート!$D$2:$E$5,2))","v":""},"",0,"",0]
[28,null,null,null,null,null,null,null,null,"","","","00:00","",{"$f":"IF(H31=\"\",\"\",VLOOKUP(H31,データシート!$D$2:$E$5,2))","v":""},"",0,"",0]
[29,null,null,null,null,null,null,null,null,"","","","00:00","",{"$f":"IF(H32=\"\",\"\",VLOOKUP(H32,データシート!$D$2:$E$5,2))","v":""},"",0,"",0]
[30,null,null,null,null,null,null,null,null,"","","","00:00","",{"$f":"IF(H33=\"\",\"\",VLOOKUP(H33,データシート!$D$2:$E$5,2))","v":""},"",0,"",0]
[]
[null,"勤務者数","総労働時間","総賃金"]
[null,{"$f":"COUNTA(C4:C33)","v":2},{"$f":"SUM(N4:N33)","v":"13:00:00"},{"$f":"SUM(R4:R33)","v":11760}]

{"sheet":" 4- 9","index":15,"n_rows":36,"n_cols":19,"rows_kept":36,"cut":false,"hidden":false,"merged":[[1,9,2,9],[1,0,2,0],[1,1,2,1],[1,2,1,3],[1,4,1,5],[1,7,2,7],[1,8,2,8]]}
[null,"2021-04-09"]
["番号","氏名","勤務開始",null,"勤務終了",null,"休憩時間","時給区分","加算額","賃金"]
[null,null,"時","分","時","分","分間",null,null,null,"開始時刻","終了時刻","休憩時間","労働時間","時給","労働賃金","加算額","賃金計","出勤"]
[1,"あきら","09","00","11","00",null,"A",null,{"$f":"R4","v":1800},{"$f":"IF(C4=\"\",\"\",C4&\":\"&D4)","v":"09:00"},{"$f":"IF(C4=\"\",\"\",E4&\":\"&F4)","v":"11:00"},{"$f":"IF(G4=\"\",\"00:00\",\"00:\"&G4)","v":"00:00"},{"$f":"IF(K4=\"\",\"\",L4-K4-M4)","v":"02:00:00"},{"$f":"IF(H4=\"\",\"\",VLOOKUP(H4,データシート!$D$2:$E$5,2))","v":900},{"$f":"IF(K4=\"\",\"\",N4*24*O4)","v":1799.9999999999995},{"$f":"IF(I4=\"\",0,I4)","v":0},{"$f":"IF(K4=\"\",\"\",ROUNDUP(P4+Q4,0))","v":1800},{"$f":"IF(C4=\"\",0,1)","v":1}]
[2,"こうじ",null,null,null,null,null,null,null,"",{"$f":"IF(C5=\"\",\"\",C5&\":\"&D5)","v":""},{"$f":"IF(C5=\"\",\"\",E5&\":\"&F5)","v":""},{"$f":"IF(G5=\"\",\"00:00\",\"00:\"&G5)","v":"00:00"},{"$f":"IF(K5=\"\",\"\",L5-K5-M5)","v":""},{"$f":"IF(H5=\"\",\"\",VLOOKUP(H5,データシート!$D$2:$E$5,2))","v":""},{"$f":"IF(K5=\"\",\"\",N5*24*O5)","v":""},{"$f":"IF(I5=\"\",0,I5)","v":0},{"$f":"IF(K5=\"\",\"\",ROUNDUP(P5+Q5,0))","v":""},{"$f":"IF(C5=\"\",0,1)","v":0}]
[3,"ひろかず",null,null,null,null,null,null,null,"","","","00:00","",{"$f":"IF(H6=\"\",\"\",VLOOKUP(H6,データシート!$D$2:$E$5,2))","v":""},"",0,"",0]
[4,"さやか",null,null,null,null,null,null,null,"","","","00:00","",{"$f":"IF(H7=\"\",\"\",VLOOKUP(H7,データシート!$D$2:$E$5,2))","v":""},"",0,"",0]
[5,"れんたろう",null,null,null,null,null,null,null,"","","","00:00","",{"$f":"IF(H8=\"\",\"\",VLOOKUP(H8,データシート!$D$2:$E$5,2))","v":""},"",0,"",0]
[6,"ごろう",null,null,null,null,null,null,null,"","","","00:00","",{"$f":"IF(H9=\"\",\"\",VLOOKUP(H9,データシート!$D$2:$E$5,2))","v":""},"",0,"",0]
[7,"さぶろう",null,null,null,null,null,null,null,"","","","00:00","",{"$f":"IF(H10=\"\",\"\",VLOOKUP(H10,データシート!$D$2:$E$5,2))","v":""},"",0,"",0]
[8,"きみとし",null,null,null,null,null,null,null,"","","","00:00","",{"$f":"IF(H11=\"\",\"\",VLOOKUP(H11,データシート!$D$2:$E$5,2))","v":""},"",0,"",0]
[9,"ぶんた",null,null,null,null,null,null,null,"","","","00:00","",{"$f":"IF(H12=\"\",\"\",VLOOKUP(H12,データシート!$D$2:$E$5,2))","v":""},"",0,"",0]
[10,"あきよし",null,null,null,null,null,null,null,"","","","00:00","",{"$f":"IF(H13=\"\",\"\",VLOOKUP(H13,データシート!$D$2:$E$5,2))","v":""},"",0,"",0]
[11,"つむぐ",null,null,null,null,null,null,null,"","","","00:00","",{"$f":"IF(H14=\"\",\"\",VLOOKUP(H14,データシート!$D$2:$E$5,2))","v":""},"",0,"",0]
[12,"れお",null,null,null,null,null,null,null,"","","","00:00","",{"$f":"IF(H15=\"\",\"\",VLOOKUP(H15,データシート!$D$2:$E$5,2))","v":""},"",0,"",0]
[13,"ひびき",null,null,null,null,null,null,null,"","","","00:00","",{"$f":"IF(H16=\"\",\"\",VLOOKUP(H16,データシート!$D$2:$E$5,2))","v":""},"",0,"",0]
[14,"ゆうま",null,null,null,null,null,null,null,"","","","00:00","",{"$f":"IF(H17=\"\",\"\",VLOOKUP(H17,データシート!$D$2:$E$5,2))","v":""},"",0,"",0]
[15,"こうき",null,null,null,null,null,null,null,"","","","00:00","",{"$f":"IF(H18=\"\",\"\",VLOOKUP(H18,データシート!$D$2:$E$5,2))","v":""},"",0,"",0]
[16,"ゆめ",null,null,null,null,null,null,null,"","","","00:00","",{"$f":"IF(H19=\"\",\"\",VLOOKUP(H19,データシート!$D$2:$E$5,2))","v":""},"",0,"",0]
[17,"こたろう",null,null,null,null,null,null,null,"","","","00:00","",{"$f":"IF(H20=\"\",\"\",VLOOKUP(H20,データシート!$D$2:$E$5,2))","v":""},"",0,"",0]
[18,"ゆうしょう",null,null,null,null,null,null,null,"","","","00:00","",{"$f":"IF(H21=\"\",\"\",VLOOKUP(H21,データシート!$D$2:$E$5,2))","v":""},"",0,"",0]
[19,"けんと",null,null,null,null,null,null,null,"","","","00:00","",{"$f":"IF(H22=\"\",\"\",VLOOKUP(H22,データシート!$D$2:$E$5,2))","v":""},"",0,"",0]
[20,"あやか",null,null,null,null,null,null,null,"","","","00:00","",{"$f":"IF(H23=\"\",\"\",VLOOKUP(H23,データシート!$D$2:$E$5,2))","v":""},"",0,"",0]
[21,"さんし",null,null,null,null,null,null,null,"","","","00:00","",{"$f":"IF(H24=\"\",\"\",VLOOKUP(H24,データシート!$D$2:$E$5,2))","v":""},"",0,"",0]
[22,null,null,null,null,null,null,null,null,"","","","00:00","",{"$f":"IF(H25=\"\",\"\",VLOOKUP(H25,データシート!$D$2:$E$5,2))","v":""},"",0,"",0]
[23,null,null,null,null,null,null,null,null,"","","","00:00","",{"$f":"IF(H26=\"\",\"\",VLOOKUP(H26,データシート!$D$2:$E$5,2))","v":""},"",0,"",0]
[24,null,null,null,null,null,null,null,null,"","","","00:00","",{"$f":"IF(H27=\"\",\"\",VLOOKUP(H27,データシート!$D$2:$E$5,2))","v":""},"",0,"",0]
[25,null,null,null,null,null,null,null,null,"","","","00:00","",{"$f":"IF(H28=\"\",\"\",VLOOKUP(H28,データシート!$D$2:$E$5,2))","v":""},"",0,"",0]
[26,null,null,null,null,null,null,null,null,"","","","00:00","",{"$f":"IF(H29=\"\",\"\",VLOOKUP(H29,データシート!$D$2:$E$5,2))","v":""},"",0,"",0]
[27,null,null,null,null,null,null,null,null,"","","","00:00","",{"$f":"IF(H30=\"\",\"\",VLOOKUP(H30,データシート!$D$2:$E$5,2))","v":""},"",0,"",0]
[28,null,null,null,null,null,null,null,null,"","","","00:00","",{"$f":"IF(H31=\"\",\"\",VLOOKUP(H31,データシート!$D$2:$E$5,2))","v":""},"",0,"",0]
[29,null,null,null,null,null,null,null,null,"","","","00:00","",{"$f":"IF(H32=\"\",\"\",VLOOKUP(H32,データシート!$D$2:$E$5,2))","v":""},"",0,"",0]
[30,null,null,null,null,null,null,null,null,"","","","00:00","",{"$f":"IF(H33=\"\",\"\",VLOOKUP(H33,データシート!$D$2:$E$5,2))","v":""},"",0,"",0]
[]
[null,"勤務者数","総労働時間","総賃金"]
[null,{"$f":"COUNTA(C4:C33)","v":1},{"$f":"SUM(N4:N33)","v":"02:00:00"},{"$f":"SUM(R4:R33)","v":1800}]

{"sheet":" 4- 10","index":16,"n_rows":36,"n_cols":19,"rows_kept":36,"cut":false,"hidden":false,"merged":[[1,9,2,9],[1,0,2,0],[1,1,2,1],[1,2,1,3],[1,4,1,5],[1,7,2,7],[1,8,2,8]]}
[null,"2021-04-10"]
["番号","氏名","勤務開始",null,"勤務終了",null,"休憩時間","時給区分","加算額","賃金"]
[null,null,"時","分","時","分","分間",null,null,null,"開始時刻","終了時刻","休憩時間","労働時間","時給","労働賃金","加算額","賃金計","出勤"]
[1,"あきら",null,null,null,null,null,null,null,{"$f":"R4","v":""},{"$f":"IF(C4=\"\",\"\",C4&\":\"&D4)","v":""},{"$f":"IF(C4=\"\",\"\",E4&\":\"&F4)","v":""},{"$f":"IF(G4=\"\",\"00:00\",\"00:\"&G4)","v":"00:00"},{"$f":"IF(K4=\"\",\"\",L4-K4-M4)","v":""},{"$f":"IF(H4=\"\",\"\",VLOOKUP(H4,データシート!$D$2:$E$5,2))","v":""},{"$f":"IF(K4=\"\",\"\",N4*24*O4)","v":""},{"$f":"IF(I4=\"\",0,I4)","v":0},{"$f":"IF(K4=\"\",\"\",ROUNDUP(P4+Q4,0))","v":""},{"$f":"IF(C4=\"\",0,1)","v":0}]
[2,"こうじ",null,null,null,null,null,null,null,"",{"$f":"IF(C5=\"\",\"\",C5&\":\"&D5)","v":""},{"$f":"IF(C5=\"\",\"\",E5&\":\"&F5)","v":""},{"$f":"IF(G5=\"\",\"00:00\",\"00:\"&G5)","v":"00:00"},{"$f":"IF(K5=\"\",\"\",L5-K5-M5)","v":""},{"$f":"IF(H5=\"\",\"\",VLOOKUP(H5,データシート!$D$2:$E$5,2))","v":""},{"$f":"IF(K5=\"\",\"\",N5*24*O5)","v":""},{"$f":"IF(I5=\"\",0,I5)","v":0},{"$f":"IF(K5=\"\",\"\",ROUNDUP(P5+Q5,0))","v":""},{"$f":"IF(C5=\"\",0,1)","v":0}]
[3,"ひろかず",null,null,null,null,null,null,null,"","","","00:00","",{"$f":"IF(H6=\"\",\"\",VLOOKUP(H6,データシート!$D$2:$E$5,2))","v":""},"",0,"",0]
[4,"さやか",null,null,null,null,null,null,null,"","","","00:00","",{"$f":"IF(H7=\"\",\"\",VLOOKUP(H7,データシート!$D$2:$E$5,2))","v":""},"",0,"",0]
[5,"れんたろう",null,null,null,null,null,null,null,"","","","00:00","",{"$f":"IF(H8=\"\",\"\",VLOOKUP(H8,データシート!$D$2:$E$5,2))","v":""},"",0,"",0]
[6,"ごろう",null,null,null,null,null,null,null,"","","","00:00","",{"$f":"IF(H9=\"\",\"\",VLOOKUP(H9,データシート!$D$2:$E$5,2))","v":""},"",0,"",0]
[7,"さぶろう",null,null,null,null,null,null,null,"","","","00:00","",{"$f":"IF(H10=\"\",\"\",VLOOKUP(H10,データシート!$D$2:$E$5,2))","v":""},"",0,"",0]
[8,"きみとし",null,null,null,null,null,null,null,"","","","00:00","",{"$f":"IF(H11=\"\",\"\",VLOOKUP(H11,データシート!$D$2:$E$5,2))","v":""},"",0,"",0]
[9,"ぶんた",null,null,null,null,null,null,null,"","","","00:00","",{"$f":"IF(H12=\"\",\"\",VLOOKUP(H12,データシート!$D$2:$E$5,2))","v":""},"",0,"",0]
[10,"あきよし",null,null,null,null,null,null,null,"","","","00:00","",{"$f":"IF(H13=\"\",\"\",VLOOKUP(H13,データシート!$D$2:$E$5,2))","v":""},"",0,"",0]
[11,"つむぐ",null,null,null,null,null,null,null,"","","","00:00","",{"$f":"IF(H14=\"\",\"\",VLOOKUP(H14,データシート!$D$2:$E$5,2))","v":""},"",0,"",0]
[12,"れお",null,null,null,null,null,null,null,"","","","00:00","",{"$f":"IF(H15=\"\",\"\",VLOOKUP(H15,データシート!$D$2:$E$5,2))","v":""},"",0,"",0]
[13,"ひびき",null,null,null,null,null,null,null,"","","","00:00","",{"$f":"IF(H16=\"\",\"\",VLOOKUP(H16,データシート!$D$2:$E$5,2))","v":""},"",0,"",0]
[14,"ゆうま",null,null,null,null,null,null,null,"","","","00:00","",{"$f":"IF(H17=\"\",\"\",VLOOKUP(H17,データシート!$D$2:$E$5,2))","v":""},"",0,"",0]
[15,"こうき",null,null,null,null,null,null,null,"","","","00:00","",{"$f":"IF(H18=\"\",\"\",VLOOKUP(H18,データシート!$D$2:$E$5,2))","v":""},"",0,"",0]
[16,"ゆめ",null,null,null,null,null,null,null,"","","","00:00","",{"$f":"IF(H19=\"\",\"\",VLOOKUP(H19,データシート!$D$2:$E$5,2))","v":""},"",0,"",0]
[17,"こたろう",null,null,null,null,null,null,null,"","","","00:00","",{"$f":"IF(H20=\"\",\"\",VLOOKUP(H20,データシート!$D$2:$E$5,2))","v":""},"",0,"",0]
[18,"ゆうしょう",null,null,null,null,null,null,null,"","","","00:00","",{"$f":"IF(H21=\"\",\"\",VLOOKUP(H21,データシート!$D$2:$E$5,2))","v":""},"",0,"",0]
[19,"けんと",null,null,null,null,null,null,null,"","","","00:00","",{"$f":"IF(H22=\"\",\"\",VLOOKUP(H22,データシート!$D$2:$E$5,2))","v":""},"",0,"",0]
[20,"あやか",null,null,null,null,null,null,null,"","","","00:00","",{"$f":"IF(H23=\"\",\"\",VLOOKUP(H23,データシート!$D$2:$E$5,2))","v":""},"",0,"",0]
[21,"さんし",null,null,null,null,null,null,null,"","","","00:00","",{"$f":"IF(H24=\"\",\"\",VLOOKUP(H24,データシート!$D$2:$E$5,2))","v":""},"",0,"",0]
[22,null,null,null,null,null,null,null,null,"","","","00:00","",{"$f":"IF(H25=\"\",\"\",VLOOKUP(H25,データシート!$D$2:$E$5,2))","v":""},"",0,"",0]
[23,null,null,null,null,null,null,null,null,"","","","00:00","",{"$f":"IF(H26=\"\",\"\",VLOOKUP(H26,データシート!$D$2:$E$5,2))","v":""},"",0,"",0]
[24,null,null,null,null,null,null,null,null,"","","","00:00","",{"$f":"IF(H27=\"\",\"\",VLOOKUP(H27,データシート!$D$2:$E$5,2))","v":""},"",0,"",0]
[25,null,null,null,null,null,null,null,null,"","","","00:00","",{"$f":"IF(H28=\"\",\"\",VLOOKUP(H28,データシート!$D$2:$E$5,2))","v":""},"",0,"",0]
[26,null,null,null,null,null,null,null,null,"","","","00:00","",{"$f":"IF(H29=\"\",\"\",VLOOKUP(H29,データシート!$D$2:$E$5,2))","v":""},"",0,"",0]
[27,null,null,null,null,null,null,null,null,"","","","00:00","",{"$f":"IF(H30=\"\",\"\",VLOOKUP(H30,データシート!$D$2:$E$5,2))","v":""},"",0,"",0]
[28,null,null,null,null,null,null,null,null,"","","","00:00","",{"$f":"IF(H31=\"\",\"\",VLOOKUP(H31,データシート!$D$2:$E$5,2))","v":""},"",0,"",0]
[29,null,null,null,null,null,null,null,null,"","","","00:00","",{"$f":"IF(H32=\"\",\"\",VLOOKUP(H32,データシート!$D$2:$E$5,2))","v":""},"",0,"",0]
[30,null,null,null,null,null,null,null,null,"","","","00:00","",{"$f":"IF(H33=\"\",\"\",VLOOKUP(H33,データシート!$D$2:$E$5,2))","v":""},"",0,"",0]
[]
[null,"勤務者数","総労働時間","総賃金"]
[null,{"$f":"COUNTA(C4:C33)","v":0},{"$f":"SUM(N4:N33)","v":"00:00:00"},{"$f":"SUM(R4:R33)","v":0}]

{"sheet":" 4- 11","index":17,"n_rows":36,"n_cols":19,"rows_kept":36,"cut":false,"hidden":false,"merged":[[1,9,2,9],[1,0,2,0],[1,1,2,1],[1,2,1,3],[1,4,1,5],[1,7,2,7],[1,8,2,8]]}
[null,"2021-04-11"]
["番号","氏名","勤務開始",null,"勤務終了",null,"休憩時間","時給区分","加算額","賃金"]
[null,null,"時","分","時","分","分間",null,null,null,"開始時刻","終了時刻","休憩時間","労働時間","時給","労働賃金","加算額","賃金計","出勤"]
[1,"あきら",null,null,null,null,null,null,null,{"$f":"R4","v":""},{"$f":"IF(C4=\"\",\"\",C4&\":\"&D4)","v":""},{"$f":"IF(C4=\"\",\"\",E4&\":\"&F4)","v":""},{"$f":"IF(G4=\"\",\"00:00\",\"00:\"&G4)","v":"00:00"},{"$f":"IF(K4=\"\",\"\",L4-K4-M4)","v":""},{"$f":"IF(H4=\"\",\"\",VLOOKUP(H4,データシート!$D$2:$E$5,2))","v":""},{"$f":"IF(K4=\"\",\"\",N4*24*O4)","v":""},{"$f":"IF(I4=\"\",0,I4)","v":0},{"$f":"IF(K4=\"\",\"\",ROUNDUP(P4+Q4,0))","v":""},{"$f":"IF(C4=\"\",0,1)","v":0}]
[2,"こうじ",null,null,null,null,null,null,null,"",{"$f":"IF(C5=\"\",\"\",C5&\":\"&D5)","v":""},{"$f":"IF(C5=\"\",\"\",E5&\":\"&F5)","v":""},{"$f":"IF(G5=\"\",\"00:00\",\"00:\"&G5)","v":"00:00"},{"$f":"IF(K5=\"\",\"\",L5-K5-M5)","v":""},{"$f":"IF(H5=\"\",\"\",VLOOKUP(H5,データシート!$D$2:$E$5,2))","v":""},{"$f":"IF(K5=\"\",\"\",N5*24*O5)","v":""},{"$f":"IF(I5=\"\",0,I5)","v":0},{"$f":"IF(K5=\"\",\"\",ROUNDUP(P5+Q5,0))","v":""},{"$f":"IF(C5=\"\",0,1)","v":0}]
[3,"ひろかず",null,null,null,null,null,null,null,"","","","00:00","",{"$f":"IF(H6=\"\",\"\",VLOOKUP(H6,データシート!$D$2:$E$5,2))","v":""},"",0,"",0]
[4,"さやか",null,null,null,null,null,null,null,"","","","00:00","",{"$f":"IF(H7=\"\",\"\",VLOOKUP(H7,データシート!$D$2:$E$5,2))","v":""},"",0,"",0]
[5,"れんたろう",null,null,null,null,null,null,null,"","","","00:00","",{"$f":"IF(H8=\"\",\"\",VLOOKUP(H8,データシート!$D$2:$E$5,2))","v":""},"",0,"",0]
[6,"ごろう",null,null,null,null,null,null,null,"","","","00:00","",{"$f":"IF(H9=\"\",\"\",VLOOKUP(H9,データシート!$D$2:$E$5,2))","v":""},"",0,"",0]
[7,"さぶろう",null,null,null,null,null,null,null,"","","","00:00","",{"$f":"IF(H10=\"\",\"\",VLOOKUP(H10,データシート!$D$2:$E$5,2))","v":""},"",0,"",0]
[8,"きみとし",null,null,null,null,null,null,null,"","","","00:00","",{"$f":"IF(H11=\"\",\"\",VLOOKUP(H11,データシート!$D$2:$E$5,2))","v":""},"",0,"",0]
[9,"ぶんた",null,null,null,null,null,null,null,"","","","00:00","",{"$f":"IF(H12=\"\",\"\",VLOOKUP(H12,データシート!$D$2:$E$5,2))","v":""},"",0,"",0]
[10,"あきよし",null,null,null,null,null,null,null,"","","","00:00","",{"$f":"IF(H13=\"\",\"\",VLOOKUP(H13,データシート!$D$2:$E$5,2))","v":""},"",0,"",0]
[11,"つむぐ",null,null,null,null,null,null,null,"","","","00:00","",{"$f":"IF(H14=\"\",\"\",VLOOKUP(H14,データシート!$D$2:$E$5,2))","v":""},"",0,"",0]
[12,"れお",null,null,null,null,null,null,null,"","","","00:00","",{"$f":"IF(H15=\"\",\"\",VLOOKUP(H15,データシート!$D$2:$E$5,2))","v":""},"",0,"",0]
[13,"ひびき",null,null,null,null,null,null,null,"","","","00:00","",{"$f":"IF(H16=\"\",\"\",VLOOKUP(H16,データシート!$D$2:$E$5,2))","v":""},"",0,"",0]
[14,"ゆうま",null,null,null,null,null,null,null,"","","","00:00","",{"$f":"IF(H17=\"\",\"\",VLOOKUP(H17,データシート!$D$2:$E$5,2))","v":""},"",0,"",0]
[15,"こうき",null,null,null,null,null,null,null,"","","","00:00","",{"$f":"IF(H18=\"\",\"\",VLOOKUP(H18,データシート!$D$2:$E$5,2))","v":""},"",0,"",0]
[16,"ゆめ",null,null,null,null,null,null,null,"","","","00:00","",{"$f":"IF(H19=\"\",\"\",VLOOKUP(H19,データシート!$D$2:$E$5,2))","v":""},"",0,"",0]
[17,"こたろう",null,null,null,null,null,null,null,"","","","00:00","",{"$f":"IF(H20=\"\",\"\",VLOOKUP(H20,データシート!$D$2:$E$5,2))","v":""},"",0,"",0]
[18,"ゆうしょう",null,null,null,null,null,null,null,"","","","00:00","",{"$f":"IF(H21=\"\",\"\",VLOOKUP(H21,データシート!$D$2:$E$5,2))","v":""},"",0,"",0]
[19,"けんと",null,null,null,null,null,null,null,"","","","00:00","",{"$f":"IF(H22=\"\",\"\",VLOOKUP(H22,データシート!$D$2:$E$5,2))","v":""},"",0,"",0]
[20,"あやか",null,null,null,null,null,null,null,"","","","00:00","",{"$f":"IF(H23=\"\",\"\",VLOOKUP(H23,データシート!$D$2:$E$5,2))","v":""},"",0,"",0]
[21,"さんし",null,null,null,null,null,null,null,"","","","00:00","",{"$f":"IF(H24=\"\",\"\",VLOOKUP(H24,データシート!$D$2:$E$5,2))","v":""},"",0,"",0]
[22,null,null,null,null,null,null,null,null,"","","","00:00","",{"$f":"IF(H25=\"\",\"\",VLOOKUP(H25,データシート!$D$2:$E$5,2))","v":""},"",0,"",0]
[23,null,null,null,null,null,null,null,null,"","","","00:00","",{"$f":"IF(H26=\"\",\"\",VLOOKUP(H26,データシート!$D$2:$E$5,2))","v":""},"",0,"",0]
[24,null,null,null,null,null,null,null,null,"","","","00:00","",{"$f":"IF(H27=\"\",\"\",VLOOKUP(H27,データシート!$D$2:$E$5,2))","v":""},"",0,"",0]
[25,null,null,null,null,null,null,null,null,"","","","00:00","",{"$f":"IF(H28=\"\",\"\",VLOOKUP(H28,データシート!$D$2:$E$5,2))","v":""},"",0,"",0]
[26,null,null,null,null,null,null,null,null,"","","","00:00","",{"$f":"IF(H29=\"\",\"\",VLOOKUP(H29,データシート!$D$2:$E$5,2))","v":""},"",0,"",0]
[27,null,null,null,null,null,null,null,null,"","","","00:00","",{"$f":"IF(H30=\"\",\"\",VLOOKUP(H30,データシート!$D$2:$E$5,2))","v":""},"",0,"",0]
[28,null,null,null,null,null,null,null,null,"","","","00:00","",{"$f":"IF(H31=\"\",\"\",VLOOKUP(H31,データシート!$D$2:$E$5,2))","v":""},"",0,"",0]
[29,null,null,null,null,null,null,null,null,"","","","00:00","",{"$f":"IF(H32=\"\",\"\",VLOOKUP(H32,データシート!$D$2:$E$5,2))","v":""},"",0,"",0]
[30,null,null,null,null,null,null,null,null,"","","","00:00","",{"$f":"IF(H33=\"\",\"\",VLOOKUP(H33,データシート!$D$2:$E$5,2))","v":""},"",0,"",0]
[]
[null,"勤務者数","総労働時間","総賃金"]
[null,{"$f":"COUNTA(C4:C33)","v":0},{"$f":"SUM(N4:N33)","v":"00:00:00"},{"$f":"SUM(R4:R33)","v":0}]

{"sheet":" 4- 12","index":18,"n_rows":36,"n_cols":19,"rows_kept":36,"cut":false,"hidden":false,"merged":[[1,9,2,9],[1,0,2,0],[1,1,2,1],[1,2,1,3],[1,4,1,5],[1,7,2,7],[1,8,2,8]]}
[null,"2021-04-12"]
["番号","氏名","勤務開始",null,"勤務終了",null,"休憩時間","時給区分","加算額","賃金"]
[null,null,"時","分","時","分","分間",null,null,null,"開始時刻","終了時刻","休憩時間","労働時間","時給","労働賃金","加算額","賃金計","出勤"]
[1,"あきら",null,null,null,null,null,null,null,{"$f":"R4","v":""},{"$f":"IF(C4=\"\",\"\",C4&\":\"&D4)","v":""},{"$f":"IF(C4=\"\",\"\",E4&\":\"&F4)","v":""},{"$f":"IF(G4=\"\",\"00:00\",\"00:\"&G4)","v":"00:00"},{"$f":"IF(K4=\"\",\"\",L4-K4-M4)","v":""},{"$f":"IF(H4=\"\",\"\",VLOOKUP(H4,データシート!$D$2:$E$5,2))","v":""},{"$f":"IF(K4=\"\",\"\",N4*24*O4)","v":""},{"$f":"IF(I4=\"\",0,I4)","v":0},{"$f":"IF(K4=\"\",\"\",ROUNDUP(P4+Q4,0))","v":""},{"$f":"IF(C4=\"\",0,1)","v":0}]
[2,"こうじ",null,null,null,null,null,null,null,"",{"$f":"IF(C5=\"\",\"\",C5&\":\"&D5)","v":""},{"$f":"IF(C5=\"\",\"\",E5&\":\"&F5)","v":""},{"$f":"IF(G5=\"\",\"00:00\",\"00:\"&G5)","v":"00:00"},{"$f":"IF(K5=\"\",\"\",L5-K5-M5)","v":""},{"$f":"IF(H5=\"\",\"\",VLOOKUP(H5,データシート!$D$2:$E$5,2))","v":""},{"$f":"IF(K5=\"\",\"\",N5*24*O5)","v":""},{"$f":"IF(I5=\"\",0,I5)","v":0},{"$f":"IF(K5=\"\",\"\",ROUNDUP(P5+Q5,0))","v":""},{"$f":"IF(C5=\"\",0,1)","v":0}]
[3,"ひろかず",null,null,null,null,null,null,null,"","","","00:00","",{"$f":"IF(H6=\"\",\"\",VLOOKUP(H6,データシート!$D$2:$E$5,2))","v":""},"",0,"",0]
[4,"さやか",null,null,null,null,null,null,null,"","","","00:00","",{"$f":"IF(H7=\"\",\"\",VLOOKUP(H7,データシート!$D$2:$E$5,2))","v":""},"",0,"",0]
[5,"れんたろう",null,null,null,null,null,null,null,"","","","00:00","",{"$f":"IF(H8=\"\",\"\",VLOOKUP(H8,データシート!$D$2:$E$5,2))","v":""},"",0,"",0]
[6,"ごろう",null,null,null,null,null,null,null,"","","","00:00","",{"$f":"IF(H9=\"\",\"\",VLOOKUP(H9,データシート!$D$2:$E$5,2))","v":""},"",0,"",0]
[7,"さぶろう",null,null,null,null,null,null,null,"","","","00:00","",{"$f":"IF(H10=\"\",\"\",VLOOKUP(H10,データシート!$D$2:$E$5,2))","v":""},"",0,"",0]
[8,"きみとし",null,null,null,null,null,null,null,"","","","00:00","",{"$f":"IF(H11=\"\",\"\",VLOOKUP(H11,データシート!$D$2:$E$5,2))","v":""},"",0,"",0]
[9,"ぶんた",null,null,null,null,null,null,null,"","","","00:00","",{"$f":"IF(H12=\"\",\"\",VLOOKUP(H12,データシート!$D$2:$E$5,2))","v":""},"",0,"",0]
[10,"あきよし",null,null,null,null,null,null,null,"","","","00:00","",{"$f":"IF(H13=\"\",\"\",VLOOKUP(H13,データシート!$D$2:$E$5,2))","v":""},"",0,"",0]
[11,"つむぐ",null,null,null,null,null,null,null,"","","","00:00","",{"$f":"IF(H14=\"\",\"\",VLOOKUP(H14,データシート!$D$2:$E$5,2))","v":""},"",0,"",0]
[12,"れお",null,null,null,null,null,null,null,"","","","00:00","",{"$f":"IF(H15=\"\",\"\",VLOOKUP(H15,データシート!$D$2:$E$5,2))","v":""},"",0,"",0]
[13,"ひびき",null,null,null,null,null,null,null,"","","","00:00","",{"$f":"IF(H16=\"\",\"\",VLOOKUP(H16,データシート!$D$2:$E$5,2))","v":""},"",0,"",0]
[14,"ゆうま",null,null,null,null,null,null,null,"","","","00:00","",{"$f":"IF(H17=\"\",\"\",VLOOKUP(H17,データシート!$D$2:$E$5,2))","v":""},"",0,"",0]
[15,"こうき",null,null,null,null,null,null,null,"","","","00:00","",{"$f":"IF(H18=\"\",\"\",VLOOKUP(H18,データシート!$D$2:$E$5,2))","v":""},"",0,"",0]
[16,"ゆめ",null,null,null,null,null,null,null,"","","","00:00","",{"$f":"IF(H19=\"\",\"\",VLOOKUP(H19,データシート!$D$2:$E$5,2))","v":""},"",0,"",0]
[17,"こたろう",null,null,null,null,null,null,null,"","","","00:00","",{"$f":"IF(H20=\"\",\"\",VLOOKUP(H20,データシート!$D$2:$E$5,2))","v":""},"",0,"",0]
[18,"ゆうしょう",null,null,null,null,null,null,null,"","","","00:00","",{"$f":"IF(H21=\"\",\"\",VLOOKUP(H21,データシート!$D$2:$E$5,2))","v":""},"",0,"",0]
[19,"けんと",null,null,null,null,null,null,null,"","","","00:00","",{"$f":"IF(H22=\"\",\"\",VLOOKUP(H22,データシート!$D$2:$E$5,2))","v":""},"",0,"",0]
[20,"あやか",null,null,null,null,null,null,null,"","","","00:00","",{"$f":"IF(H23=\"\",\"\",VLOOKUP(H23,データシート!$D$2:$E$5,2))","v":""},"",0,"",0]
[21,"さんし",null,null,null,null,null,null,null,"","","","00:00","",{"$f":"IF(H24=\"\",\"\",VLOOKUP(H24,データシート!$D$2:$E$5,2))","v":""},"",0,"",0]
[22,null,null,null,null,null,null,null,null,"","","","00:00","",{"$f":"IF(H25=\"\",\"\",VLOOKUP(H25,データシート!$D$2:$E$5,2))","v":""},"",0,"",0]
[23,null,null,null,null,null,null,null,null,"","","","00:00","",{"$f":"IF(H26=\"\",\"\",VLOOKUP(H26,データシート!$D$2:$E$5,2))","v":""},"",0,"",0]
[24,null,null,null,null,null,null,null,null,"","","","00:00","",{"$f":"IF(H27=\"\",\"\",VLOOKUP(H27,データシート!$D$2:$E$5,2))","v":""},"",0,"",0]
[25,null,null,null,null,null,null,null,null,"","","","00:00","",{"$f":"IF(H28=\"\",\"\",VLOOKUP(H28,データシート!$D$2:$E$5,2))","v":""},"",0,"",0]
[26,null,null,null,null,null,null,null,null,"","","","00:00","",{"$f":"IF(H29=\"\",\"\",VLOOKUP(H29,データシート!$D$2:$E$5,2))","v":""},"",0,"",0]
[27,null,null,null,null,null,null,null,null,"","","","00:00","",{"$f":"IF(H30=\"\",\"\",VLOOKUP(H30,データシート!$D$2:$E$5,2))","v":""},"",0,"",0]
[28,null,null,null,null,null,null,null,null,"","","","00:00","",{"$f":"IF(H31=\"\",\"\",VLOOKUP(H31,データシート!$D$2:$E$5,2))","v":""},"",0,"",0]
[29,null,null,null,null,null,null,null,null,"","","","00:00","",{"$f":"IF(H32=\"\",\"\",VLOOKUP(H32,データシート!$D$2:$E$5,2))","v":""},"",0,"",0]
[30,null,null,null,null,null,null,null,null,"","","","00:00","",{"$f":"IF(H33=\"\",\"\",VLOOKUP(H33,データシート!$D$2:$E$5,2))","v":""},"",0,"",0]
[]
[null,"勤務者数","総労働時間","総賃金"]
[null,{"$f":"COUNTA(C4:C33)","v":0},{"$f":"SUM(N4:N33)","v":"00:00:00"},{"$f":"SUM(R4:R33)","v":0}]

{"sheet":" 4- 13","index":19,"n_rows":36,"n_cols":19,"rows_kept":36,"cut":false,"hidden":false,"merged":[[1,9,2,9],[1,0,2,0],[1,1,2,1],[1,2,1,3],[1,4,1,5],[1,7,2,7],[1,8,2,8]]}
[null,"2021-04-13"]
["番号","氏名","勤務開始",null,"勤務終了",null,"休憩時間","時給区分","加算額","賃金"]
[null,null,"時","分","時","分","分間",null,null,null,"開始時刻","終了時刻","休憩時間","労働時間","時給","労働賃金","加算額","賃金計","出勤"]
[1,"あきら",null,null,null,null,null,null,null,{"$f":"R4","v":""},{"$f":"IF(C4=\"\",\"\",C4&\":\"&D4)","v":""},{"$f":"IF(C4=\"\",\"\",E4&\":\"&F4)","v":""},{"$f":"IF(G4=\"\",\"00:00\",\"00:\"&G4)","v":"00:00"},{"$f":"IF(K4=\"\",\"\",L4-K4-M4)","v":""},{"$f":"IF(H4=\"\",\"\",VLOOKUP(H4,データシート!$D$2:$E$5,2))","v":""},{"$f":"IF(K4=\"\",\"\",N4*24*O4)","v":""},{"$f":"IF(I4=\"\",0,I4)","v":0},{"$f":"IF(K4=\"\",\"\",ROUNDUP(P4+Q4,0))","v":""},{"$f":"IF(C4=\"\",0,1)","v":0}]
[2,"こうじ",null,null,null,null,null,null,null,"",{"$f":"IF(C5=\"\",\"\",C5&\":\"&D5)","v":""},{"$f":"IF(C5=\"\",\"\",E5&\":\"&F5)","v":""},{"$f":"IF(G5=\"\",\"00:00\",\"00:\"&G5)","v":"00:00"},{"$f":"IF(K5=\"\",\"\",L5-K5-M5)","v":""},{"$f":"IF(H5=\"\",\"\",VLOOKUP(H5,データシート!$D$2:$E$5,2))","v":""},{"$f":"IF(K5=\"\",\"\",N5*24*O5)","v":""},{"$f":"IF(I5=\"\",0,I5)","v":0},{"$f":"IF(K5=\"\",\"\",ROUNDUP(P5+Q5,0))","v":""},{"$f":"IF(C5=\"\",0,1)","v":0}]
[3,"ひろかず",null,null,null,null,null,null,null,"","","","00:00","",{"$f":"IF(H6=\"\",\"\",VLOOKUP(H6,データシート!$D$2:$E$5,2))","v":""},"",0,"",0]
[4,"さやか",null,null,null,null,null,null,null,"","","","00:00","",{"$f":"IF(H7=\"\",\"\",VLOOKUP(H7,データシート!$D$2:$E$5,2))","v":""},"",0,"",0]
[5,"れんたろう",null,null,null,null,null,null,null,"","","","00:00","",{"$f":"IF(H8=\"\",\"\",VLOOKUP(H8,データシート!$D$2:$E$5,2))","v":""},"",0,"",0]
[6,"ごろう",null,null,null,null,null,null,null,"","","","00:00","",{"$f":"IF(H9=\"\",\"\",VLOOKUP(H9,データシート!$D$2:$E$5,2))","v":""},"",0,"",0]
[7,"さぶろう",null,null,null,null,null,null,null,"","","","00:00","",{"$f":"IF(H10=\"\",\"\",VLOOKUP(H10,データシート!$D$2:$E$5,2))","v":""},"",0,"",0]
[8,"きみとし",null,null,null,null,null,null,null,"","","","00:00","",{"$f":"IF(H11=\"\",\"\",VLOOKUP(H11,データシート!$D$2:$E$5,2))","v":""},"",0,"",0]
[9,"ぶんた",null,null,null,null,null,null,null,"","","","00:00","",{"$f":"IF(H12=\"\",\"\",VLOOKUP(H12,データシート!$D$2:$E$5,2))","v":""},"",0,"",0]
[10,"あきよし",null,null,null,null,null,null,null,"","","","00:00","",{"$f":"IF(H13=\"\",\"\",VLOOKUP(H13,データシート!$D$2:$E$5,2))","v":""},"",0,"",0]
[11,"つむぐ",null,null,null,null,null,null,null,"","","","00:00","",{"$f":"IF(H14=\"\",\"\",VLOOKUP(H14,データシート!$D$2:$E$5,2))","v":""},"",0,"",0]
[12,"れお",null,null,null,null,null,null,null,"","","","00:00","",{"$f":"IF(H15=\"\",\"\",VLOOKUP(H15,データシート!$D$2:$E$5,2))","v":""},"",0,"",0]
[13,"ひびき",null,null,null,null,null,null,null,"","","","00:00","",{"$f":"IF(H16=\"\",\"\",VLOOKUP(H16,データシート!$D$2:$E$5,2))","v":""},"",0,"",0]
[14,"ゆうま",null,null,null,null,null,null,null,"","","","00:00","",{"$f":"IF(H17=\"\",\"\",VLOOKUP(H17,データシート!$D$2:$E$5,2))","v":""},"",0,"",0]
[15,"こうき",null,null,null,null,null,null,null,"","","","00:00","",{"$f":"IF(H18=\"\",\"\",VLOOKUP(H18,データシート!$D$2:$E$5,2))","v":""},"",0,"",0]
[16,"ゆめ",null,null,null,null,null,null,null,"","","","00:00","",{"$f":"IF(H19=\"\",\"\",VLOOKUP(H19,データシート!$D$2:$E$5,2))","v":""},"",0,"",0]
[17,"こたろう",null,null,null,null,null,null,null,"","","","00:00","",{"$f":"IF(H20=\"\",\"\",VLOOKUP(H20,データシート!$D$2:$E$5,2))","v":""},"",0,"",0]
[18,"ゆうしょう",null,null,null,null,null,null,null,"","","","00:00","",{"$f":"IF(H21=\"\",\"\",VLOOKUP(H21,データシート!$D$2:$E$5,2))","v":""},"",0,"",0]
[19,"けんと",null,null,null,null,null,null,null,"","","","00:00","",{"$f":"IF(H22=\"\",\"\",VLOOKUP(H22,データシート!$D$2:$E$5,2))","v":""},"",0,"",0]
[20,"あやか",null,null,null,null,null,null,null,"","","","00:00","",{"$f":"IF(H23=\"\",\"\",VLOOKUP(H23,データシート!$D$2:$E$5,2))","v":""},"",0,"",0]
[21,"さんし",null,null,null,null,null,null,null,"","","","00:00","",{"$f":"IF(H24=\"\",\"\",VLOOKUP(H24,データシート!$D$2:$E$5,2))","v":""},"",0,"",0]
[22,null,null,null,null,null,null,null,null,"","","","00:00","",{"$f":"IF(H25=\"\",\"\",VLOOKUP(H25,データシート!$D$2:$E$5,2))","v":""},"",0,"",0]
[23,null,null,null,null,null,null,null,null,"","","","00:00","",{"$f":"IF(H26=\"\",\"\",VLOOKUP(H26,データシート!$D$2:$E$5,2))","v":""},"",0,"",0]
[24,null,null,null,null,null,null,null,null,"","","","00:00","",{"$f":"IF(H27=\"\",\"\",VLOOKUP(H27,データシート!$D$2:$E$5,2))","v":""},"",0,"",0]
[25,null,null,null,null,null,null,null,null,"","","","00:00","",{"$f":"IF(H28=\"\",\"\",VLOOKUP(H28,データシート!$D$2:$E$5,2))","v":""},"",0,"",0]
[26,null,null,null,null,null,null,null,null,"","","","00:00","",{"$f":"IF(H29=\"\",\"\",VLOOKUP(H29,データシート!$D$2:$E$5,2))","v":""},"",0,"",0]
[27,null,null,null,null,null,null,null,null,"","","","00:00","",{"$f":"IF(H30=\"\",\"\",VLOOKUP(H30,データシート!$D$2:$E$5,2))","v":""},"",0,"",0]
[28,null,null,null,null,null,null,null,null,"","","","00:00","",{"$f":"IF(H31=\"\",\"\",VLOOKUP(H31,データシート!$D$2:$E$5,2))","v":""},"",0,"",0]
[29,null,null,null,null,null,null,null,null,"","","","00:00","",{"$f":"IF(H32=\"\",\"\",VLOOKUP(H32,データシート!$D$2:$E$5,2))","v":""},"",0,"",0]
[30,null,null,null,null,null,null,null,null,"","","","00:00","",{"$f":"IF(H33=\"\",\"\",VLOOKUP(H33,データシート!$D$2:$E$5,2))","v":""},"",0,"",0]
[]
[null,"勤務者数","総労働時間","総賃金"]
[null,{"$f":"COUNTA(C4:C33)","v":0},{"$f":"SUM(N4:N33)","v":"00:00:00"},{"$f":"SUM(R4:R33)","v":0}]

{"sheet":" 4- 14","index":20,"n_rows":36,"n_cols":19,"rows_kept":36,"cut":false,"hidden":false,"merged":[[1,9,2,9],[1,0,2,0],[1,1,2,1],[1,2,1,3],[1,4,1,5],[1,7,2,7],[1,8,2,8]]}
[null,"2021-04-14"]
["番号","氏名","勤務開始",null,"勤務終了",null,"休憩時間","時給区分","加算額","賃金"]
[null,null,"時","分","時","分","分間",null,null,null,"開始時刻","終了時刻","休憩時間","労働時間","時給","労働賃金","加算額","賃金計","出勤"]
[1,"あきら",null,null,null,null,null,null,null,{"$f":"R4","v":""},{"$f":"IF(C4=\"\",\"\",C4&\":\"&D4)","v":""},{"$f":"IF(C4=\"\",\"\",E4&\":\"&F4)","v":""},{"$f":"IF(G4=\"\",\"00:00\",\"00:\"&G4)","v":"00:00"},{"$f":"IF(K4=\"\",\"\",L4-K4-M4)","v":""},{"$f":"IF(H4=\"\",\"\",VLOOKUP(H4,データシート!$D$2:$E$5,2))","v":""},{"$f":"IF(K4=\"\",\"\",N4*24*O4)","v":""},{"$f":"IF(I4=\"\",0,I4)","v":0},{"$f":"IF(K4=\"\",\"\",ROUNDUP(P4+Q4,0))","v":""},{"$f":"IF(C4=\"\",0,1)","v":0}]
[2,"こうじ",null,null,null,null,null,null,null,"",{"$f":"IF(C5=\"\",\"\",C5&\":\"&D5)","v":""},{"$f":"IF(C5=\"\",\"\",E5&\":\"&F5)","v":""},{"$f":"IF(G5=\"\",\"00:00\",\"00:\"&G5)","v":"00:00"},{"$f":"IF(K5=\"\",\"\",L5-K5-M5)","v":""},{"$f":"IF(H5=\"\",\"\",VLOOKUP(H5,データシート!$D$2:$E$5,2))","v":""},{"$f":"IF(K5=\"\",\"\",N5*24*O5)","v":""},{"$f":"IF(I5=\"\",0,I5)","v":0},{"$f":"IF(K5=\"\",\"\",ROUNDUP(P5+Q5,0))","v":""},{"$f":"IF(C5=\"\",0,1)","v":0}]
[3,"ひろかず",null,null,null,null,null,null,null,"","","","00:00","",{"$f":"IF(H6=\"\",\"\",VLOOKUP(H6,データシート!$D$2:$E$5,2))","v":""},"",0,"",0]
[4,"さやか",null,null,null,null,null,null,null,"","","","00:00","",{"$f":"IF(H7=\"\",\"\",VLOOKUP(H7,データシート!$D$2:$E$5,2))","v":""},"",0,"",0]
[5,"れんたろう",null,null,null,null,null,null,null,"","","","00:00","",{"$f":"IF(H8=\"\",\"\",VLOOKUP(H8,データシート!$D$2:$E$5,2))","v":""},"",0,"",0]
[6,"ごろう",null,null,null,null,null,null,null,"","","","00:00","",{"$f":"IF(H9=\"\",\"\",VLOOKUP(H9,データシート!$D$2:$E$5,2))","v":""},"",0,"",0]
[7,"さぶろう",null,null,null,null,null,null,null,"","","","00:00","",{"$f":"IF(H10=\"\",\"\",VLOOKUP(H10,データシート!$D$2:$E$5,2))","v":""},"",0,"",0]
[8,"きみとし",null,null,null,null,null,null,null,"","","","00:00","",{"$f":"IF(H11=\"\",\"\",VLOOKUP(H11,データシート!$D$2:$E$5,2))","v":""},"",0,"",0]
[9,"ぶんた",null,null,null,null,null,null,null,"","","","00:00","",{"$f":"IF(H12=\"\",\"\",VLOOKUP(H12,データシート!$D$2:$E$5,2))","v":""},"",0,"",0]
[10,"あきよし",null,null,null,null,null,null,null,"","","","00:00","",{"$f":"IF(H13=\"\",\"\",VLOOKUP(H13,データシート!$D$2:$E$5,2))","v":""},"",0,"",0]
[11,"つむぐ",null,null,null,null,null,null,null,"","","","00:00","",{"$f":"IF(H14=\"\",\"\",VLOOKUP(H14,データシート!$D$2:$E$5,2))","v":""},"",0,"",0]
[12,"れお",null,null,null,null,null,null,null,"","","","00:00","",{"$f":"IF(H15=\"\",\"\",VLOOKUP(H15,データシート!$D$2:$E$5,2))","v":""},"",0,"",0]
[13,"ひびき",null,null,null,null,null,null,null,"","","","00:00","",{"$f":"IF(H16=\"\",\"\",VLOOKUP(H16,データシート!$D$2:$E$5,2))","v":""},"",0,"",0]
[14,"ゆうま",null,null,null,null,null,null,null,"","","","00:00","",{"$f":"IF(H17=\"\",\"\",VLOOKUP(H17,データシート!$D$2:$E$5,2))","v":""},"",0,"",0]
[15,"こうき",null,null,null,null,null,null,null,"","","","00:00","",{"$f":"IF(H18=\"\",\"\",VLOOKUP(H18,データシート!$D$2:$E$5,2))","v":""},"",0,"",0]
[16,"ゆめ",null,null,null,null,null,null,null,"","","","00:00","",{"$f":"IF(H19=\"\",\"\",VLOOKUP(H19,データシート!$D$2:$E$5,2))","v":""},"",0,"",0]
[17,"こたろう",null,null,null,null,null,null,null,"","","","00:00","",{"$f":"IF(H20=\"\",\"\",VLOOKUP(H20,データシート!$D$2:$E$5,2))","v":""},"",0,"",0]
[18,"ゆうしょう",null,null,null,null,null,null,null,"","","","00:00","",{"$f":"IF(H21=\"\",\"\",VLOOKUP(H21,データシート!$D$2:$E$5,2))","v":""},"",0,"",0]
[19,"けんと",null,null,null,null,null,null,null,"","","","00:00","",{"$f":"IF(H22=\"\",\"\",VLOOKUP(H22,データシート!$D$2:$E$5,2))","v":""},"",0,"",0]
[20,"あやか",null,null,null,null,null,null,null,"","","","00:00","",{"$f":"IF(H23=\"\",\"\",VLOOKUP(H23,データシート!$D$2:$E$5,2))","v":""},"",0,"",0]
[21,"さんし",null,null,null,null,null,null,null,"","","","00:00","",{"$f":"IF(H24=\"\",\"\",VLOOKUP(H24,データシート!$D$2:$E$5,2))","v":""},"",0,"",0]
[22,null,null,null,null,null,null,null,null,"","","","00:00","",{"$f":"IF(H25=\"\",\"\",VLOOKUP(H25,データシート!$D$2:$E$5,2))","v":""},"",0,"",0]
[23,null,null,null,null,null,null,null,null,"","","","00:00","",{"$f":"IF(H26=\"\",\"\",VLOOKUP(H26,データシート!$D$2:$E$5,2))","v":""},"",0,"",0]
[24,null,null,null,null,null,null,null,null,"","","","00:00","",{"$f":"IF(H27=\"\",\"\",VLOOKUP(H27,データシート!$D$2:$E$5,2))","v":""},"",0,"",0]
[25,null,null,null,null,null,null,null,null,"","","","00:00","",{"$f":"IF(H28=\"\",\"\",VLOOKUP(H28,データシート!$D$2:$E$5,2))","v":""},"",0,"",0]
[26,null,null,null,null,null,null,null,null,"","","","00:00","",{"$f":"IF(H29=\"\",\"\",VLOOKUP(H29,データシート!$D$2:$E$5,2))","v":""},"",0,"",0]
[27,null,null,null,null,null,null,null,null,"","","","00:00","",{"$f":"IF(H30=\"\",\"\",VLOOKUP(H30,データシート!$D$2:$E$5,2))","v":""},"",0,"",0]
[28,null,null,null,null,null,null,null,null,"","","","00:00","",{"$f":"IF(H31=\"\",\"\",VLOOKUP(H31,データシート!$D$2:$E$5,2))","v":""},"",0,"",0]
[29,null,null,null,null,null,null,null,null,"","","","00:00","",{"$f":"IF(H32=\"\",\"\",VLOOKUP(H32,データシート!$D$2:$E$5,2))","v":""},"",0,"",0]
[30,null,null,null,null,null,null,null,null,"","","","00:00","",{"$f":"IF(H33=\"\",\"\",VLOOKUP(H33,データシート!$D$2:$E$5,2))","v":""},"",0,"",0]
[]
[null,"勤務者数","総労働時間","総賃金"]
[null,{"$f":"COUNTA(C4:C33)","v":0},{"$f":"SUM(N4:N33)","v":"00:00:00"},{"$f":"SUM(R4:R33)","v":0}]

{"sheet":" 4- 15","index":21,"n_rows":36,"n_cols":19,"rows_kept":36,"cut":false,"hidden":false,"merged":[[1,9,2,9],[1,0,2,0],[1,1,2,1],[1,2,1,3],[1,4,1,5],[1,7,2,7],[1,8,2,8]]}
[null,"2021-04-15"]
["番号","氏名","勤務開始",null,"勤務終了",null,"休憩時間","時給区分","加算額","賃金"]
[null,null,"時","分","時","分","分間",null,null,null,"開始時刻","終了時刻","休憩時間","労働時間","時給","労働賃金","加算額","賃金計","出勤"]
[1,"あきら",null,null,null,null,null,null,null,{"$f":"R4","v":""},{"$f":"IF(C4=\"\",\"\",C4&\":\"&D4)","v":""},{"$f":"IF(C4=\"\",\"\",E4&\":\"&F4)","v":""},{"$f":"IF(G4=\"\",\"00:00\",\"00:\"&G4)","v":"00:00"},{"$f":"IF(K4=\"\",\"\",L4-K4-M4)","v":""},{"$f":"IF(H4=\"\",\"\",VLOOKUP(H4,データシート!$D$2:$E$5,2))","v":""},{"$f":"IF(K4=\"\",\"\",N4*24*O4)","v":""},{"$f":"IF(I4=\"\",0,I4)","v":0},{"$f":"IF(K4=\"\",\"\",ROUNDUP(P4+Q4,0))","v":""},{"$f":"IF(C4=\"\",0,1)","v":0}]
[2,"こうじ",null,null,null,null,null,null,null,"",{"$f":"IF(C5=\"\",\"\",C5&\":\"&D5)","v":""},{"$f":"IF(C5=\"\",\"\",E5&\":\"&F5)","v":""},{"$f":"IF(G5=\"\",\"00:00\",\"00:\"&G5)","v":"00:00"},{"$f":"IF(K5=\"\",\"\",L5-K5-M5)","v":""},{"$f":"IF(H5=\"\",\"\",VLOOKUP(H5,データシート!$D$2:$E$5,2))","v":""},{"$f":"IF(K5=\"\",\"\",N5*24*O5)","v":""},{"$f":"IF(I5=\"\",0,I5)","v":0},{"$f":"IF(K5=\"\",\"\",ROUNDUP(P5+Q5,0))","v":""},{"$f":"IF(C5=\"\",0,1)","v":0}]
[3,"ひろかず",null,null,null,null,null,null,null,"","","","00:00","",{"$f":"IF(H6=\"\",\"\",VLOOKUP(H6,データシート!$D$2:$E$5,2))","v":""},"",0,"",0]
[4,"さやか",null,null,null,null,null,null,null,"","","","00:00","",{"$f":"IF(H7=\"\",\"\",VLOOKUP(H7,データシート!$D$2:$E$5,2))","v":""},"",0,"",0]
[5,"れんたろう",null,null,null,null,null,null,null,"","","","00:00","",{"$f":"IF(H8=\"\",\"\",VLOOKUP(H8,データシート!$D$2:$E$5,2))","v":""},"",0,"",0]
[6,"ごろう",null,null,null,null,null,null,null,"","","","00:00","",{"$f":"IF(H9=\"\",\"\",VLOOKUP(H9,データシート!$D$2:$E$5,2))","v":""},"",0,"",0]
[7,"さぶろう",null,null,null,null,null,null,null,"","","","00:00","",{"$f":"IF(H10=\"\",\"\",VLOOKUP(H10,データシート!$D$2:$E$5,2))","v":""},"",0,"",0]
[8,"きみとし",null,null,null,null,null,null,null,"","","","00:00","",{"$f":"IF(H11=\"\",\"\",VLOOKUP(H11,データシート!$D$2:$E$5,2))","v":""},"",0,"",0]
[9,"ぶんた",null,null,null,null,null,null,null,"","","","00:00","",{"$f":"IF(H12=\"\",\"\",VLOOKUP(H12,データシート!$D$2:$E$5,2))","v":""},"",0,"",0]
[10,"あきよし",null,null,null,null,null,null,null,"","","","00:00","",{"$f":"IF(H13=\"\",\"\",VLOOKUP(H13,データシート!$D$2:$E$5,2))","v":""},"",0,"",0]
[11,"つむぐ",null,null,null,null,null,null,null,"","","","00:00","",{"$f":"IF(H14=\"\",\"\",VLOOKUP(H14,データシート!$D$2:$E$5,2))","v":""},"",0,"",0]
[12,"れお",null,null,null,null,null,null,null,"","","","00:00","",{"$f":"IF(H15=\"\",\"\",VLOOKUP(H15,データシート!$D$2:$E$5,2))","v":""},"",0,"",0]
[13,"ひびき",null,null,null,null,null,null,null,"","","","00:00","",{"$f":"IF(H16=\"\",\"\",VLOOKUP(H16,データシート!$D$2:$E$5,2))","v":""},"",0,"",0]
[14,"ゆうま",null,null,null,null,null,null,null,"","","","00:00","",{"$f":"IF(H17=\"\",\"\",VLOOKUP(H17,データシート!$D$2:$E$5,2))","v":""},"",0,"",0]
[15,"こうき",null,null,null,null,null,null,null,"","","","00:00","",{"$f":"IF(H18=\"\",\"\",VLOOKUP(H18,データシート!$D$2:$E$5,2))","v":""},"",0,"",0]
[16,"ゆめ",null,null,null,null,null,null,null,"","","","00:00","",{"$f":"IF(H19=\"\",\"\",VLOOKUP(H19,データシート!$D$2:$E$5,2))","v":""},"",0,"",0]
[17,"こたろう",null,null,null,null,null,null,null,"","","","00:00","",{"$f":"IF(H20=\"\",\"\",VLOOKUP(H20,データシート!$D$2:$E$5,2))","v":""},"",0,"",0]
[18,"ゆうしょう",null,null,null,null,null,null,null,"","","","00:00","",{"$f":"IF(H21=\"\",\"\",VLOOKUP(H21,データシート!$D$2:$E$5,2))","v":""},"",0,"",0]
[19,"けんと",null,null,null,null,null,null,null,"","","","00:00","",{"$f":"IF(H22=\"\",\"\",VLOOKUP(H22,データシート!$D$2:$E$5,2))","v":""},"",0,"",0]
[20,"あやか",null,null,null,null,null,null,null,"","","","00:00","",{"$f":"IF(H23=\"\",\"\",VLOOKUP(H23,データシート!$D$2:$E$5,2))","v":""},"",0,"",0]
[21,"さんし",null,null,null,null,null,null,null,"","","","00:00","",{"$f":"IF(H24=\"\",\"\",VLOOKUP(H24,データシート!$D$2:$E$5,2))","v":""},"",0,"",0]
[22,null,null,null,null,null,null,null,null,"","","","00:00","",{"$f":"IF(H25=\"\",\"\",VLOOKUP(H25,データシート!$D$2:$E$5,2))","v":""},"",0,"",0]
[23,null,null,null,null,null,null,null,null,"","","","00:00","",{"$f":"IF(H26=\"\",\"\",VLOOKUP(H26,データシート!$D$2:$E$5,2))","v":""},"",0,"",0]
[24,null,null,null,null,null,null,null,null,"","","","00:00","",{"$f":"IF(H27=\"\",\"\",VLOOKUP(H27,データシート!$D$2:$E$5,2))","v":""},"",0,"",0]
[25,null,null,null,null,null,null,null,null,"","","","00:00","",{"$f":"IF(H28=\"\",\"\",VLOOKUP(H28,データシート!$D$2:$E$5,2))","v":""},"",0,"",0]
[26,null,null,null,null,null,null,null,null,"","","","00:00","",{"$f":"IF(H29=\"\",\"\",VLOOKUP(H29,データシート!$D$2:$E$5,2))","v":""},"",0,"",0]
[27,null,null,null,null,null,null,null,null,"","","","00:00","",{"$f":"IF(H30=\"\",\"\",VLOOKUP(H30,データシート!$D$2:$E$5,2))","v":""},"",0,"",0]
[28,null,null,null,null,null,null,null,null,"","","","00:00","",{"$f":"IF(H31=\"\",\"\",VLOOKUP(H31,データシート!$D$2:$E$5,2))","v":""},"",0,"",0]
[29,null,null,null,null,null,null,null,null,"","","","00:00","",{"$f":"IF(H32=\"\",\"\",VLOOKUP(H32,データシート!$D$2:$E$5,2))","v":""},"",0,"",0]
[30,null,null,null,null,null,null,null,null,"","","","00:00","",{"$f":"IF(H33=\"\",\"\",VLOOKUP(H33,データシート!$D$2:$E$5,2))","v":""},"",0,"",0]
[]
[null,"勤務者数","総労働時間","総賃金"]
[null,{"$f":"COUNTA(C4:C33)","v":0},{"$f":"SUM(N4:N33)","v":"00:00:00"},{"$f":"SUM(R4:R33)","v":0}]

{"sheet":" 4- 16","index":22,"n_rows":36,"n_cols":19,"rows_kept":36,"cut":false,"hidden":false,"merged":[[1,9,2,9],[1,0,2,0],[1,1,2,1],[1,2,1,3],[1,4,1,5],[1,7,2,7],[1,8,2,8]]}
[null,"2021-04-16"]
["番号","氏名","勤務開始",null,"勤務終了",null,"休憩時間","時給区分","加算額","賃金"]
[null,null,"時","分","時","分","分間",null,null,null,"開始時刻","終了時刻","休憩時間","労働時間","時給","労働賃金","加算額","賃金計","出勤"]
[1,"あきら",null,null,null,null,null,null,null,{"$f":"R4","v":""},{"$f":"IF(C4=\"\",\"\",C4&\":\"&D4)","v":""},{"$f":"IF(C4=\"\",\"\",E4&\":\"&F4)","v":""},{"$f":"IF(G4=\"\",\"00:00\",\"00:\"&G4)","v":"00:00"},{"$f":"IF(K4=\"\",\"\",L4-K4-M4)","v":""},{"$f":"IF(H4=\"\",\"\",VLOOKUP(H4,データシート!$D$2:$E$5,2))","v":""},{"$f":"IF(K4=\"\",\"\",N4*24*O4)","v":""},{"$f":"IF(I4=\"\",0,I4)","v":0},{"$f":"IF(K4=\"\",\"\",ROUNDUP(P4+Q4,0))","v":""},{"$f":"IF(C4=\"\",0,1)","v":0}]
[2,"こうじ",null,null,null,null,null,null,null,"",{"$f":"IF(C5=\"\",\"\",C5&\":\"&D5)","v":""},{"$f":"IF(C5=\"\",\"\",E5&\":\"&F5)","v":""},{"$f":"IF(G5=\"\",\"00:00\",\"00:\"&G5)","v":"00:00"},{"$f":"IF(K5=\"\",\"\",L5-K5-M5)","v":""},{"$f":"IF(H5=\"\",\"\",VLOOKUP(H5,データシート!$D$2:$E$5,2))","v":""},{"$f":"IF(K5=\"\",\"\",N5*24*O5)","v":""},{"$f":"IF(I5=\"\",0,I5)","v":0},{"$f":"IF(K5=\"\",\"\",ROUNDUP(P5+Q5,0))","v":""},{"$f":"IF(C5=\"\",0,1)","v":0}]
[3,"ひろかず",null,null,null,null,null,null,null,"","","","00:00","",{"$f":"IF(H6=\"\",\"\",VLOOKUP(H6,データシート!$D$2:$E$5,2))","v":""},"",0,"",0]
[4,"さやか",null,null,null,null,null,null,null,"","","","00:00","",{"$f":"IF(H7=\"\",\"\",VLOOKUP(H7,データシート!$D$2:$E$5,2))","v":""},"",0,"",0]
[5,"れんたろう",null,null,null,null,null,null,null,"","","","00:00","",{"$f":"IF(H8=\"\",\"\",VLOOKUP(H8,データシート!$D$2:$E$5,2))","v":""},"",0,"",0]
[6,"ごろう",null,null,null,null,null,null,null,"","","","00:00","",{"$f":"IF(H9=\"\",\"\",VLOOKUP(H9,データシート!$D$2:$E$5,2))","v":""},"",0,"",0]
[7,"さぶろう",null,null,null,null,null,null,null,"","","","00:00","",{"$f":"IF(H10=\"\",\"\",VLOOKUP(H10,データシート!$D$2:$E$5,2))","v":""},"",0,"",0]
[8,"きみとし",null,null,null,null,null,null,null,"","","","00:00","",{"$f":"IF(H11=\"\",\"\",VLOOKUP(H11,データシート!$D$2:$E$5,2))","v":""},"",0,"",0]
[9,"ぶんた",null,null,null,null,null,null,null,"","","","00:00","",{"$f":"IF(H12=\"\",\"\",VLOOKUP(H12,データシート!$D$2:$E$5,2))","v":""},"",0,"",0]
[10,"あきよし",null,null,null,null,null,null,null,"","","","00:00","",{"$f":"IF(H13=\"\",\"\",VLOOKUP(H13,データシート!$D$2:$E$5,2))","v":""},"",0,"",0]
[11,"つむぐ",null,null,null,null,null,null,null,"","","","00:00","",{"$f":"IF(H14=\"\",\"\",VLOOKUP(H14,データシート!$D$2:$E$5,2))","v":""},"",0,"",0]
[12,"れお",null,null,null,null,null,null,null,"","","","00:00","",{"$f":"IF(H15=\"\",\"\",VLOOKUP(H15,データシート!$D$2:$E$5,2))","v":""},"",0,"",0]
[13,"ひびき",null,null,null,null,null,null,null,"","","","00:00","",{"$f":"IF(H16=\"\",\"\",VLOOKUP(H16,データシート!$D$2:$E$5,2))","v":""},"",0,"",0]
[14,"ゆうま",null,null,null,null,null,null,null,"","","","00:00","",{"$f":"IF(H17=\"\",\"\",VLOOKUP(H17,データシート!$D$2:$E$5,2))","v":""},"",0,"",0]
[15,"こうき",null,null,null,null,null,null,null,"","","","00:00","",{"$f":"IF(H18=\"\",\"\",VLOOKUP(H18,データシート!$D$2:$E$5,2))","v":""},"",0,"",0]
[16,"ゆめ",null,null,null,null,null,null,null,"","","","00:00","",{"$f":"IF(H19=\"\",\"\",VLOOKUP(H19,データシート!$D$2:$E$5,2))","v":""},"",0,"",0]
[17,"こたろう",null,null,null,null,null,null,null,"","","","00:00","",{"$f":"IF(H20=\"\",\"\",VLOOKUP(H20,データシート!$D$2:$E$5,2))","v":""},"",0,"",0]
[18,"ゆうしょう",null,null,null,null,null,null,null,"","","","00:00","",{"$f":"IF(H21=\"\",\"\",VLOOKUP(H21,データシート!$D$2:$E$5,2))","v":""},"",0,"",0]
[19,"けんと",null,null,null,null,null,null,null,"","","","00:00","",{"$f":"IF(H22=\"\",\"\",VLOOKUP(H22,データシート!$D$2:$E$5,2))","v":""},"",0,"",0]
[20,"あやか",null,null,null,null,null,null,null,"","","","00:00","",{"$f":"IF(H23=\"\",\"\",VLOOKUP(H23,データシート!$D$2:$E$5,2))","v":""},"",0,"",0]
[21,"さんし",null,null,null,null,null,null,null,"","","","00:00","",{"$f":"IF(H24=\"\",\"\",VLOOKUP(H24,データシート!$D$2:$E$5,2))","v":""},"",0,"",0]
[22,null,null,null,null,null,null,null,null,"","","","00:00","",{"$f":"IF(H25=\"\",\"\",VLOOKUP(H25,データシート!$D$2:$E$5,2))","v":""},"",0,"",0]
[23,null,null,null,null,null,null,null,null,"","","","00:00","",{"$f":"IF(H26=\"\",\"\",VLOOKUP(H26,データシート!$D$2:$E$5,2))","v":""},"",0,"",0]
[24,null,null,null,null,null,null,null,null,"","","","00:00","",{"$f":"IF(H27=\"\",\"\",VLOOKUP(H27,データシート!$D$2:$E$5,2))","v":""},"",0,"",0]
[25,null,null,null,null,null,null,null,null,"","","","00:00","",{"$f":"IF(H28=\"\",\"\",VLOOKUP(H28,データシート!$D$2:$E$5,2))","v":""},"",0,"",0]
[26,null,null,null,null,null,null,null,null,"","","","00:00","",{"$f":"IF(H29=\"\",\"\",VLOOKUP(H29,データシート!$D$2:$E$5,2))","v":""},"",0,"",0]
[27,null,null,null,null,null,null,null,null,"","","","00:00","",{"$f":"IF(H30=\"\",\"\",VLOOKUP(H30,データシート!$D$2:$E$5,2))","v":""},"",0,"",0]
[28,null,null,null,null,null,null,null,null,"","","","00:00","",{"$f":"IF(H31=\"\",\"\",VLOOKUP(H31,データシート!$D$2:$E$5,2))","v":""},"",0,"",0]
[29,null,null,null,null,null,null,null,null,"","","","00:00","",{"$f":"IF(H32=\"\",\"\",VLOOKUP(H32,データシート!$D$2:$E$5,2))","v":""},"",0,"",0]
[30,null,null,null,null,null,null,null,null,"","","","00:00","",{"$f":"IF(H33=\"\",\"\",VLOOKUP(H33,データシート!$D$2:$E$5,2))","v":""},"",0,"",0]
[]
[null,"勤務者数","総労働時間","総賃金"]
[null,{"$f":"COUNTA(C4:C33)","v":0},{"$f":"SUM(N4:N33)","v":"00:00:00"},{"$f":"SUM(R4:R33)","v":0}]

{"sheet":" 4- 17","index":23,"n_rows":36,"n_cols":19,"rows_kept":36,"cut":false,"hidden":false,"merged":[[1,9,2,9],[1,0,2,0],[1,1,2,1],[1,2,1,3],[1,4,1,5],[1,7,2,7],[1,8,2,8]]}
[null,"2021-04-17"]
["番号","氏名","勤務開始",null,"勤務終了",null,"休憩時間","時給区分","加算額","賃金"]
[null,null,"時","分","時","分","分間",null,null,null,"開始時刻","終了時刻","休憩時間","労働時間","時給","労働賃金","加算額","賃金計","出勤"]
[1,"あきら",null,null,null,null,null,null,null,{"$f":"R4","v":""},{"$f":"IF(C4=\"\",\"\",C4&\":\"&D4)","v":""},{"$f":"IF(C4=\"\",\"\",E4&\":\"&F4)","v":""},{"$f":"IF(G4=\"\",\"00:00\",\"00:\"&G4)","v":"00:00"},{"$f":"IF(K4=\"\",\"\",L4-K4-M4)","v":""},{"$f":"IF(H4=\"\",\"\",VLOOKUP(H4,データシート!$D$2:$E$5,2))","v":""},{"$f":"IF(K4=\"\",\"\",N4*24*O4)","v":""},{"$f":"IF(I4=\"\",0,I4)","v":0},{"$f":"IF(K4=\"\",\"\",ROUNDUP(P4+Q4,0))","v":""},{"$f":"IF(C4=\"\",0,1)","v":0}]
[2,"こうじ",null,null,null,null,null,null,null,"",{"$f":"IF(C5=\"\",\"\",C5&\":\"&D5)","v":""},{"$f":"IF(C5=\"\",\"\",E5&\":\"&F5)","v":""},{"$f":"IF(G5=\"\",\"00:00\",\"00:\"&G5)","v":"00:00"},{"$f":"IF(K5=\"\",\"\",L5-K5-M5)","v":""},{"$f":"IF(H5=\"\",\"\",VLOOKUP(H5,データシート!$D$2:$E$5,2))","v":""},{"$f":"IF(K5=\"\",\"\",N5*24*O5)","v":""},{"$f":"IF(I5=\"\",0,I5)","v":0},{"$f":"IF(K5=\"\",\"\",ROUNDUP(P5+Q5,0))","v":""},{"$f":"IF(C5=\"\",0,1)","v":0}]
[3,"ひろかず",null,null,null,null,null,null,null,"","","","00:00","",{"$f":"IF(H6=\"\",\"\",VLOOKUP(H6,データシート!$D$2:$E$5,2))","v":""},"",0,"",0]
[4,"さやか",null,null,null,null,null,null,null,"","","","00:00","",{"$f":"IF(H7=\"\",\"\",VLOOKUP(H7,データシート!$D$2:$E$5,2))","v":""},"",0,"",0]
[5,"れんたろう",null,null,null,null,null,null,null,"","","","00:00","",{"$f":"IF(H8=\"\",\"\",VLOOKUP(H8,データシート!$D$2:$E$5,2))","v":""},"",0,"",0]
[6,"ごろう",null,null,null,null,null,null,null,"","","","00:00","",{"$f":"IF(H9=\"\",\"\",VLOOKUP(H9,データシート!$D$2:$E$5,2))","v":""},"",0,"",0]
[7,"さぶろう",null,null,null,null,null,null,null,"","","","00:00","",{"$f":"IF(H10=\"\",\"\",VLOOKUP(H10,データシート!$D$2:$E$5,2))","v":""},"",0,"",0]
[8,"きみとし",null,null,null,null,null,null,null,"","","","00:00","",{"$f":"IF(H11=\"\",\"\",VLOOKUP(H11,データシート!$D$2:$E$5,2))","v":""},"",0,"",0]
[9,"ぶんた",null,null,null,null,null,null,null,"","","","00:00","",{"$f":"IF(H12=\"\",\"\",VLOOKUP(H12,データシート!$D$2:$E$5,2))","v":""},"",0,"",0]
[10,"あきよし",null,null,null,null,null,null,null,"","","","00:00","",{"$f":"IF(H13=\"\",\"\",VLOOKUP(H13,データシート!$D$2:$E$5,2))","v":""},"",0,"",0]
[11,"つむぐ",null,null,null,null,null,null,null,"","","","00:00","",{"$f":"IF(H14=\"\",\"\",VLOOKUP(H14,データシート!$D$2:$E$5,2))","v":""},"",0,"",0]
[12,"れお",null,null,null,null,null,null,null,"","","","00:00","",{"$f":"IF(H15=\"\",\"\",VLOOKUP(H15,データシート!$D$2:$E$5,2))","v":""},"",0,"",0]
[13,"ひびき",null,null,null,null,null,null,null,"","","","00:00","",{"$f":"IF(H16=\"\",\"\",VLOOKUP(H16,データシート!$D$2:$E$5,2))","v":""},"",0,"",0]
[14,"ゆうま",null,null,null,null,null,null,null,"","","","00:00","",{"$f":"IF(H17=\"\",\"\",VLOOKUP(H17,データシート!$D$2:$E$5,2))","v":""},"",0,"",0]
[15,"こうき",null,null,null,null,null,null,null,"","","","00:00","",{"$f":"IF(H18=\"\",\"\",VLOOKUP(H18,データシート!$D$2:$E$5,2))","v":""},"",0,"",0]
[16,"ゆめ",null,null,null,null,null,null,null,"","","","00:00","",{"$f":"IF(H19=\"\",\"\",VLOOKUP(H19,データシート!$D$2:$E$5,2))","v":""},"",0,"",0]
[17,"こたろう",null,null,null,null,null,null,null,"","","","00:00","",{"$f":"IF(H20=\"\",\"\",VLOOKUP(H20,データシート!$D$2:$E$5,2))","v":""},"",0,"",0]
[18,"ゆうしょう",null,null,null,null,null,null,null,"","","","00:00","",{"$f":"IF(H21=\"\",\"\",VLOOKUP(H21,データシート!$D$2:$E$5,2))","v":""},"",0,"",0]
[19,"けんと",null,null,null,null,null,null,null,"","","","00:00","",{"$f":"IF(H22=\"\",\"\",VLOOKUP(H22,データシート!$D$2:$E$5,2))","v":""},"",0,"",0]
[20,"あやか",null,null,null,null,null,null,null,"","","","00:00","",{"$f":"IF(H23=\"\",\"\",VLOOKUP(H23,データシート!$D$2:$E$5,2))","v":""},"",0,"",0]
[21,"さんし",null,null,null,null,null,null,null,"","","","00:00","",{"$f":"IF(H24=\"\",\"\",VLOOKUP(H24,データシート!$D$2:$E$5,2))","v":""},"",0,"",0]
[22,null,null,null,null,null,null,null,null,"","","","00:00","",{"$f":"IF(H25=\"\",\"\",VLOOKUP(H25,データシート!$D$2:$E$5,2))","v":""},"",0,"",0]
[23,null,null,null,null,null,null,null,null,"","","","00:00","",{"$f":"IF(H26=\"\",\"\",VLOOKUP(H26,データシート!$D$2:$E$5,2))","v":""},"",0,"",0]
[24,null,null,null,null,null,null,null,null,"","","","00:00","",{"$f":"IF(H27=\"\",\"\",VLOOKUP(H27,データシート!$D$2:$E$5,2))","v":""},"",0,"",0]
[25,null,null,null,null,null,null,null,null,"","","","00:00","",{"$f":"IF(H28=\"\",\"\",VLOOKUP(H28,データシート!$D$2:$E$5,2))","v":""},"",0,"",0]
[26,null,null,null,null,null,null,null,null,"","","","00:00","",{"$f":"IF(H29=\"\",\"\",VLOOKUP(H29,データシート!$D$2:$E$5,2))","v":""},"",0,"",0]
[27,null,null,null,null,null,null,null,null,"","","","00:00","",{"$f":"IF(H30=\"\",\"\",VLOOKUP(H30,データシート!$D$2:$E$5,2))","v":""},"",0,"",0]
[28,null,null,null,null,null,null,null,null,"","","","00:00","",{"$f":"IF(H31=\"\",\"\",VLOOKUP(H31,データシート!$D$2:$E$5,2))","v":""},"",0,"",0]
[29,null,null,null,null,null,null,null,null,"","","","00:00","",{"$f":"IF(H32=\"\",\"\",VLOOKUP(H32,データシート!$D$2:$E$5,2))","v":""},"",0,"",0]
[30,null,null,null,null,null,null,null,null,"","","","00:00","",{"$f":"IF(H33=\"\",\"\",VLOOKUP(H33,データシート!$D$2:$E$5,2))","v":""},"",0,"",0]
[]
[null,"勤務者数","総労働時間","総賃金"]
[null,{"$f":"COUNTA(C4:C33)","v":0},{"$f":"SUM(N4:N33)","v":"00:00:00"},{"$f":"SUM(R4:R33)","v":0}]

{"sheet":" 4- 18","index":24,"n_rows":36,"n_cols":19,"rows_kept":36,"cut":false,"hidden":false,"merged":[[1,9,2,9],[1,0,2,0],[1,1,2,1],[1,2,1,3],[1,4,1,5],[1,7,2,7],[1,8,2,8]]}
[null,"2021-04-18"]
["番号","氏名","勤務開始",null,"勤務終了",null,"休憩時間","時給区分","加算額","賃金"]
[null,null,"時","分","時","分","分間",null,null,null,"開始時刻","終了時刻","休憩時間","労働時間","時給","労働賃金","加算額","賃金計","出勤"]
[1,"あきら",null,null,null,null,null,null,null,{"$f":"R4","v":""},{"$f":"IF(C4=\"\",\"\",C4&\":\"&D4)","v":""},{"$f":"IF(C4=\"\",\"\",E4&\":\"&F4)","v":""},{"$f":"IF(G4=\"\",\"00:00\",\"00:\"&G4)","v":"00:00"},{"$f":"IF(K4=\"\",\"\",L4-K4-M4)","v":""},{"$f":"IF(H4=\"\",\"\",VLOOKUP(H4,データシート!$D$2:$E$5,2))","v":""},{"$f":"IF(K4=\"\",\"\",N4*24*O4)","v":""},{"$f":"IF(I4=\"\",0,I4)","v":0},{"$f":"IF(K4=\"\",\"\",ROUNDUP(P4+Q4,0))","v":""},{"$f":"IF(C4=\"\",0,1)","v":0}]
[2,"こうじ",null,null,null,null,null,null,null,"",{"$f":"IF(C5=\"\",\"\",C5&\":\"&D5)","v":""},{"$f":"IF(C5=\"\",\"\",E5&\":\"&F5)","v":""},{"$f":"IF(G5=\"\",\"00:00\",\"00:\"&G5)","v":"00:00"},{"$f":"IF(K5=\"\",\"\",L5-K5-M5)","v":""},{"$f":"IF(H5=\"\",\"\",VLOOKUP(H5,データシート!$D$2:$E$5,2))","v":""},{"$f":"IF(K5=\"\",\"\",N5*24*O5)","v":""},{"$f":"IF(I5=\"\",0,I5)","v":0},{"$f":"IF(K5=\"\",\"\",ROUNDUP(P5+Q5,0))","v":""},{"$f":"IF(C5=\"\",0,1)","v":0}]
[3,"ひろかず",null,null,null,null,null,null,null,"","","","00:00","",{"$f":"IF(H6=\"\",\"\",VLOOKUP(H6,データシート!$D$2:$E$5,2))","v":""},"",0,"",0]
[4,"さやか",null,null,null,null,null,null,null,"","","","00:00","",{"$f":"IF(H7=\"\",\"\",VLOOKUP(H7,データシート!$D$2:$E$5,2))","v":""},"",0,"",0]
[5,"れんたろう",null,null,null,null,null,null,null,"","","","00:00","",{"$f":"IF(H8=\"\",\"\",VLOOKUP(H8,データシート!$D$2:$E$5,2))","v":""},"",0,"",0]
[6,"ごろう",null,null,null,null,null,null,null,"","","","00:00","",{"$f":"IF(H9=\"\",\"\",VLOOKUP(H9,データシート!$D$2:$E$5,2))","v":""},"",0,"",0]
[7,"さぶろう",null,null,null,null,null,null,null,"","","","00:00","",{"$f":"IF(H10=\"\",\"\",VLOOKUP(H10,データシート!$D$2:$E$5,2))","v":""},"",0,"",0]
[8,"きみとし",null,null,null,null,null,null,null,"","","","00:00","",{"$f":"IF(H11=\"\",\"\",VLOOKUP(H11,データシート!$D$2:$E$5,2))","v":""},"",0,"",0]
[9,"ぶんた",null,null,null,null,null,null,null,"","","","00:00","",{"$f":"IF(H12=\"\",\"\",VLOOKUP(H12,データシート!$D$2:$E$5,2))","v":""},"",0,"",0]
[10,"あきよし",null,null,null,null,null,null,null,"","","","00:00","",{"$f":"IF(H13=\"\",\"\",VLOOKUP(H13,データシート!$D$2:$E$5,2))","v":""},"",0,"",0]
[11,"つむぐ",null,null,null,null,null,null,null,"","","","00:00","",{"$f":"IF(H14=\"\",\"\",VLOOKUP(H14,データシート!$D$2:$E$5,2))","v":""},"",0,"",0]
[12,"れお",null,null,null,null,null,null,null,"","","","00:00","",{"$f":"IF(H15=\"\",\"\",VLOOKUP(H15,データシート!$D$2:$E$5,2))","v":""},"",0,"",0]
[13,"ひびき",null,null,null,null,null,null,null,"","","","00:00","",{"$f":"IF(H16=\"\",\"\",VLOOKUP(H16,データシート!$D$2:$E$5,2))","v":""},"",0,"",0]
[14,"ゆうま",null,null,null,null,null,null,null,"","","","00:00","",{"$f":"IF(H17=\"\",\"\",VLOOKUP(H17,データシート!$D$2:$E$5,2))","v":""},"",0,"",0]
[15,"こうき",null,null,null,null,null,null,null,"","","","00:00","",{"$f":"IF(H18=\"\",\"\",VLOOKUP(H18,データシート!$D$2:$E$5,2))","v":""},"",0,"",0]
[16,"ゆめ",null,null,null,null,null,null,null,"","","","00:00","",{"$f":"IF(H19=\"\",\"\",VLOOKUP(H19,データシート!$D$2:$E$5,2))","v":""},"",0,"",0]
[17,"こたろう",null,null,null,null,null,null,null,"","","","00:00","",{"$f":"IF(H20=\"\",\"\",VLOOKUP(H20,データシート!$D$2:$E$5,2))","v":""},"",0,"",0]
[18,"ゆうしょう",null,null,null,null,null,null,null,"","","","00:00","",{"$f":"IF(H21=\"\",\"\",VLOOKUP(H21,データシート!$D$2:$E$5,2))","v":""},"",0,"",0]
[19,"けんと",null,null,null,null,null,null,null,"","","","00:00","",{"$f":"IF(H22=\"\",\"\",VLOOKUP(H22,データシート!$D$2:$E$5,2))","v":""},"",0,"",0]
[20,"あやか",null,null,null,null,null,null,null,"","","","00:00","",{"$f":"IF(H23=\"\",\"\",VLOOKUP(H23,データシート!$D$2:$E$5,2))","v":""},"",0,"",0]
[21,"さんし",null,null,null,null,null,null,null,"","","","00:00","",{"$f":"IF(H24=\"\",\"\",VLOOKUP(H24,データシート!$D$2:$E$5,2))","v":""},"",0,"",0]
[22,null,null,null,null,null,null,null,null,"","","","00:00","",{"$f":"IF(H25=\"\",\"\",VLOOKUP(H25,データシート!$D$2:$E$5,2))","v":""},"",0,"",0]
[23,null,null,null,null,null,null,null,null,"","","","00:00","",{"$f":"IF(H26=\"\",\"\",VLOOKUP(H26,データシート!$D$2:$E$5,2))","v":""},"",0,"",0]
[24,null,null,null,null,null,null,null,null,"","","","00:00","",{"$f":"IF(H27=\"\",\"\",VLOOKUP(H27,データシート!$D$2:$E$5,2))","v":""},"",0,"",0]
[25,null,null,null,null,null,null,null,null,"","","","00:00","",{"$f":"IF(H28=\"\",\"\",VLOOKUP(H28,データシート!$D$2:$E$5,2))","v":""},"",0,"",0]
[26,null,null,null,null,null,null,null,null,"","","","00:00","",{"$f":"IF(H29=\"\",\"\",VLOOKUP(H29,データシート!$D$2:$E$5,2))","v":""},"",0,"",0]
[27,null,null,null,null,null,null,null,null,"","","","00:00","",{"$f":"IF(H30=\"\",\"\",VLOOKUP(H30,データシート!$D$2:$E$5,2))","v":""},"",0,"",0]
[28,null,null,null,null,null,null,null,null,"","","","00:00","",{"$f":"IF(H31=\"\",\"\",VLOOKUP(H31,データシート!$D$2:$E$5,2))","v":""},"",0,"",0]
[29,null,null,null,null,null,null,null,null,"","","","00:00","",{"$f":"IF(H32=\"\",\"\",VLOOKUP(H32,データシート!$D$2:$E$5,2))","v":""},"",0,"",0]
[30,null,null,null,null,null,null,null,null,"","","","00:00","",{"$f":"IF(H33=\"\",\"\",VLOOKUP(H33,データシート!$D$2:$E$5,2))","v":""},"",0,"",0]
[]
[null,"勤務者数","総労働時間","総賃金"]
[null,{"$f":"COUNTA(C4:C33)","v":0},{"$f":"SUM(N4:N33)","v":"00:00:00"},{"$f":"SUM(R4:R33)","v":0}]

{"sheet":" 4- 19","index":25,"n_rows":36,"n_cols":19,"rows_kept":36,"cut":false,"hidden":false,"merged":[[1,9,2,9],[1,0,2,0],[1,1,2,1],[1,2,1,3],[1,4,1,5],[1,7,2,7],[1,8,2,8]]}
[null,"2021-04-19"]
["番号","氏名","勤務開始",null,"勤務終了",null,"休憩時間","時給区分","加算額","賃金"]
[null,null,"時","分","時","分","分間",null,null,null,"開始時刻","終了時刻","休憩時間","労働時間","時給","労働賃金","加算額","賃金計","出勤"]
[1,"あきら",null,null,null,null,null,null,null,{"$f":"R4","v":""},{"$f":"IF(C4=\"\",\"\",C4&\":\"&D4)","v":""},{"$f":"IF(C4=\"\",\"\",E4&\":\"&F4)","v":""},{"$f":"IF(G4=\"\",\"00:00\",\"00:\"&G4)","v":"00:00"},{"$f":"IF(K4=\"\",\"\",L4-K4-M4)","v":""},{"$f":"IF(H4=\"\",\"\",VLOOKUP(H4,データシート!$D$2:$E$5,2))","v":""},{"$f":"IF(K4=\"\",\"\",N4*24*O4)","v":""},{"$f":"IF(I4=\"\",0,I4)","v":0},{"$f":"IF(K4=\"\",\"\",ROUNDUP(P4+Q4,0))","v":""},{"$f":"IF(C4=\"\",0,1)","v":0}]
[2,"こうじ",null,null,null,null,null,null,null,"",{"$f":"IF(C5=\"\",\"\",C5&\":\"&D5)","v":""},{"$f":"IF(C5=\"\",\"\",E5&\":\"&F5)","v":""},{"$f":"IF(G5=\"\",\"00:00\",\"00:\"&G5)","v":"00:00"},{"$f":"IF(K5=\"\",\"\",L5-K5-M5)","v":""},{"$f":"IF(H5=\"\",\"\",VLOOKUP(H5,データシート!$D$2:$E$5,2))","v":""},{"$f":"IF(K5=\"\",\"\",N5*24*O5)","v":""},{"$f":"IF(I5=\"\",0,I5)","v":0},{"$f":"IF(K5=\"\",\"\",ROUNDUP(P5+Q5,0))","v":""},{"$f":"IF(C5=\"\",0,1)","v":0}]
[3,"ひろかず",null,null,null,null,null,null,null,"","","","00:00","",{"$f":"IF(H6=\"\",\"\",VLOOKUP(H6,データシート!$D$2:$E$5,2))","v":""},"",0,"",0]
[4,"さやか",null,null,null,null,null,null,null,"","","","00:00","",{"$f":"IF(H7=\"\",\"\",VLOOKUP(H7,データシート!$D$2:$E$5,2))","v":""},"",0,"",0]
[5,"れんたろう",null,null,null,null,null,null,null,"","","","00:00","",{"$f":"IF(H8=\"\",\"\",VLOOKUP(H8,データシート!$D$2:$E$5,2))","v":""},"",0,"",0]
[6,"ごろう",null,null,null,null,null,null,null,"","","","00:00","",{"$f":"IF(H9=\"\",\"\",VLOOKUP(H9,データシート!$D$2:$E$5,2))","v":""},"",0,"",0]
[7,"さぶろう",null,null,null,null,null,null,null,"","","","00:00","",{"$f":"IF(H10=\"\",\"\",VLOOKUP(H10,データシート!$D$2:$E$5,2))","v":""},"",0,"",0]
[8,"きみとし",null,null,null,null,null,null,null,"","","","00:00","",{"$f":"IF(H11=\"\",\"\",VLOOKUP(H11,データシート!$D$2:$E$5,2))","v":""},"",0,"",0]
[9,"ぶんた",null,null,null,null,null,null,null,"","","","00:00","",{"$f":"IF(H12=\"\",\"\",VLOOKUP(H12,データシート!$D$2:$E$5,2))","v":""},"",0,"",0]
[10,"あきよし",null,null,null,null,null,null,null,"","","","00:00","",{"$f":"IF(H13=\"\",\"\",VLOOKUP(H13,データシート!$D$2:$E$5,2))","v":""},"",0,"",0]
[11,"つむぐ",null,null,null,null,null,null,null,"","","","00:00","",{"$f":"IF(H14=\"\",\"\",VLOOKUP(H14,データシート!$D$2:$E$5,2))","v":""},"",0,"",0]
[12,"れお",null,null,null,null,null,null,null,"","","","00:00","",{"$f":"IF(H15=\"\",\"\",VLOOKUP(H15,データシート!$D$2:$E$5,2))","v":""},"",0,"",0]
[13,"ひびき",null,null,null,null,null,null,null,"","","","00:00","",{"$f":"IF(H16=\"\",\"\",VLOOKUP(H16,データシート!$D$2:$E$5,2))","v":""},"",0,"",0]
[14,"ゆうま",null,null,null,null,null,null,null,"","","","00:00","",{"$f":"IF(H17=\"\",\"\",VLOOKUP(H17,データシート!$D$2:$E$5,2))","v":""},"",0,"",0]
[15,"こうき",null,null,null,null,null,null,null,"","","","00:00","",{"$f":"IF(H18=\"\",\"\",VLOOKUP(H18,データシート!$D$2:$E$5,2))","v":""},"",0,"",0]
[16,"ゆめ",null,null,null,null,null,null,null,"","","","00:00","",{"$f":"IF(H19=\"\",\"\",VLOOKUP(H19,データシート!$D$2:$E$5,2))","v":""},"",0,"",0]
[17,"こたろう",null,null,null,null,null,null,null,"","","","00:00","",{"$f":"IF(H20=\"\",\"\",VLOOKUP(H20,データシート!$D$2:$E$5,2))","v":""},"",0,"",0]
[18,"ゆうしょう",null,null,null,null,null,null,null,"","","","00:00","",{"$f":"IF(H21=\"\",\"\",VLOOKUP(H21,データシート!$D$2:$E$5,2))","v":""},"",0,"",0]
[19,"けんと",null,null,null,null,null,null,null,"","","","00:00","",{"$f":"IF(H22=\"\",\"\",VLOOKUP(H22,データシート!$D$2:$E$5,2))","v":""},"",0,"",0]
[20,"あやか",null,null,null,null,null,null,null,"","","","00:00","",{"$f":"IF(H23=\"\",\"\",VLOOKUP(H23,データシート!$D$2:$E$5,2))","v":""},"",0,"",0]
[21,"さんし",null,null,null,null,null,null,null,"","","","00:00","",{"$f":"IF(H24=\"\",\"\",VLOOKUP(H24,データシート!$D$2:$E$5,2))","v":""},"",0,"",0]
[22,null,null,null,null,null,null,null,null,"","","","00:00","",{"$f":"IF(H25=\"\",\"\",VLOOKUP(H25,データシート!$D$2:$E$5,2))","v":""},"",0,"",0]
[23,null,null,null,null,null,null,null,null,"","","","00:00","",{"$f":"IF(H26=\"\",\"\",VLOOKUP(H26,データシート!$D$2:$E$5,2))","v":""},"",0,"",0]
[24,null,null,null,null,null,null,null,null,"","","","00:00","",{"$f":"IF(H27=\"\",\"\",VLOOKUP(H27,データシート!$D$2:$E$5,2))","v":""},"",0,"",0]
[25,null,null,null,null,null,null,null,null,"","","","00:00","",{"$f":"IF(H28=\"\",\"\",VLOOKUP(H28,データシート!$D$2:$E$5,2))","v":""},"",0,"",0]
[26,null,null,null,null,null,null,null,null,"","","","00:00","",{"$f":"IF(H29=\"\",\"\",VLOOKUP(H29,データシート!$D$2:$E$5,2))","v":""},"",0,"",0]
[27,null,null,null,null,null,null,null,null,"","","","00:00","",{"$f":"IF(H30=\"\",\"\",VLOOKUP(H30,データシート!$D$2:$E$5,2))","v":""},"",0,"",0]
[28,null,null,null,null,null,null,null,null,"","","","00:00","",{"$f":"IF(H31=\"\",\"\",VLOOKUP(H31,データシート!$D$2:$E$5,2))","v":""},"",0,"",0]
[29,null,null,null,null,null,null,null,null,"","","","00:00","",{"$f":"IF(H32=\"\",\"\",VLOOKUP(H32,データシート!$D$2:$E$5,2))","v":""},"",0,"",0]
[30,null,null,null,null,null,null,null,null,"","","","00:00","",{"$f":"IF(H33=\"\",\"\",VLOOKUP(H33,データシート!$D$2:$E$5,2))","v":""},"",0,"",0]
[]
[null,"勤務者数","総労働時間","総賃金"]
[null,{"$f":"COUNTA(C4:C33)","v":0},{"$f":"SUM(N4:N33)","v":"00:00:00"},{"$f":"SUM(R4:R33)","v":0}]

{"sheet":" 4- 20","index":26,"n_rows":36,"n_cols":19,"rows_kept":36,"cut":false,"hidden":false,"merged":[[1,9,2,9],[1,0,2,0],[1,1,2,1],[1,2,1,3],[1,4,1,5],[1,7,2,7],[1,8,2,8]]}
[null,"2021-04-20"]
["番号","氏名","勤務開始",null,"勤務終了",null,"休憩時間","時給区分","加算額","賃金"]
[null,null,"時","分","時","分","分間",null,null,null,"開始時刻","終了時刻","休憩時間","労働時間","時給","労働賃金","加算額","賃金計","出勤"]
[1,"あきら",null,null,null,null,null,null,null,{"$f":"R4","v":""},{"$f":"IF(C4=\"\",\"\",C4&\":\"&D4)","v":""},{"$f":"IF(C4=\"\",\"\",E4&\":\"&F4)","v":""},{"$f":"IF(G4=\"\",\"00:00\",\"00:\"&G4)","v":"00:00"},{"$f":"IF(K4=\"\",\"\",L4-K4-M4)","v":""},{"$f":"IF(H4=\"\",\"\",VLOOKUP(H4,データシート!$D$2:$E$5,2))","v":""},{"$f":"IF(K4=\"\",\"\",N4*24*O4)","v":""},{"$f":"IF(I4=\"\",0,I4)","v":0},{"$f":"IF(K4=\"\",\"\",ROUNDUP(P4+Q4,0))","v":""},{"$f":"IF(C4=\"\",0,1)","v":0}]
[2,"こうじ",null,null,null,null,null,null,null,"",{"$f":"IF(C5=\"\",\"\",C5&\":\"&D5)","v":""},{"$f":"IF(C5=\"\",\"\",E5&\":\"&F5)","v":""},{"$f":"IF(G5=\"\",\"00:00\",\"00:\"&G5)","v":"00:00"},{"$f":"IF(K5=\"\",\"\",L5-K5-M5)","v":""},{"$f":"IF(H5=\"\",\"\",VLOOKUP(H5,データシート!$D$2:$E$5,2))","v":""},{"$f":"IF(K5=\"\",\"\",N5*24*O5)","v":""},{"$f":"IF(I5=\"\",0,I5)","v":0},{"$f":"IF(K5=\"\",\"\",ROUNDUP(P5+Q5,0))","v":""},{"$f":"IF(C5=\"\",0,1)","v":0}]
[3,"ひろかず",null,null,null,null,null,null,null,"","","","00:00","",{"$f":"IF(H6=\"\",\"\",VLOOKUP(H6,データシート!$D$2:$E$5,2))","v":""},"",0,"",0]
[4,"さやか",null,null,null,null,null,null,null,"","","","00:00","",{"$f":"IF(H7=\"\",\"\",VLOOKUP(H7,データシート!$D$2:$E$5,2))","v":""},"",0,"",0]
[5,"れんたろう",null,null,null,null,null,null,null,"","","","00:00","",{"$f":"IF(H8=\"\",\"\",VLOOKUP(H8,データシート!$D$2:$E$5,2))","v":""},"",0,"",0]
[6,"ごろう",null,null,null,null,null,null,null,"","","","00:00","",{"$f":"IF(H9=\"\",\"\",VLOOKUP(H9,データシート!$D$2:$E$5,2))","v":""},"",0,"",0]
[7,"さぶろう",null,null,null,null,null,null,null,"","","","00:00","",{"$f":"IF(H10=\"\",\"\",VLOOKUP(H10,データシート!$D$2:$E$5,2))","v":""},"",0,"",0]
[8,"きみとし",null,null,null,null,null,null,null,"","","","00:00","",{"$f":"IF(H11=\"\",\"\",VLOOKUP(H11,データシート!$D$2:$E$5,2))","v":""},"",0,"",0]
[9,"ぶんた",null,null,null,null,null,null,null,"","","","00:00","",{"$f":"IF(H12=\"\",\"\",VLOOKUP(H12,データシート!$D$2:$E$5,2))","v":""},"",0,"",0]
[10,"あきよし",null,null,null,null,null,null,null,"","","","00:00","",{"$f":"IF(H13=\"\",\"\",VLOOKUP(H13,データシート!$D$2:$E$5,2))","v":""},"",0,"",0]
[11,"つむぐ",null,null,null,null,null,null,null,"","","","00:00","",{"$f":"IF(H14=\"\",\"\",VLOOKUP(H14,データシート!$D$2:$E$5,2))","v":""},"",0,"",0]
[12,"れお",null,null,null,null,null,null,null,"","","","00:00","",{"$f":"IF(H15=\"\",\"\",VLOOKUP(H15,データシート!$D$2:$E$5,2))","v":""},"",0,"",0]
[13,"ひびき",null,null,null,null,null,null,null,"","","","00:00","",{"$f":"IF(H16=\"\",\"\",VLOOKUP(H16,データシート!$D$2:$E$5,2))","v":""},"",0,"",0]
[14,"ゆうま",null,null,null,null,null,null,null,"","","","00:00","",{"$f":"IF(H17=\"\",\"\",VLOOKUP(H17,データシート!$D$2:$E$5,2))","v":""},"",0,"",0]
[15,"こうき",null,null,null,null,null,null,null,"","","","00:00","",{"$f":"IF(H18=\"\",\"\",VLOOKUP(H18,データシート!$D$2:$E$5,2))","v":""},"",0,"",0]
[16,"ゆめ",null,null,null,null,null,null,null,"","","","00:00","",{"$f":"IF(H19=\"\",\"\",VLOOKUP(H19,データシート!$D$2:$E$5,2))","v":""},"",0,"",0]
[17,"こたろう",null,null,null,null,null,null,null,"","","","00:00","",{"$f":"IF(H20=\"\",\"\",VLOOKUP(H20,データシート!$D$2:$E$5,2))","v":""},"",0,"",0]
[18,"ゆうしょう",null,null,null,null,null,null,null,"","","","00:00","",{"$f":"IF(H21=\"\",\"\",VLOOKUP(H21,データシート!$D$2:$E$5,2))","v":""},"",0,"",0]
[19,"けんと",null,null,null,null,null,null,null,"","","","00:00","",{"$f":"IF(H22=\"\",\"\",VLOOKUP(H22,データシート!$D$2:$E$5,2))","v":""},"",0,"",0]
[20,"あやか",null,null,null,null,null,null,null,"","","","00:00","",{"$f":"IF(H23=\"\",\"\",VLOOKUP(H23,データシート!$D$2:$E$5,2))","v":""},"",0,"",0]
[21,"さんし",null,null,null,null,null,null,null,"","","","00:00","",{"$f":"IF(H24=\"\",\"\",VLOOKUP(H24,データシート!$D$2:$E$5,2))","v":""},"",0,"",0]
[22,null,null,null,null,null,null,null,null,"","","","00:00","",{"$f":"IF(H25=\"\",\"\",VLOOKUP(H25,データシート!$D$2:$E$5,2))","v":""},"",0,"",0]
[23,null,null,null,null,null,null,null,null,"","","","00:00","",{"$f":"IF(H26=\"\",\"\",VLOOKUP(H26,データシート!$D$2:$E$5,2))","v":""},"",0,"",0]
[24,null,null,null,null,null,null,null,null,"","","","00:00","",{"$f":"IF(H27=\"\",\"\",VLOOKUP(H27,データシート!$D$2:$E$5,2))","v":""},"",0,"",0]
[25,null,null,null,null,null,null,null,null,"","","","00:00","",{"$f":"IF(H28=\"\",\"\",VLOOKUP(H28,データシート!$D$2:$E$5,2))","v":""},"",0,"",0]
[26,null,null,null,null,null,null,null,null,"","","","00:00","",{"$f":"IF(H29=\"\",\"\",VLOOKUP(H29,データシート!$D$2:$E$5,2))","v":""},"",0,"",0]
[27,null,null,null,null,null,null,null,null,"","","","00:00","",{"$f":"IF(H30=\"\",\"\",VLOOKUP(H30,データシート!$D$2:$E$5,2))","v":""},"",0,"",0]
[28,null,null,null,null,null,null,null,null,"","","","00:00","",{"$f":"IF(H31=\"\",\"\",VLOOKUP(H31,データシート!$D$2:$E$5,2))","v":""},"",0,"",0]
[29,null,null,null,null,null,null,null,null,"","","","00:00","",{"$f":"IF(H32=\"\",\"\",VLOOKUP(H32,データシート!$D$2:$E$5,2))","v":""},"",0,"",0]
[30,null,null,null,null,null,null,null,null,"","","","00:00","",{"$f":"IF(H33=\"\",\"\",VLOOKUP(H33,データシート!$D$2:$E$5,2))","v":""},"",0,"",0]
[]
[null,"勤務者数","総労働時間","総賃金"]
[null,{"$f":"COUNTA(C4:C33)","v":0},{"$f":"SUM(N4:N33)","v":"00:00:00"},{"$f":"SUM(R4:R33)","v":0}]

{"sheet":" 4- 21","index":27,"n_rows":36,"n_cols":19,"rows_kept":36,"cut":false,"hidden":false,"merged":[[1,9,2,9],[1,0,2,0],[1,1,2,1],[1,2,1,3],[1,4,1,5],[1,7,2,7],[1,8,2,8]]}
[null,"2021-04-21"]
["番号","氏名","勤務開始",null,"勤務終了",null,"休憩時間","時給区分","加算額","賃金"]
[null,null,"時","分","時","分","分間",null,null,null,"開始時刻","終了時刻","休憩時間","労働時間","時給","労働賃金","加算額","賃金計","出勤"]
[1,"あきら",null,null,null,null,null,null,null,{"$f":"R4","v":""},{"$f":"IF(C4=\"\",\"\",C4&\":\"&D4)","v":""},{"$f":"IF(C4=\"\",\"\",E4&\":\"&F4)","v":""},{"$f":"IF(G4=\"\",\"00:00\",\"00:\"&G4)","v":"00:00"},{"$f":"IF(K4=\"\",\"\",L4-K4-M4)","v":""},{"$f":"IF(H4=\"\",\"\",VLOOKUP(H4,データシート!$D$2:$E$5,2))","v":""},{"$f":"IF(K4=\"\",\"\",N4*24*O4)","v":""},{"$f":"IF(I4=\"\",0,I4)","v":0},{"$f":"IF(K4=\"\",\"\",ROUNDUP(P4+Q4,0))","v":""},{"$f":"IF(C4=\"\",0,1)","v":0}]
[2,"こうじ",null,null,null,null,null,null,null,"",{"$f":"IF(C5=\"\",\"\",C5&\":\"&D5)","v":""},{"$f":"IF(C5=\"\",\"\",E5&\":\"&F5)","v":""},{"$f":"IF(G5=\"\",\"00:00\",\"00:\"&G5)","v":"00:00"},{"$f":"IF(K5=\"\",\"\",L5-K5-M5)","v":""},{"$f":"IF(H5=\"\",\"\",VLOOKUP(H5,データシート!$D$2:$E$5,2))","v":""},{"$f":"IF(K5=\"\",\"\",N5*24*O5)","v":""},{"$f":"IF(I5=\"\",0,I5)","v":0},{"$f":"IF(K5=\"\",\"\",ROUNDUP(P5+Q5,0))","v":""},{"$f":"IF(C5=\"\",0,1)","v":0}]
[3,"ひろかず",null,null,null,null,null,null,null,"","","","00:00","",{"$f":"IF(H6=\"\",\"\",VLOOKUP(H6,データシート!$D$2:$E$5,2))","v":""},"",0,"",0]
[4,"さやか",null,null,null,null,null,null,null,"","","","00:00","",{"$f":"IF(H7=\"\",\"\",VLOOKUP(H7,データシート!$D$2:$E$5,2))","v":""},"",0,"",0]
[5,"れんたろう",null,null,null,null,null,null,null,"","","","00:00","",{"$f":"IF(H8=\"\",\"\",VLOOKUP(H8,データシート!$D$2:$E$5,2))","v":""},"",0,"",0]
[6,"ごろう",null,null,null,null,null,null,null,"","","","00:00","",{"$f":"IF(H9=\"\",\"\",VLOOKUP(H9,データシート!$D$2:$E$5,2))","v":""},"",0,"",0]
[7,"さぶろう",null,null,null,null,null,null,null,"","","","00:00","",{"$f":"IF(H10=\"\",\"\",VLOOKUP(H10,データシート!$D$2:$E$5,2))","v":""},"",0,"",0]
[8,"きみとし",null,null,null,null,null,null,null,"","","","00:00","",{"$f":"IF(H11=\"\",\"\",VLOOKUP(H11,データシート!$D$2:$E$5,2))","v":""},"",0,"",0]
[9,"ぶんた",null,null,null,null,null,null,null,"","","","00:00","",{"$f":"IF(H12=\"\",\"\",VLOOKUP(H12,データシート!$D$2:$E$5,2))","v":""},"",0,"",0]
[10,"あきよし",null,null,null,null,null,null,null,"","","","00:00","",{"$f":"IF(H13=\"\",\"\",VLOOKUP(H13,データシート!$D$2:$E$5,2))","v":""},"",0,"",0]
[11,"つむぐ",null,null,null,null,null,null,null,"","","","00:00","",{"$f":"IF(H14=\"\",\"\",VLOOKUP(H14,データシート!$D$2:$E$5,2))","v":""},"",0,"",0]
[12,"れお",null,null,null,null,null,null,null,"","","","00:00","",{"$f":"IF(H15=\"\",\"\",VLOOKUP(H15,データシート!$D$2:$E$5,2))","v":""},"",0,"",0]
[13,"ひびき",null,null,null,null,null,null,null,"","","","00:00","",{"$f":"IF(H16=\"\",\"\",VLOOKUP(H16,データシート!$D$2:$E$5,2))","v":""},"",0,"",0]
[14,"ゆうま",null,null,null,null,null,null,null,"","","","00:00","",{"$f":"IF(H17=\"\",\"\",VLOOKUP(H17,データシート!$D$2:$E$5,2))","v":""},"",0,"",0]
[15,"こうき",null,null,null,null,null,null,null,"","","","00:00","",{"$f":"IF(H18=\"\",\"\",VLOOKUP(H18,データシート!$D$2:$E$5,2))","v":""},"",0,"",0]
[16,"ゆめ",null,null,null,null,null,null,null,"","","","00:00","",{"$f":"IF(H19=\"\",\"\",VLOOKUP(H19,データシート!$D$2:$E$5,2))","v":""},"",0,"",0]
[17,"こたろう",null,null,null,null,null,null,null,"","","","00:00","",{"$f":"IF(H20=\"\",\"\",VLOOKUP(H20,データシート!$D$2:$E$5,2))","v":""},"",0,"",0]
[18,"ゆうしょう",null,null,null,null,null,null,null,"","","","00:00","",{"$f":"IF(H21=\"\",\"\",VLOOKUP(H21,データシート!$D$2:$E$5,2))","v":""},"",0,"",0]
[19,"けんと",null,null,null,null,null,null,null,"","","","00:00","",{"$f":"IF(H22=\"\",\"\",VLOOKUP(H22,データシート!$D$2:$E$5,2))","v":""},"",0,"",0]
[20,"あやか",null,null,null,null,null,null,null,"","","","00:00","",{"$f":"IF(H23=\"\",\"\",VLOOKUP(H23,データシート!$D$2:$E$5,2))","v":""},"",0,"",0]
[21,"さんし",null,null,null,null,null,null,null,"","","","00:00","",{"$f":"IF(H24=\"\",\"\",VLOOKUP(H24,データシート!$D$2:$E$5,2))","v":""},"",0,"",0]
[22,null,null,null,null,null,null,null,null,"","","","00:00","",{"$f":"IF(H25=\"\",\"\",VLOOKUP(H25,データシート!$D$2:$E$5,2))","v":""},"",0,"",0]
[23,null,null,null,null,null,null,null,null,"","","","00:00","",{"$f":"IF(H26=\"\",\"\",VLOOKUP(H26,データシート!$D$2:$E$5,2))","v":""},"",0,"",0]
[24,null,null,null,null,null,null,null,null,"","","","00:00","",{"$f":"IF(H27=\"\",\"\",VLOOKUP(H27,データシート!$D$2:$E$5,2))","v":""},"",0,"",0]
[25,null,null,null,null,null,null,null,null,"","","","00:00","",{"$f":"IF(H28=\"\",\"\",VLOOKUP(H28,データシート!$D$2:$E$5,2))","v":""},"",0,"",0]
[26,null,null,null,null,null,null,null,null,"","","","00:00","",{"$f":"IF(H29=\"\",\"\",VLOOKUP(H29,データシート!$D$2:$E$5,2))","v":""},"",0,"",0]
[27,null,null,null,null,null,null,null,null,"","","","00:00","",{"$f":"IF(H30=\"\",\"\",VLOOKUP(H30,データシート!$D$2:$E$5,2))","v":""},"",0,"",0]
[28,null,null,null,null,null,null,null,null,"","","","00:00","",{"$f":"IF(H31=\"\",\"\",VLOOKUP(H31,データシート!$D$2:$E$5,2))","v":""},"",0,"",0]
[29,null,null,null,null,null,null,null,null,"","","","00:00","",{"$f":"IF(H32=\"\",\"\",VLOOKUP(H32,データシート!$D$2:$E$5,2))","v":""},"",0,"",0]
[30,null,null,null,null,null,null,null,null,"","","","00:00","",{"$f":"IF(H33=\"\",\"\",VLOOKUP(H33,データシート!$D$2:$E$5,2))","v":""},"",0,"",0]
[]
[null,"勤務者数","総労働時間","総賃金"]
[null,{"$f":"COUNTA(C4:C33)","v":0},{"$f":"SUM(N4:N33)","v":"00:00:00"},{"$f":"SUM(R4:R33)","v":0}]

{"sheet":" 4- 22","index":28,"n_rows":36,"n_cols":19,"rows_kept":36,"cut":false,"hidden":false,"merged":[[1,9,2,9],[1,0,2,0],[1,1,2,1],[1,2,1,3],[1,4,1,5],[1,7,2,7],[1,8,2,8]]}
[null,"2021-04-22"]
["番号","氏名","勤務開始",null,"勤務終了",null,"休憩時間","時給区分","加算額","賃金"]
[null,null,"時","分","時","分","分間",null,null,null,"開始時刻","終了時刻","休憩時間","労働時間","時給","労働賃金","加算額","賃金計","出勤"]
[1,"あきら",null,null,null,null,null,null,null,{"$f":"R4","v":""},{"$f":"IF(C4=\"\",\"\",C4&\":\"&D4)","v":""},{"$f":"IF(C4=\"\",\"\",E4&\":\"&F4)","v":""},{"$f":"IF(G4=\"\",\"00:00\",\"00:\"&G4)","v":"00:00"},{"$f":"IF(K4=\"\",\"\",L4-K4-M4)","v":""},{"$f":"IF(H4=\"\",\"\",VLOOKUP(H4,データシート!$D$2:$E$5,2))","v":""},{"$f":"IF(K4=\"\",\"\",N4*24*O4)","v":""},{"$f":"IF(I4=\"\",0,I4)","v":0},{"$f":"IF(K4=\"\",\"\",ROUNDUP(P4+Q4,0))","v":""},{"$f":"IF(C4=\"\",0,1)","v":0}]
[2,"こうじ",null,null,null,null,null,null,null,"",{"$f":"IF(C5=\"\",\"\",C5&\":\"&D5)","v":""},{"$f":"IF(C5=\"\",\"\",E5&\":\"&F5)","v":""},{"$f":"IF(G5=\"\",\"00:00\",\"00:\"&G5)","v":"00:00"},{"$f":"IF(K5=\"\",\"\",L5-K5-M5)","v":""},{"$f":"IF(H5=\"\",\"\",VLOOKUP(H5,データシート!$D$2:$E$5,2))","v":""},{"$f":"IF(K5=\"\",\"\",N5*24*O5)","v":""},{"$f":"IF(I5=\"\",0,I5)","v":0},{"$f":"IF(K5=\"\",\"\",ROUNDUP(P5+Q5,0))","v":""},{"$f":"IF(C5=\"\",0,1)","v":0}]
[3,"ひろかず",null,null,null,null,null,null,null,"","","","00:00","",{"$f":"IF(H6=\"\",\"\",VLOOKUP(H6,データシート!$D$2:$E$5,2))","v":""},"",0,"",0]
[4,"さやか",null,null,null,null,null,null,null,"","","","00:00","",{"$f":"IF(H7=\"\",\"\",VLOOKUP(H7,データシート!$D$2:$E$5,2))","v":""},"",0,"",0]
[5,"れんたろう",null,null,null,null,null,null,null,"","","","00:00","",{"$f":"IF(H8=\"\",\"\",VLOOKUP(H8,データシート!$D$2:$E$5,2))","v":""},"",0,"",0]
[6,"ごろう",null,null,null,null,null,null,null,"","","","00:00","",{"$f":"IF(H9=\"\",\"\",VLOOKUP(H9,データシート!$D$2:$E$5,2))","v":""},"",0,"",0]
[7,"さぶろう",null,null,null,null,null,null,null,"","","","00:00","",{"$f":"IF(H10=\"\",\"\",VLOOKUP(H10,データシート!$D$2:$E$5,2))","v":""},"",0,"",0]
[8,"きみとし",null,null,null,null,null,null,null,"","","","00:00","",{"$f":"IF(H11=\"\",\"\",VLOOKUP(H11,データシート!$D$2:$E$5,2))","v":""},"",0,"",0]
[9,"ぶんた",null,null,null,null,null,null,null,"","","","00:00","",{"$f":"IF(H12=\"\",\"\",VLOOKUP(H12,データシート!$D$2:$E$5,2))","v":""},"",0,"",0]
[10,"あきよし",null,null,null,null,null,null,null,"","","","00:00","",{"$f":"IF(H13=\"\",\"\",VLOOKUP(H13,データシート!$D$2:$E$5,2))","v":""},"",0,"",0]
[11,"つむぐ",null,null,null,null,null,null,null,"","","","00:00","",{"$f":"IF(H14=\"\",\"\",VLOOKUP(H14,データシート!$D$2:$E$5,2))","v":""},"",0,"",0]
[12,"れお",null,null,null,null,null,null,null,"","","","00:00","",{"$f":"IF(H15=\"\",\"\",VLOOKUP(H15,データシート!$D$2:$E$5,2))","v":""},"",0,"",0]
[13,"ひびき",null,null,null,null,null,null,null,"","","","00:00","",{"$f":"IF(H16=\"\",\"\",VLOOKUP(H16,データシート!$D$2:$E$5,2))","v":""},"",0,"",0]
[14,"ゆうま",null,null,null,null,null,null,null,"","","","00:00","",{"$f":"IF(H17=\"\",\"\",VLOOKUP(H17,データシート!$D$2:$E$5,2))","v":""},"",0,"",0]
[15,"こうき",null,null,null,null,null,null,null,"","","","00:00","",{"$f":"IF(H18=\"\",\"\",VLOOKUP(H18,データシート!$D$2:$E$5,2))","v":""},"",0,"",0]
[16,"ゆめ",null,null,null,null,null,null,null,"","","","00:00","",{"$f":"IF(H19=\"\",\"\",VLOOKUP(H19,データシート!$D$2:$E$5,2))","v":""},"",0,"",0]
[17,"こたろう",null,null,null,null,null,null,null,"","","","00:00","",{"$f":"IF(H20=\"\",\"\",VLOOKUP(H20,データシート!$D$2:$E$5,2))","v":""},"",0,"",0]
[18,"ゆうしょう",null,null,null,null,null,null,null,"","","","00:00","",{"$f":"IF(H21=\"\",\"\",VLOOKUP(H21,データシート!$D$2:$E$5,2))","v":""},"",0,"",0]
[19,"けんと",null,null,null,null,null,null,null,"","","","00:00","",{"$f":"IF(H22=\"\",\"\",VLOOKUP(H22,データシート!$D$2:$E$5,2))","v":""},"",0,"",0]
[20,"あやか",null,null,null,null,null,null,null,"","","","00:00","",{"$f":"IF(H23=\"\",\"\",VLOOKUP(H23,データシート!$D$2:$E$5,2))","v":""},"",0,"",0]
[21,"さんし",null,null,null,null,null,null,null,"","","","00:00","",{"$f":"IF(H24=\"\",\"\",VLOOKUP(H24,データシート!$D$2:$E$5,2))","v":""},"",0,"",0]
[22,null,null,null,null,null,null,null,null,"","","","00:00","",{"$f":"IF(H25=\"\",\"\",VLOOKUP(H25,データシート!$D$2:$E$5,2))","v":""},"",0,"",0]
[23,null,null,null,null,null,null,null,null,"","","","00:00","",{"$f":"IF(H26=\"\",\"\",VLOOKUP(H26,データシート!$D$2:$E$5,2))","v":""},"",0,"",0]
[24,null,null,null,null,null,null,null,null,"","","","00:00","",{"$f":"IF(H27=\"\",\"\",VLOOKUP(H27,データシート!$D$2:$E$5,2))","v":""},"",0,"",0]
[25,null,null,null,null,null,null,null,null,"","","","00:00","",{"$f":"IF(H28=\"\",\"\",VLOOKUP(H28,データシート!$D$2:$E$5,2))","v":""},"",0,"",0]
[26,null,null,null,null,null,null,null,null,"","","","00:00","",{"$f":"IF(H29=\"\",\"\",VLOOKUP(H29,データシート!$D$2:$E$5,2))","v":""},"",0,"",0]
[27,null,null,null,null,null,null,null,null,"","","","00:00","",{"$f":"IF(H30=\"\",\"\",VLOOKUP(H30,データシート!$D$2:$E$5,2))","v":""},"",0,"",0]
[28,null,null,null,null,null,null,null,null,"","","","00:00","",{"$f":"IF(H31=\"\",\"\",VLOOKUP(H31,データシート!$D$2:$E$5,2))","v":""},"",0,"",0]
[29,null,null,null,null,null,null,null,null,"","","","00:00","",{"$f":"IF(H32=\"\",\"\",VLOOKUP(H32,データシート!$D$2:$E$5,2))","v":""},"",0,"",0]
[30,null,null,null,null,null,null,null,null,"","","","00:00","",{"$f":"IF(H33=\"\",\"\",VLOOKUP(H33,データシート!$D$2:$E$5,2))","v":""},"",0,"",0]
[]
[null,"勤務者数","総労働時間","総賃金"]
[null,{"$f":"COUNTA(C4:C33)","v":0},{"$f":"SUM(N4:N33)","v":"00:00:00"},{"$f":"SUM(R4:R33)","v":0}]

{"sheet":" 4- 23","index":29,"n_rows":36,"n_cols":19,"rows_kept":36,"cut":false,"hidden":false,"merged":[[1,9,2,9],[1,0,2,0],[1,1,2,1],[1,2,1,3],[1,4,1,5],[1,7,2,7],[1,8,2,8]]}
[null,"2021-04-23"]
["番号","氏名","勤務開始",null,"勤務終了",null,"休憩時間","時給区分","加算額","賃金"]
[null,null,"時","分","時","分","分間",null,null,null,"開始時刻","終了時刻","休憩時間","労働時間","時給","労働賃金","加算額","賃金計","出勤"]
[1,"あきら",null,null,null,null,null,null,null,{"$f":"R4","v":""},{"$f":"IF(C4=\"\",\"\",C4&\":\"&D4)","v":""},{"$f":"IF(C4=\"\",\"\",E4&\":\"&F4)","v":""},{"$f":"IF(G4=\"\",\"00:00\",\"00:\"&G4)","v":"00:00"},{"$f":"IF(K4=\"\",\"\",L4-K4-M4)","v":""},{"$f":"IF(H4=\"\",\"\",VLOOKUP(H4,データシート!$D$2:$E$5,2))","v":""},{"$f":"IF(K4=\"\",\"\",N4*24*O4)","v":""},{"$f":"IF(I4=\"\",0,I4)","v":0},{"$f":"IF(K4=\"\",\"\",ROUNDUP(P4+Q4,0))","v":""},{"$f":"IF(C4=\"\",0,1)","v":0}]
[2,"こうじ",null,null,null,null,null,null,null,"",{"$f":"IF(C5=\"\",\"\",C5&\":\"&D5)","v":""},{"$f":"IF(C5=\"\",\"\",E5&\":\"&F5)","v":""},{"$f":"IF(G5=\"\",\"00:00\",\"00:\"&G5)","v":"00:00"},{"$f":"IF(K5=\"\",\"\",L5-K5-M5)","v":""},{"$f":"IF(H5=\"\",\"\",VLOOKUP(H5,データシート!$D$2:$E$5,2))","v":""},{"$f":"IF(K5=\"\",\"\",N5*24*O5)","v":""},{"$f":"IF(I5=\"\",0,I5)","v":0},{"$f":"IF(K5=\"\",\"\",ROUNDUP(P5+Q5,0))","v":""},{"$f":"IF(C5=\"\",0,1)","v":0}]
[3,"ひろかず",null,null,null,null,null,null,null,"","","","00:00","",{"$f":"IF(H6=\"\",\"\",VLOOKUP(H6,データシート!$D$2:$E$5,2))","v":""},"",0,"",0]
[4,"さやか",null,null,null,null,null,null,null,"","","","00:00","",{"$f":"IF(H7=\"\",\"\",VLOOKUP(H7,データシート!$D$2:$E$5,2))","v":""},"",0,"",0]
[5,"れんたろう",null,null,null,null,null,null,null,"","","","00:00","",{"$f":"IF(H8=\"\",\"\",VLOOKUP(H8,データシート!$D$2:$E$5,2))","v":""},"",0,"",0]
[6,"ごろう",null,null,null,null,null,null,null,"","","","00:00","",{"$f":"IF(H9=\"\",\"\",VLOOKUP(H9,データシート!$D$2:$E$5,2))","v":""},"",0,"",0]
[7,"さぶろう",null,null,null,null,null,null,null,"","","","00:00","",{"$f":"IF(H10=\"\",\"\",VLOOKUP(H10,データシート!$D$2:$E$5,2))","v":""},"",0,"",0]
[8,"きみとし",null,null,null,null,null,null,null,"","","","00:00","",{"$f":"IF(H11=\"\",\"\",VLOOKUP(H11,データシート!$D$2:$E$5,2))","v":""},"",0,"",0]
[9,"ぶんた",null,null,null,null,null,null,null,"","","","00:00","",{"$f":"IF(H12=\"\",\"\",VLOOKUP(H12,データシート!$D$2:$E$5,2))","v":""},"",0,"",0]
[10,"あきよし",null,null,null,null,null,null,null,"","","","00:00","",{"$f":"IF(H13=\"\",\"\",VLOOKUP(H13,データシート!$D$2:$E$5,2))","v":""},"",0,"",0]
[11,"つむぐ",null,null,null,null,null,null,null,"","","","00:00","",{"$f":"IF(H14=\"\",\"\",VLOOKUP(H14,データシート!$D$2:$E$5,2))","v":""},"",0,"",0]
[12,"れお",null,null,null,null,null,null,null,"","","","00:00","",{"$f":"IF(H15=\"\",\"\",VLOOKUP(H15,データシート!$D$2:$E$5,2))","v":""},"",0,"",0]
[13,"ひびき",null,null,null,null,null,null,null,"","","","00:00","",{"$f":"IF(H16=\"\",\"\",VLOOKUP(H16,データシート!$D$2:$E$5,2))","v":""},"",0,"",0]
[14,"ゆうま",null,null,null,null,null,null,null,"","","","00:00","",{"$f":"IF(H17=\"\",\"\",VLOOKUP(H17,データシート!$D$2:$E$5,2))","v":""},"",0,"",0]
[15,"こうき",null,null,null,null,null,null,null,"","","","00:00","",{"$f":"IF(H18=\"\",\"\",VLOOKUP(H18,データシート!$D$2:$E$5,2))","v":""},"",0,"",0]
[16,"ゆめ",null,null,null,null,null,null,null,"","","","00:00","",{"$f":"IF(H19=\"\",\"\",VLOOKUP(H19,データシート!$D$2:$E$5,2))","v":""},"",0,"",0]
[17,"こたろう",null,null,null,null,null,null,null,"","","","00:00","",{"$f":"IF(H20=\"\",\"\",VLOOKUP(H20,データシート!$D$2:$E$5,2))","v":""},"",0,"",0]
[18,"ゆうしょう",null,null,null,null,null,null,null,"","","","00:00","",{"$f":"IF(H21=\"\",\"\",VLOOKUP(H21,データシート!$D$2:$E$5,2))","v":""},"",0,"",0]
[19,"けんと",null,null,null,null,null,null,null,"","","","00:00","",{"$f":"IF(H22=\"\",\"\",VLOOKUP(H22,データシート!$D$2:$E$5,2))","v":""},"",0,"",0]
[20,"あやか",null,null,null,null,null,null,null,"","","","00:00","",{"$f":"IF(H23=\"\",\"\",VLOOKUP(H23,データシート!$D$2:$E$5,2))","v":""},"",0,"",0]
[21,"さんし",null,null,null,null,null,null,null,"","","","00:00","",{"$f":"IF(H24=\"\",\"\",VLOOKUP(H24,データシート!$D$2:$E$5,2))","v":""},"",0,"",0]
[22,null,null,null,null,null,null,null,null,"","","","00:00","",{"$f":"IF(H25=\"\",\"\",VLOOKUP(H25,データシート!$D$2:$E$5,2))","v":""},"",0,"",0]
[23,null,null,null,null,null,null,null,null,"","","","00:00","",{"$f":"IF(H26=\"\",\"\",VLOOKUP(H26,データシート!$D$2:$E$5,2))","v":""},"",0,"",0]
[24,null,null,null,null,null,null,null,null,"","","","00:00","",{"$f":"IF(H27=\"\",\"\",VLOOKUP(H27,データシート!$D$2:$E$5,2))","v":""},"",0,"",0]
[25,null,null,null,null,null,null,null,null,"","","","00:00","",{"$f":"IF(H28=\"\",\"\",VLOOKUP(H28,データシート!$D$2:$E$5,2))","v":""},"",0,"",0]
[26,null,null,null,null,null,null,null,null,"","","","00:00","",{"$f":"IF(H29=\"\",\"\",VLOOKUP(H29,データシート!$D$2:$E$5,2))","v":""},"",0,"",0]
[27,null,null,null,null,null,null,null,null,"","","","00:00","",{"$f":"IF(H30=\"\",\"\",VLOOKUP(H30,データシート!$D$2:$E$5,2))","v":""},"",0,"",0]
[28,null,null,null,null,null,null,null,null,"","","","00:00","",{"$f":"IF(H31=\"\",\"\",VLOOKUP(H31,データシート!$D$2:$E$5,2))","v":""},"",0,"",0]
[29,null,null,null,null,null,null,null,null,"","","","00:00","",{"$f":"IF(H32=\"\",\"\",VLOOKUP(H32,データシート!$D$2:$E$5,2))","v":""},"",0,"",0]
[30,null,null,null,null,null,null,null,null,"","","","00:00","",{"$f":"IF(H33=\"\",\"\",VLOOKUP(H33,データシート!$D$2:$E$5,2))","v":""},"",0,"",0]
[]
[null,"勤務者数","総労働時間","総賃金"]
[null,{"$f":"COUNTA(C4:C33)","v":0},{"$f":"SUM(N4:N33)","v":"00:00:00"},{"$f":"SUM(R4:R33)","v":0}]

{"sheet":" 4- 24","index":30,"n_rows":36,"n_cols":19,"rows_kept":36,"cut":false,"hidden":false,"merged":[[1,9,2,9],[1,0,2,0],[1,1,2,1],[1,2,1,3],[1,4,1,5],[1,7,2,7],[1,8,2,8]]}
[null,"2021-04-24"]
["番号","氏名","勤務開始",null,"勤務終了",null,"休憩時間","時給区分","加算額","賃金"]
[null,null,"時","分","時","分","分間",null,null,null,"開始時刻","終了時刻","休憩時間","労働時間","時給","労働賃金","加算額","賃金計","出勤"]
[1,"あきら",null,null,null,null,null,null,null,{"$f":"R4","v":""},{"$f":"IF(C4=\"\",\"\",C4&\":\"&D4)","v":""},{"$f":"IF(C4=\"\",\"\",E4&\":\"&F4)","v":""},{"$f":"IF(G4=\"\",\"00:00\",\"00:\"&G4)","v":"00:00"},{"$f":"IF(K4=\"\",\"\",L4-K4-M4)","v":""},{"$f":"IF(H4=\"\",\"\",VLOOKUP(H4,データシート!$D$2:$E$5,2))","v":""},{"$f":"IF(K4=\"\",\"\",N4*24*O4)","v":""},{"$f":"IF(I4=\"\",0,I4)","v":0},{"$f":"IF(K4=\"\",\"\",ROUNDUP(P4+Q4,0))","v":""},{"$f":"IF(C4=\"\",0,1)","v":0}]
[2,"こうじ",null,null,null,null,null,null,null,"",{"$f":"IF(C5=\"\",\"\",C5&\":\"&D5)","v":""},{"$f":"IF(C5=\"\",\"\",E5&\":\"&F5)","v":""},{"$f":"IF(G5=\"\",\"00:00\",\"00:\"&G5)","v":"00:00"},{"$f":"IF(K5=\"\",\"\",L5-K5-M5)","v":""},{"$f":"IF(H5=\"\",\"\",VLOOKUP(H5,データシート!$D$2:$E$5,2))","v":""},{"$f":"IF(K5=\"\",\"\",N5*24*O5)","v":""},{"$f":"IF(I5=\"\",0,I5)","v":0},{"$f":"IF(K5=\"\",\"\",ROUNDUP(P5+Q5,0))","v":""},{"$f":"IF(C5=\"\",0,1)","v":0}]
[3,"ひろかず",null,null,null,null,null,null,null,"","","","00:00","",{"$f":"IF(H6=\"\",\"\",VLOOKUP(H6,データシート!$D$2:$E$5,2))","v":""},"",0,"",0]
[4,"さやか",null,null,null,null,null,null,null,"","","","00:00","",{"$f":"IF(H7=\"\",\"\",VLOOKUP(H7,データシート!$D$2:$E$5,2))","v":""},"",0,"",0]
[5,"れんたろう",null,null,null,null,null,null,null,"","","","00:00","",{"$f":"IF(H8=\"\",\"\",VLOOKUP(H8,データシート!$D$2:$E$5,2))","v":""},"",0,"",0]
[6,"ごろう",null,null,null,null,null,null,null,"","","","00:00","",{"$f":"IF(H9=\"\",\"\",VLOOKUP(H9,データシート!$D$2:$E$5,2))","v":""},"",0,"",0]
[7,"さぶろう",null,null,null,null,null,null,null,"","","","00:00","",{"$f":"IF(H10=\"\",\"\",VLOOKUP(H10,データシート!$D$2:$E$5,2))","v":""},"",0,"",0]
[8,"きみとし",null,null,null,null,null,null,null,"","","","00:00","",{"$f":"IF(H11=\"\",\"\",VLOOKUP(H11,データシート!$D$2:$E$5,2))","v":""},"",0,"",0]
[9,"ぶんた",null,null,null,null,null,null,null,"","","","00:00","",{"$f":"IF(H12=\"\",\"\",VLOOKUP(H12,データシート!$D$2:$E$5,2))","v":""},"",0,"",0]
[10,"あきよし",null,null,null,null,null,null,null,"","","","00:00","",{"$f":"IF(H13=\"\",\"\",VLOOKUP(H13,データシート!$D$2:$E$5,2))","v":""},"",0,"",0]
[11,"つむぐ",null,null,null,null,null,null,null,"","","","00:00","",{"$f":"IF(H14=\"\",\"\",VLOOKUP(H14,データシート!$D$2:$E$5,2))","v":""},"",0,"",0]
[12,"れお",null,null,null,null,null,null,null,"","","","00:00","",{"$f":"IF(H15=\"\",\"\",VLOOKUP(H15,データシート!$D$2:$E$5,2))","v":""},"",0,"",0]
[13,"ひびき",null,null,null,null,null,null,null,"","","","00:00","",{"$f":"IF(H16=\"\",\"\",VLOOKUP(H16,データシート!$D$2:$E$5,2))","v":""},"",0,"",0]
[14,"ゆうま",null,null,null,null,null,null,null,"","","","00:00","",{"$f":"IF(H17=\"\",\"\",VLOOKUP(H17,データシート!$D$2:$E$5,2))","v":""},"",0,"",0]
[15,"こうき",null,null,null,null,null,null,null,"","","","00:00","",{"$f":"IF(H18=\"\",\"\",VLOOKUP(H18,データシート!$D$2:$E$5,2))","v":""},"",0,"",0]
[16,"ゆめ",null,null,null,null,null,null,null,"","","","00:00","",{"$f":"IF(H19=\"\",\"\",VLOOKUP(H19,データシート!$D$2:$E$5,2))","v":""},"",0,"",0]
[17,"こたろう",null,null,null,null,null,null,null,"","","","00:00","",{"$f":"IF(H20=\"\",\"\",VLOOKUP(H20,データシート!$D$2:$E$5,2))","v":""},"",0,"",0]
[18,"ゆうしょう",null,null,null,null,null,null,null,"","","","00:00","",{"$f":"IF(H21=\"\",\"\",VLOOKUP(H21,データシート!$D$2:$E$5,2))","v":""},"",0,"",0]
[19,"けんと",null,null,null,null,null,null,null,"","","","00:00","",{"$f":"IF(H22=\"\",\"\",VLOOKUP(H22,データシート!$D$2:$E$5,2))","v":""},"",0,"",0]
[20,"あやか",null,null,null,null,null,null,null,"","","","00:00","",{"$f":"IF(H23=\"\",\"\",VLOOKUP(H23,データシート!$D$2:$E$5,2))","v":""},"",0,"",0]
[21,"さんし",null,null,null,null,null,null,null,"","","","00:00","",{"$f":"IF(H24=\"\",\"\",VLOOKUP(H24,データシート!$D$2:$E$5,2))","v":""},"",0,"",0]
[22,null,null,null,null,null,null,null,null,"","","","00:00","",{"$f":"IF(H25=\"\",\"\",VLOOKUP(H25,データシート!$D$2:$E$5,2))","v":""},"",0,"",0]
[23,null,null,null,null,null,null,null,null,"","","","00:00","",{"$f":"IF(H26=\"\",\"\",VLOOKUP(H26,データシート!$D$2:$E$5,2))","v":""},"",0,"",0]
[24,null,null,null,null,null,null,null,null,"","","","00:00","",{"$f":"IF(H27=\"\",\"\",VLOOKUP(H27,データシート!$D$2:$E$5,2))","v":""},"",0,"",0]
[25,null,null,null,null,null,null,null,null,"","","","00:00","",{"$f":"IF(H28=\"\",\"\",VLOOKUP(H28,データシート!$D$2:$E$5,2))","v":""},"",0,"",0]
[26,null,null,null,null,null,null,null,null,"","","","00:00","",{"$f":"IF(H29=\"\",\"\",VLOOKUP(H29,データシート!$D$2:$E$5,2))","v":""},"",0,"",0]
[27,null,null,null,null,null,null,null,null,"","","","00:00","",{"$f":"IF(H30=\"\",\"\",VLOOKUP(H30,データシート!$D$2:$E$5,2))","v":""},"",0,"",0]
[28,null,null,null,null,null,null,null,null,"","","","00:00","",{"$f":"IF(H31=\"\",\"\",VLOOKUP(H31,データシート!$D$2:$E$5,2))","v":""},"",0,"",0]
[29,null,null,null,null,null,null,null,null,"","","","00:00","",{"$f":"IF(H32=\"\",\"\",VLOOKUP(H32,データシート!$D$2:$E$5,2))","v":""},"",0,"",0]
[30,null,null,null,null,null,null,null,null,"","","","00:00","",{"$f":"IF(H33=\"\",\"\",VLOOKUP(H33,データシート!$D$2:$E$5,2))","v":""},"",0,"",0]
[]
[null,"勤務者数","総労働時間","総賃金"]
[null,{"$f":"COUNTA(C4:C33)","v":0},{"$f":"SUM(N4:N33)","v":"00:00:00"},{"$f":"SUM(R4:R33)","v":0}]

{"sheet":" 4- 25","index":31,"n_rows":36,"n_cols":19,"rows_kept":36,"cut":false,"hidden":false,"merged":[[1,9,2,9],[1,0,2,0],[1,1,2,1],[1,2,1,3],[1,4,1,5],[1,7,2,7],[1,8,2,8]]}
[null,"2021-04-25"]
["番号","氏名","勤務開始",null,"勤務終了",null,"休憩時間","時給区分","加算額","賃金"]
[null,null,"時","分","時","分","分間",null,null,null,"開始時刻","終了時刻","休憩時間","労働時間","時給","労働賃金","加算額","賃金計","出勤"]
[1,"あきら",null,null,null,null,null,null,null,{"$f":"R4","v":""},{"$f":"IF(C4=\"\",\"\",C4&\":\"&D4)","v":""},{"$f":"IF(C4=\"\",\"\",E4&\":\"&F4)","v":""},{"$f":"IF(G4=\"\",\"00:00\",\"00:\"&G4)","v":"00:00"},{"$f":"IF(K4=\"\",\"\",L4-K4-M4)","v":""},{"$f":"IF(H4=\"\",\"\",VLOOKUP(H4,データシート!$D$2:$E$5,2))","v":""},{"$f":"IF(K4=\"\",\"\",N4*24*O4)","v":""},{"$f":"IF(I4=\"\",0,I4)","v":0},{"$f":"IF(K4=\"\",\"\",ROUNDUP(P4+Q4,0))","v":""},{"$f":"IF(C4=\"\",0,1)","v":0}]
[2,"こうじ",null,null,null,null,null,null,null,"",{"$f":"IF(C5=\"\",\"\",C5&\":\"&D5)","v":""},{"$f":"IF(C5=\"\",\"\",E5&\":\"&F5)","v":""},{"$f":"IF(G5=\"\",\"00:00\",\"00:\"&G5)","v":"00:00"},{"$f":"IF(K5=\"\",\"\",L5-K5-M5)","v":""},{"$f":"IF(H5=\"\",\"\",VLOOKUP(H5,データシート!$D$2:$E$5,2))","v":""},{"$f":"IF(K5=\"\",\"\",N5*24*O5)","v":""},{"$f":"IF(I5=\"\",0,I5)","v":0},{"$f":"IF(K5=\"\",\"\",ROUNDUP(P5+Q5,0))","v":""},{"$f":"IF(C5=\"\",0,1)","v":0}]
[3,"ひろかず",null,null,null,null,null,null,null,"","","","00:00","",{"$f":"IF(H6=\"\",\"\",VLOOKUP(H6,データシート!$D$2:$E$5,2))","v":""},"",0,"",0]
[4,"さやか",null,null,null,null,null,null,null,"","","","00:00","",{"$f":"IF(H7=\"\",\"\",VLOOKUP(H7,データシート!$D$2:$E$5,2))","v":""},"",0,"",0]
[5,"れんたろう",null,null,null,null,null,null,null,"","","","00:00","",{"$f":"IF(H8=\"\",\"\",VLOOKUP(H8,データシート!$D$2:$E$5,2))","v":""},"",0,"",0]
[6,"ごろう",null,null,null,null,null,null,null,"","","","00:00","",{"$f":"IF(H9=\"\",\"\",VLOOKUP(H9,データシート!$D$2:$E$5,2))","v":""},"",0,"",0]
[7,"さぶろう",null,null,null,null,null,null,null,"","","","00:00","",{"$f":"IF(H10=\"\",\"\",VLOOKUP(H10,データシート!$D$2:$E$5,2))","v":""},"",0,"",0]
[8,"きみとし",null,null,null,null,null,null,null,"","","","00:00","",{"$f":"IF(H11=\"\",\"\",VLOOKUP(H11,データシート!$D$2:$E$5,2))","v":""},"",0,"",0]
[9,"ぶんた",null,null,null,null,null,null,null,"","","","00:00","",{"$f":"IF(H12=\"\",\"\",VLOOKUP(H12,データシート!$D$2:$E$5,2))","v":""},"",0,"",0]
[10,"あきよし",null,null,null,null,null,null,null,"","","","00:00","",{"$f":"IF(H13=\"\",\"\",VLOOKUP(H13,データシート!$D$2:$E$5,2))","v":""},"",0,"",0]
[11,"つむぐ",null,null,null,null,null,null,null,"","","","00:00","",{"$f":"IF(H14=\"\",\"\",VLOOKUP(H14,データシート!$D$2:$E$5,2))","v":""},"",0,"",0]
[12,"れお",null,null,null,null,null,null,null,"","","","00:00","",{"$f":"IF(H15=\"\",\"\",VLOOKUP(H15,データシート!$D$2:$E$5,2))","v":""},"",0,"",0]
[13,"ひびき",null,null,null,null,null,null,null,"","","","00:00","",{"$f":"IF(H16=\"\",\"\",VLOOKUP(H16,データシート!$D$2:$E$5,2))","v":""},"",0,"",0]
[14,"ゆうま",null,null,null,null,null,null,null,"","","","00:00","",{"$f":"IF(H17=\"\",\"\",VLOOKUP(H17,データシート!$D$2:$E$5,2))","v":""},"",0,"",0]
[15,"こうき",null,null,null,null,null,null,null,"","","","00:00","",{"$f":"IF(H18=\"\",\"\",VLOOKUP(H18,データシート!$D$2:$E$5,2))","v":""},"",0,"",0]
[16,"ゆめ",null,null,null,null,null,null,null,"","","","00:00","",{"$f":"IF(H19=\"\",\"\",VLOOKUP(H19,データシート!$D$2:$E$5,2))","v":""},"",0,"",0]
[17,"こたろう",null,null,null,null,null,null,null,"","","","00:00","",{"$f":"IF(H20=\"\",\"\",VLOOKUP(H20,データシート!$D$2:$E$5,2))","v":""},"",0,"",0]
[18,"ゆうしょう",null,null,null,null,null,null,null,"","","","00:00","",{"$f":"IF(H21=\"\",\"\",VLOOKUP(H21,データシート!$D$2:$E$5,2))","v":""},"",0,"",0]
[19,"けんと",null,null,null,null,null,null,null,"","","","00:00","",{"$f":"IF(H22=\"\",\"\",VLOOKUP(H22,データシート!$D$2:$E$5,2))","v":""},"",0,"",0]
[20,"あやか",null,null,null,null,null,null,null,"","","","00:00","",{"$f":"IF(H23=\"\",\"\",VLOOKUP(H23,データシート!$D$2:$E$5,2))","v":""},"",0,"",0]
[21,"さんし",null,null,null,null,null,null,null,"","","","00:00","",{"$f":"IF(H24=\"\",\"\",VLOOKUP(H24,データシート!$D$2:$E$5,2))","v":""},"",0,"",0]
[22,null,null,null,null,null,null,null,null,"","","","00:00","",{"$f":"IF(H25=\"\",\"\",VLOOKUP(H25,データシート!$D$2:$E$5,2))","v":""},"",0,"",0]
[23,null,null,null,null,null,null,null,null,"","","","00:00","",{"$f":"IF(H26=\"\",\"\",VLOOKUP(H26,データシート!$D$2:$E$5,2))","v":""},"",0,"",0]
[24,null,null,null,null,null,null,null,null,"","","","00:00","",{"$f":"IF(H27=\"\",\"\",VLOOKUP(H27,データシート!$D$2:$E$5,2))","v":""},"",0,"",0]
[25,null,null,null,null,null,null,null,null,"","","","00:00","",{"$f":"IF(H28=\"\",\"\",VLOOKUP(H28,データシート!$D$2:$E$5,2))","v":""},"",0,"",0]
[26,null,null,null,null,null,null,null,null,"","","","00:00","",{"$f":"IF(H29=\"\",\"\",VLOOKUP(H29,データシート!$D$2:$E$5,2))","v":""},"",0,"",0]
[27,null,null,null,null,null,null,null,null,"","","","00:00","",{"$f":"IF(H30=\"\",\"\",VLOOKUP(H30,データシート!$D$2:$E$5,2))","v":""},"",0,"",0]
[28,null,null,null,null,null,null,null,null,"","","","00:00","",{"$f":"IF(H31=\"\",\"\",VLOOKUP(H31,データシート!$D$2:$E$5,2))","v":""},"",0,"",0]
[29,null,null,null,null,null,null,null,null,"","","","00:00","",{"$f":"IF(H32=\"\",\"\",VLOOKUP(H32,データシート!$D$2:$E$5,2))","v":""},"",0,"",0]
[30,null,null,null,null,null,null,null,null,"","","","00:00","",{"$f":"IF(H33=\"\",\"\",VLOOKUP(H33,データシート!$D$2:$E$5,2))","v":""},"",0,"",0]
[]
[null,"勤務者数","総労働時間","総賃金"]
[null,{"$f":"COUNTA(C4:C33)","v":0},{"$f":"SUM(N4:N33)","v":"00:00:00"},{"$f":"SUM(R4:R33)","v":0}]

{"sheet":"原本","index":32,"n_rows":36,"n_cols":19,"rows_kept":36,"cut":false,"hidden":false,"merged":[[1,8,2,8],[1,9,2,9],[1,0,2,0],[1,1,2,1],[1,2,1,3],[1,4,1,5],[1,7,2,7]]}
[null,"2021-04-25"]
["番号","氏名","勤務開始",null,"勤務終了",null,"休憩時間","時給区分","加算額","賃金"]
[null,null,"時","分","時","分","分間",null,null,null,"開始時刻","終了時刻","休憩時間","労働時間","時給","労働賃金","加算額","賃金計","出勤"]
[1,"あきら",null,null,null,null,null,null,null,{"$f":"R4","v":""},{"$f":"IF(C4=\"\",\"\",C4&\":\"&D4)","v":""},{"$f":"IF(C4=\"\",\"\",E4&\":\"&F4)","v":""},{"$f":"IF(G4=\"\",\"00:00\",\"00:\"&G4)","v":"00:00"},{"$f":"IF(K4=\"\",\"\",L4-K4-M4)","v":""},{"$f":"IF(H4=\"\",\"\",VLOOKUP(H4,データシート!$D$2:$E$5,2))","v":""},{"$f":"IF(K4=\"\",\"\",N4*24*O4)","v":""},{"$f":"IF(I4=\"\",0,I4)","v":0},{"$f":"IF(K4=\"\",\"\",ROUNDUP(P4+Q4,0))","v":""},{"$f":"IF(C4=\"\",0,1)","v":0}]
[2,"こうじ",null,null,null,null,null,null,null,"",{"$f":"IF(C5=\"\",\"\",C5&\":\"&D5)","v":""},{"$f":"IF(C5=\"\",\"\",E5&\":\"&F5)","v":""},{"$f":"IF(G5=\"\",\"00:00\",\"00:\"&G5)","v":"00:00"},{"$f":"IF(K5=\"\",\"\",L5-K5-M5)","v":""},{"$f":"IF(H5=\"\",\"\",VLOOKUP(H5,データシート!$D$2:$E$5,2))","v":""},{"$f":"IF(K5=\"\",\"\",N5*24*O5)","v":""},{"$f":"IF(I5=\"\",0,I5)","v":0},{"$f":"IF(K5=\"\",\"\",ROUNDUP(P5+Q5,0))","v":""},{"$f":"IF(C5=\"\",0,1)","v":0}]
[3,"ひろかず",null,null,null,null,null,null,null,"","","","00:00","",{"$f":"IF(H6=\"\",\"\",VLOOKUP(H6,データシート!$D$2:$E$5,2))","v":""},"",0,"",0]
[4,"さやか",null,null,null,null,null,null,null,"","","","00:00","",{"$f":"IF(H7=\"\",\"\",VLOOKUP(H7,データシート!$D$2:$E$5,2))","v":""},"",0,"",0]
[5,"れんたろう",null,null,null,null,null,null,null,"","","","00:00","",{"$f":"IF(H8=\"\",\"\",VLOOKUP(H8,データシート!$D$2:$E$5,2))","v":""},"",0,"",0]
[6,"ごろう",null,null,null,null,null,null,null,"","","","00:00","",{"$f":"IF(H9=\"\",\"\",VLOOKUP(H9,データシート!$D$2:$E$5,2))","v":""},"",0,"",0]
[7,"さぶろう",null,null,null,null,null,null,null,"","","","00:00","",{"$f":"IF(H10=\"\",\"\",VLOOKUP(H10,データシート!$D$2:$E$5,2))","v":""},"",0,"",0]
[8,"きみとし",null,null,null,null,null,null,null,"","","","00:00","",{"$f":"IF(H11=\"\",\"\",VLOOKUP(H11,データシート!$D$2:$E$5,2))","v":""},"",0,"",0]
[9,"ぶんた",null,null,null,null,null,null,null,"","","","00:00","",{"$f":"IF(H12=\"\",\"\",VLOOKUP(H12,データシート!$D$2:$E$5,2))","v":""},"",0,"",0]
[10,"あきよし",null,null,null,null,null,null,null,"","","","00:00","",{"$f":"IF(H13=\"\",\"\",VLOOKUP(H13,データシート!$D$2:$E$5,2))","v":""},"",0,"",0]
[11,"つむぐ",null,null,null,null,null,null,null,"","","","00:00","",{"$f":"IF(H14=\"\",\"\",VLOOKUP(H14,データシート!$D$2:$E$5,2))","v":""},"",0,"",0]
[12,"れお",null,null,null,null,null,null,null,"","","","00:00","",{"$f":"IF(H15=\"\",\"\",VLOOKUP(H15,データシート!$D$2:$E$5,2))","v":""},"",0,"",0]
[13,"ひびき",null,null,null,null,null,null,null,"","","","00:00","",{"$f":"IF(H16=\"\",\"\",VLOOKUP(H16,データシート!$D$2:$E$5,2))","v":""},"",0,"",0]
[14,"ゆうま",null,null,null,null,null,null,null,"","","","00:00","",{"$f":"IF(H17=\"\",\"\",VLOOKUP(H17,データシート!$D$2:$E$5,2))","v":""},"",0,"",0]
[15,"こうき",null,null,null,null,null,null,null,"","","","00:00","",{"$f":"IF(H18=\"\",\"\",VLOOKUP(H18,データシート!$D$2:$E$5,2))","v":""},"",0,"",0]
[16,"ゆめ",null,null,null,null,null,null,null,"","","","00:00","",{"$f":"IF(H19=\"\",\"\",VLOOKUP(H19,データシート!$D$2:$E$5,2))","v":""},"",0,"",0]
[17,"こたろう",null,null,null,null,null,null,null,{"$f":"R20","v":""},"","","00:00","",{"$f":"IF(H20=\"\",\"\",VLOOKUP(H20,データシート!$D$2:$E$5,2))","v":""},"",0,"",0]
[18,"ゆうしょう",null,null,null,null,null,null,null,"","","","00:00","",{"$f":"IF(H21=\"\",\"\",VLOOKUP(H21,データシート!$D$2:$E$5,2))","v":""},"",0,"",0]
[19,"けんと",null,null,null,null,null,null,null,"","","","00:00","",{"$f":"IF(H22=\"\",\"\",VLOOKUP(H22,データシート!$D$2:$E$5,2))","v":""},"",0,"",0]
[20,"あやか",null,null,null,null,null,null,null,"","","","00:00","",{"$f":"IF(H23=\"\",\"\",VLOOKUP(H23,データシート!$D$2:$E$5,2))","v":""},"",0,"",0]
[21,"さんし",null,null,null,null,null,null,null,"","","","00:00","",{"$f":"IF(H24=\"\",\"\",VLOOKUP(H24,データシート!$D$2:$E$5,2))","v":""},"",0,"",0]
[22,null,null,null,null,null,null,null,null,"","","","00:00","",{"$f":"IF(H25=\"\",\"\",VLOOKUP(H25,データシート!$D$2:$E$5,2))","v":""},"",0,"",0]
[23,null,null,null,null,null,null,null,null,"","","","00:00","",{"$f":"IF(H26=\"\",\"\",VLOOKUP(H26,データシート!$D$2:$E$5,2))","v":""},"",0,"",0]
[24,null,null,null,null,null,null,null,null,"","","","00:00","",{"$f":"IF(H27=\"\",\"\",VLOOKUP(H27,データシート!$D$2:$E$5,2))","v":""},"",0,"",0]
[25,null,null,null,null,null,null,null,null,"","","","00:00","",{"$f":"IF(H28=\"\",\"\",VLOOKUP(H28,データシート!$D$2:$E$5,2))","v":""},"",0,"",0]
[26,null,null,null,null,null,null,null,null,"","","","00:00","",{"$f":"IF(H29=\"\",\"\",VLOOKUP(H29,データシート!$D$2:$E$5,2))","v":""},"",0,"",0]
[27,null,null,null,null,null,null,null,null,"","","","00:00","",{"$f":"IF(H30=\"\",\"\",VLOOKUP(H30,データシート!$D$2:$E$5,2))","v":""},"",0,"",0]
[28,null,null,null,null,null,null,null,null,"","","","00:00","",{"$f":"IF(H31=\"\",\"\",VLOOKUP(H31,データシート!$D$2:$E$5,2))","v":""},"",0,"",0]
[29,null,null,null,null,null,null,null,null,"","","","00:00","",{"$f":"IF(H32=\"\",\"\",VLOOKUP(H32,データシート!$D$2:$E$5,2))","v":""},"",0,"",0]
[30,null,null,null,null,null,null,null,null,"","","","00:00","",{"$f":"IF(H33=\"\",\"\",VLOOKUP(H33,データシート!$D$2:$E$5,2))","v":""},"",0,"",0]
[]
[null,"勤務者数","総労働時間","総賃金"]
[null,{"$f":"COUNTA(C4:C33)","v":0},{"$f":"SUM(N4:N33)","v":"00:00:00"},{"$f":"SUM(R4:R33)","v":0}]

{"sheet":"データシート","index":33,"n_rows":25,"n_cols":5,"rows_kept":25,"cut":false,"hidden":false,"merged":[]}
["時","分","休憩","時給区分"]
["00","00","00","A",900]
["01","15",30,"B",910]
["02","30",60,"C",920]
["03","45",null,"D",950]
["04"]
["05"]
["06"]
["07"]
["08"]
["09"]
["10"]
["11"]
["12"]
["13"]
["14"]
["15"]
["16"]
["17"]
["18"]
["19"]
["20"]
["21"]
["22"]
["23"]