{"text_format":"1","workbook":"xlsx","n_sheets":3,"sheets":["問題","解答","worksheet"],"not_rendered":{"charts":0,"images":1,"macros":1,"external_links":0,"defined_names":1,"comments":0,"pivot_tables":0},"unopened":[],"bounds":{"document_bytes":16777216,"sheet_cells":100000,"rows_first":2000,"rows_last":500,"rows_between":2000,"halvings":0,"cell_chars":16384,"cell_head_chars":4096},"cells_cut":0,"cells_raw":0,"read":"whole","date_system":"1900"}

{"sheet":"問題","index":0,"n_rows":12,"n_cols":11,"rows_kept":12,"cut":false,"hidden":false,"merged":[]}
["　　　月　　　日"]
[null,null,null,"名前（　　　　　　　　　　）"]
[1,null,"4＋2－6",0,11,null,"9－1×9",0]
[2,null,"（63÷9）×1",7,12,null,"(4＋5)×3",27]
[3,null,"2×4×7",56,13,null,"9＋3－11",1,null,null,"加減乗除カッコ限定なし"]
[4,null,"28÷(5－1)",7,14,null,"(7－3)×7",28]
[5,null,"10－5÷5",9,15,null,"10－(7－1)",4]
[6,null,"9－8－1",0,16,null,"(11＋5)÷4",4]
[7,null,"(3＋5)－8",0,17,null,"4÷2×7",14]
[8,null,"24÷6＋4",8,18,null,"(11－5)÷2",3]
[9,null,"(5－3)－2",0,19,null,"7－(5－3)",5]
[10,null,"(4－1)÷1",3,20,null,"(9－6)×8",24]

{"sheet":"解答","index":1,"n_rows":10,"n_cols":8,"rows_kept":10,"cut":false,"hidden":false,"merged":[]}
[{"$f":"問題!A3","v":1},null,{"$f":"問題!C3","v":"4＋2－6"},{"$f":"問題!D3","v":0},{"$f":"問題!E3","v":11},null,{"$f":"問題!G3","v":"9－1×9"},{"$f":"問題!H3","v":0}]
[{"$f":"問題!A4","v":2},null,{"$f":"問題!C4","v":"（63÷9）×1"},{"$f":"問題!D4","v":7},{"$f":"問題!E4","v":12},null,{"$f":"問題!G4","v":"(4＋5)×3"},{"$f":"問題!H4","v":27}]
[{"$f":"問題!A5","v":3},null,{"$f":"問題!C5","v":"2×4×7"},{"$f":"問題!D5","v":56},{"$f":"問題!E5","v":13},null,{"$f":"問題!G5","v":"9＋3－11"},{"$f":"問題!H5","v":1}]
[{"$f":"問題!A6","v":4},null,{"$f":"問題!C6","v":"28÷(5－1)"},{"$f":"問題!D6","v":7},{"$f":"問題!E6","v":14},null,{"$f":"問題!G6","v":"(7－3)×7"},{"$f":"問題!H6","v":28}]
[{"$f":"問題!A7","v":5},null,{"$f":"問題!C7","v":"10－5÷5"},{"$f":"問題!D7","v":9},{"$f":"問題!E7","v":15},null,{"$f":"問題!G7","v":"10－(7－1)"},{"$f":"問題!H7","v":4}]
[{"$f":"問題!A8","v":6},null,{"$f":"問題!C8","v":"9－8－1"},{"$f":"問題!D8","v":0},{"$f":"問題!E8","v":16},null,{"$f":"問題!G8","v":"(11＋5)÷4"},{"$f":"問題!H8","v":4}]
[{"$f":"問題!A9","v":7},null,{"$f":"問題!C9","v":"(3＋5)－8"},{"$f":"問題!D9","v":0},{"$f":"問題!E9","v":17},null,{"$f":"問題!G9","v":"4÷2×7"},{"$f":"問題!H9","v":14}]
[{"$f":"問題!A10","v":8},null,{"$f":"問題!C10","v":"24÷6＋4"},{"$f":"問題!D10","v":8},{"$f":"問題!E10","v":18},null,{"$f":"問題!G10","v":"(11－5)÷2"},{"$f":"問題!H10","v":3}]
[{"$f":"問題!A11","v":9},null,{"$f":"問題!C11","v":"(5－3)－2"},{"$f":"問題!D11","v":0},{"$f":"問題!E11","v":19},null,{"$f":"問題!G11","v":"7－(5－3)"},{"$f":"問題!H11","v":5}]
[{"$f":"問題!A12","v":10},null,{"$f":"問題!C12","v":"(4－1)÷1"},{"$f":"問題!D12","v":3},{"$f":"問題!E12","v":20},null,{"$f":"問題!G12","v":"(9－6)×8"},{"$f":"問題!H12","v":24}]

{"sheet":"worksheet","index":2,"n_rows":20,"n_cols":51,"rows_kept":20,"cut":false,"hidden":false,"merged":[]}
["()あり","加減",{"$f":"COUNTA(D1:AY1)","v":8},2,3,5,6,14,15,17,18]
[null,"乗法",18,2,3,5,6,8,9,14,15,17,18,20,21,26,27,29,30,32,33]
[null,"無制限",31,2,3,5,6,8,9,11,12,14,15,17,18,20,21,23,24,26,27,29,30,32,33,35,36,38,39,41,42,45,47,48]
["()なし","加減",{"$f":"COUNTA(D4:AY4)","v":4},1,4,13,16]
[null,"乗法",9,1,4,7,13,16,19,25,28,31]
[null,"無制限",{"$f":"COUNTA(D6:BA6)","v":17},1,4,7,10,13,16,19,22,25,28,31,34,37,40,43,44,46]
["（）無制限","加減",12,1,2,3,4,5,6,13,14,15,16,18,18]
[null,"乗法",{"$f":"COUNTA(D8:BB8)","v":27},1,2,3,4,5,6,7,8,9,13,14,15,16,17,18,19,20,21,25,26,27,28,29,30,31,32,33]
[null,"無制限",48,1,2,3,4,5,6,7,8,9,10,11,12,13,14,15,16,17,18,19,20,21,22,23,24,25,26,27,28,29,30,31,32,33,34,35,36,37,38,39,40,41,42,43,44,45,46,47,48]
[]
[false,false,true]
[false,false,true]
[]
[{"$f":"IF(A11=TRUE,1,0)","v":0},{"$f":"IF(B11=TRUE,2,0)","v":0},{"$f":"IF(C11=TRUE,3,0)","v":3}]
[{"$f":"IF(A12=TRUE,1,0)","v":0},{"$f":"IF(B12=TRUE,2,0)","v":0},{"$f":"IF(C12=TRUE,3,0)","v":3}]
[]
[{"$f":"(A14+B14+C14)+(A15+B15+C15)*3-3","v":9}]
[]
[{"$f":"IF(A14=1,\"加減\",\"\")","v":""},{"$f":"IF(B14=2,\"加減乗\",\"\")","v":""},{"$f":"IF(C14=3,\"加減乗除\",\"\")","v":"加減乗除"},{"$f":"A19&B19&C19","v":"加減乗除"}]
[{"$f":"IF(A15=1,\"カッコあり\",\"\")","v":""},{"$f":"IF(B15=2,\"カッコなし\",\"\")","v":""},{"$f":"IF(C15=3,\"カッコ限定なし\",\"\")","v":"カッコ限定なし"},{"$f":"A20&B20&C20","v":"カッコ限定なし"}]